BEGIN:VCALENDAR
VERSION:2.0
PRODID:-//LA Real Estate Marketing - ECPv6.15.20//NONSGML v1.0//EN
CALSCALE:GREGORIAN
METHOD:PUBLISH
X-WR-CALNAME:LA Real Estate Marketing
X-ORIGINAL-URL:https://larealestatemarketing.com
X-WR-CALDESC:Events for LA Real Estate Marketing
REFRESH-INTERVAL;VALUE=DURATION:PT1H
X-Robots-Tag:noindex
X-PUBLISHED-TTL:PT1H
BEGIN:VTIMEZONE
TZID:UTC
BEGIN:STANDARD
TZOFFSETFROM:+0000
TZOFFSETTO:+0000
TZNAME:UTC
DTSTART:19690101T000000
END:STANDARD
END:VTIMEZONE
BEGIN:VEVENT
DTSTART;TZID=UTC:20260423T135833
DTEND;TZID=UTC:20260423T135833
DTSTAMP:20260423T135833
CREATED:20241106T184024Z
LAST-MODIFIED:20241106T184024Z
UID:10000155-0-0@larealestatemarketing.com
SUMMARY:2024 NAWRB Summit: Transformational Solutions
DESCRIPTION:Be part of the 2024 NAWRB Summit: Transformational Solutions on November 22\, 2024\, at the Long Beach Airport Marriott. This event gathers women in housing and real estate to discuss the impacts of climate\, technology\, gender\, infrastructure\, and sustainability on the industry. Don’t miss out—use coupon code SHEisaLeader for a $200 discount on your ticket!
URL:https://larealestatemarketing.com/event/2024-nawrb-summit-transformational-solutions/
CATEGORIES:Conference
ATTACH;FMTTYPE=image/jpeg:https://larealestatemarketing.com/wp-content/uploads/2024/07/LAREM_event_calendar_stock_v17.jpg
END:VEVENT
BEGIN:VEVENT
DTSTART;TZID=UTC:20260423T135833
DTEND;TZID=UTC:20260423T135833
DTSTAMP:20260423T135833
CREATED:20240909T202058Z
LAST-MODIFIED:20240909T202058Z
UID:10000106-0-0@larealestatemarketing.com
SUMMARY:Southern California Healthcare Real Estate Summit
DESCRIPTION:The Southern California Healthcare Real Estate Summit promises a comprehensive look at the region’s healthcare real estate sector. With a focus on facilities of the future and hospital upgrades\, the summit will address pressing issues such as prioritizing patient care and investing in the right locations across Los Angeles\, Orange County\, and San Diego. Key topics include innovative financing strategies\, adapting to new legislation\, and the shift towards outpatient care settings. Join top industry professionals for discussions on how to navigate and capitalize on the evolving healthcare real estate landscape\, and network with leaders in healthcare systems\, development\, investment\, and more.
URL:https://larealestatemarketing.com/event/southern-california-healthcare-real-estate-summit-2/
LOCATION:Hilton Los Angeles Culver City\, 6161 West Centinela Ave\, Culver City\, CA\, 90230\, USA
CATEGORIES:Conference
ATTACH;FMTTYPE=image/jpeg:https://larealestatemarketing.com/wp-content/uploads/2024/07/LAREM_event_calendar_stock_v26.jpg
END:VEVENT
BEGIN:VEVENT
DTSTART;TZID=UTC:20260423T135833
DTEND;TZID=UTC:20260423T135833
DTSTAMP:20260423T135833
CREATED:20240801T165208Z
LAST-MODIFIED:20240801T165208Z
UID:10000067-0-0@larealestatemarketing.com
SUMMARY:IMN: CRE Asset Managers’ Forum
DESCRIPTION:The CRE Asset Managers’ Forum offers commercial real estate asset managers the chance to engage in industry-specific discussions and network with peers in similar roles.
URL:https://larealestatemarketing.com/event/imn-cre-asset-managers-forum/
CATEGORIES:Conference
ATTACH;FMTTYPE=image/jpeg:https://larealestatemarketing.com/wp-content/uploads/2024/07/LAREM_event_calendar_stock_v9.jpg
END:VEVENT
BEGIN:VEVENT
DTSTART;TZID=UTC:20260423T135833
DTEND;TZID=UTC:20260423T135833
DTSTAMP:20260423T135833
CREATED:20240801T165153Z
LAST-MODIFIED:20240801T165153Z
UID:10000063-0-0@larealestatemarketing.com
SUMMARY:MBA Elevate 2024
DESCRIPTION:MBA Elevate 2024\, held at the Colorado Convention Center\, is the largest annual gathering of real estate finance professionals. The convention offers extensive networking\, educational sessions\, and an A-list speaker lineup.
URL:https://larealestatemarketing.com/event/mba-elevate-2024-2/
CATEGORIES:Conference
ATTACH;FMTTYPE=image/jpeg:https://larealestatemarketing.com/wp-content/uploads/2024/07/LAREM_event_calendar_stock_v4.jpg
END:VEVENT
BEGIN:VEVENT
DTSTART;TZID=UTC:20260423T135833
DTEND;TZID=UTC:20260423T135833
DTSTAMP:20260423T135833
CREATED:20240801T165150Z
LAST-MODIFIED:20240801T165150Z
UID:10000061-0-0@larealestatemarketing.com
SUMMARY:Connect Investment & Finance 2024
DESCRIPTION:This event features expert panelists discussing market trends and forecasts as 2024 transitions into 2025. It provides insights into investment and finance strategies in the real estate sector.
URL:https://larealestatemarketing.com/event/connect-investment-finance-2024-2/
LOCATION:Luxe Sunset Blvd Hotel\, 11461 W Sunset Blvd\, Los Angeles\, CA\, 90049\, USA
CATEGORIES:Conference
ATTACH;FMTTYPE=image/jpeg:https://larealestatemarketing.com/wp-content/uploads/2024/07/LAREM_event_calendar_stock_v2.jpg
END:VEVENT
BEGIN:VEVENT
DTSTART;TZID=UTC:20260423T135833
DTEND;TZID=UTC:20260423T135833
DTSTAMP:20260423T135833
CREATED:20240801T165147Z
LAST-MODIFIED:20240801T165147Z
UID:10000059-0-0@larealestatemarketing.com
SUMMARY:SIOR'S Fall 2024 Event
DESCRIPTION:SIOR’s Fall Event in Los Angeles will gather top commercial real estate brokers. Attendees will have the opportunity to network\, share insights\, and discuss strategies for success in the CRE industry.
URL:https://larealestatemarketing.com/event/siors-fall-2024-event-2/
LOCATION:Lowes Hollywood Hotel\, 1755 Highland Ave\, Los Angeles\, 90028\, USA
CATEGORIES:Conference
ATTACH;FMTTYPE=image/jpeg:https://larealestatemarketing.com/wp-content/uploads/2024/07/LAREM_event_calendar_stock_v26.jpg
END:VEVENT
BEGIN:VEVENT
DTSTART;TZID=UTC:20260423T135833
DTEND;TZID=UTC:20260423T135833
DTSTAMP:20260423T135833
CREATED:20240801T165137Z
LAST-MODIFIED:20240801T165137Z
UID:10000056-0-0@larealestatemarketing.com
SUMMARY:I.CON Cold Storage
DESCRIPTION:The I.CON Cold Storage conference is focused on the cold storage sector within industrial real estate. It will provide insights from leading professionals on the challenges and opportunities in this specialized field.
URL:https://larealestatemarketing.com/event/i-con-cold-storage-2/
CATEGORIES:Conference
ATTACH;FMTTYPE=image/jpeg:https://larealestatemarketing.com/wp-content/uploads/2024/07/LAREM_event_calendar_stock_v23.jpg
END:VEVENT
BEGIN:VEVENT
DTSTART;TZID=UTC:20260423T135833
DTEND;TZID=UTC:20260423T135833
DTSTAMP:20260423T135833
CREATED:20240801T165134Z
LAST-MODIFIED:20240801T165134Z
UID:10000055-0-0@larealestatemarketing.com
SUMMARY:The Blazing Wildfire Threat to Housing
DESCRIPTION:This event will examine the growing threat of wildfires to housing markets. Experts will assess the risks and provide insights into how increased wildfire exposure affects the industry and potential strategies for mitigation.
URL:https://larealestatemarketing.com/event/the-blazing-wildfire-threat-to-housing-2/
LOCATION:Newport Beach Civic Center\, 100 Civic Center DR\, Newport Beach\, CA\, 92660\, USA
CATEGORIES:Conference
ATTACH;FMTTYPE=image/jpeg:https://larealestatemarketing.com/wp-content/uploads/2024/07/LAREM_event_calendar_stock_v22.jpg
END:VEVENT
BEGIN:VEVENT
DTSTART;TZID=UTC:20260423T135833
DTEND;TZID=UTC:20260423T135833
DTSTAMP:20260423T135833
CREATED:20240801T165120Z
LAST-MODIFIED:20240909T213602Z
UID:10000051-0-0@larealestatemarketing.com
SUMMARY:LA Real Estate Forum
DESCRIPTION:
URL:https://larealestatemarketing.com/event/la-real-estate-forum-2/
CATEGORIES:Conference
ATTACH;FMTTYPE=image/jpeg:https://larealestatemarketing.com/wp-content/uploads/2024/07/LAREM_event_calendar_stock_v18.jpg
END:VEVENT
BEGIN:VEVENT
DTSTART;TZID=UTC:20260423T135833
DTEND;TZID=UTC:20260423T135833
DTSTAMP:20260423T135833
CREATED:20240801T165041Z
LAST-MODIFIED:20240801T165041Z
UID:10000038-0-0@larealestatemarketing.com
SUMMARY:The MLS Summit 2024
DESCRIPTION:Scheduled for August 9th\, 2024\, at the Skirball Cultural Center\, The MLS Summit offers a full day of innovation and networking. The event will focus on the latest trends and technologies in MLS systems\, providing valuable learning and networking opportunities for attendees.
URL:https://larealestatemarketing.com/event/the-mls-summit-2024-2/
LOCATION:Skirball Cultural Center\, 2701 North Sepulveda Boulevard\, Los Angeles\, CA\, 90049\, USA
CATEGORIES:Conference
ATTACH;FMTTYPE=image/jpeg:https://larealestatemarketing.com/wp-content/uploads/2024/07/LAREM_event_calendar_stock_v5.jpg
ORGANIZER;CN="LAAR":MAILTO:info@laar.org
END:VEVENT
BEGIN:VEVENT
DTSTART;TZID=UTC:20260423T135833
DTEND;TZID=UTC:20260423T135833
DTSTAMP:20260423T135833
CREATED:20240801T165034Z
LAST-MODIFIED:20240801T165034Z
UID:10000036-0-0@larealestatemarketing.com
SUMMARY:AREAA GLA Super Summit
DESCRIPTION:On August 6th\, 2024\, the AREAA GLA Super Summit at SoFi Stadium offers a premier platform for real estate professionals. GLAR members can attend for free using the code GLAFriends\, gaining access to valuable networking and learning opportunities.
URL:https://larealestatemarketing.com/event/areaa-gla-super-summit-2/
LOCATION:SoFi Stadium\, 1001 Stadium Dr.\, Inglewood\, CA\, 90301\, USA
CATEGORIES:Conference
ATTACH;FMTTYPE=image/jpeg:https://larealestatemarketing.com/wp-content/uploads/2024/07/LAREM_event_calendar_stock_v3.jpg
ORGANIZER;CN="LAAR":MAILTO:info@laar.org
END:VEVENT
BEGIN:VEVENT
DTSTART;TZID=UTC:20240116T080000
DTEND;TZID=UTC:20240116T100000
DTSTAMP:20260423T135833
CREATED:20241126T164605Z
LAST-MODIFIED:20241126T164605Z
UID:10000179-1705392000-1705399200@larealestatemarketing.com
SUMMARY:Los Angeles Commercial Real Estate CEO Outlook
DESCRIPTION:Attend the Bisnow Los Angeles CRE CEO Outlook on January 16\, 2025\, to hear from top industry leaders like Jeff Worthe\, Howard Schwimmer\, and Brian Saenger. This event offers in-depth discussions on market insights\, growth areas\, economic impacts\, and predictions for 2025 and beyond. Network with key decision-makers in commercial real estate and stay ahead of emerging trends.
URL:https://larealestatemarketing.com/event/los-angeles-commercial-real-estate-ceo-outlook/
CATEGORIES:Conference
ATTACH;FMTTYPE=image/jpeg:https://larealestatemarketing.com/wp-content/uploads/2024/07/LAREM_event_calendar_stock_v13.jpg
END:VEVENT
BEGIN:VEVENT
DTSTART;TZID=UTC:20240806T090000
DTEND;TZID=UTC:20240806T170000
DTSTAMP:20260423T135833
CREATED:20240731T201852Z
LAST-MODIFIED:20240819T214205Z
UID:10000004-1722934800-1722963600@larealestatemarketing.com
SUMMARY:AREAA GLA Super Summit
DESCRIPTION:Join AREAA on August 6th\, 2024\, at the iconic SoFi Stadium. GLAR members are invited to attend for FREE with code: GLAFriends (case sensitive) This premier event is designed to deliver unparalleled value to a diverse array of real estate professionals.
URL:https://larealestatemarketing.com/event/areaa-gla-super-summit/
LOCATION:SoFi Stadium\, 1001 Stadium Dr.\, Inglewood\, CA\, 90301\, USA
CATEGORIES:Conference
ATTACH;FMTTYPE=image/jpeg:https://larealestatemarketing.com/wp-content/uploads/2024/07/LAREM_event_calendar_stock_v3.jpg
ORGANIZER;CN="LAAR":MAILTO:info@laar.org
END:VEVENT
BEGIN:VEVENT
DTSTART;TZID=UTC:20240809T080000
DTEND;TZID=UTC:20240809T143000
DTSTAMP:20260423T135833
CREATED:20240731T201854Z
LAST-MODIFIED:20240819T214207Z
UID:10000006-1723190400-1723213800@larealestatemarketing.com
SUMMARY:The MLS Summit 2024
DESCRIPTION:Join us for a day filled with innovation\, networking\, and learning. This in-person event will take place at the beautiful Skirball Cultural Center on Fri Aug 09 2024 starting at 08:00 AM.
URL:https://larealestatemarketing.com/event/the-mls-summit-2024/
LOCATION:Skirball Cultural Center\, 2701 North Sepulveda Boulevard\, Los Angeles\, CA\, 90049\, USA
CATEGORIES:Conference
ATTACH;FMTTYPE=image/jpeg:https://larealestatemarketing.com/wp-content/uploads/2024/07/LAREM_event_calendar_stock_v5.jpg
ORGANIZER;CN="LAAR":MAILTO:info@laar.org
END:VEVENT
BEGIN:VEVENT
DTSTART;TZID=UTC:20240814T080000
DTEND;TZID=UTC:20240814T100000
DTSTAMP:20260423T135833
CREATED:20240812T123353Z
LAST-MODIFIED:20240812T123530Z
UID:10000093-1723622400-1723629600@larealestatemarketing.com
SUMMARY:LABJ Real Estate Trends
DESCRIPTION:Mid-year panel discussions hosted by Los Angeles Business Journal
URL:https://larealestatemarketing.com/event/labj-real-estate-trends/
CATEGORIES:Conference
ATTACH;FMTTYPE=image/jpeg:https://larealestatemarketing.com/wp-content/uploads/2024/07/LAREM_event_calendar_stock_v2.jpg
END:VEVENT
BEGIN:VEVENT
DTSTART;TZID=UTC:20240820T080000
DTEND;TZID=UTC:20240820T140000
DTSTAMP:20260423T135833
CREATED:20240812T123230Z
LAST-MODIFIED:20240819T151156Z
UID:10000084-1724140800-1724162400@larealestatemarketing.com
SUMMARY:Prefabrication\, Modular & Mass Timber Conference
DESCRIPTION:The Los Angeles Prefabrication\, Modular &amp; Mass Timber Conference\, held on August 20\, 2024\, at the Hilton Los Angeles Culver City\, is a premier event focused on shaping the future of construction. This conference will cover cutting-edge project methods and materials\, including prefabrication\, modular construction\, and mass timber. Attendees will hear from top industry experts about technological advancements\, AI implementation\, and sustainable materials. Join leading professionals to discuss efficiencies\, costs\, and the impact of these innovative practices on the construction landscape. Secure your spot to network and learn about the latest trends in the industry.
URL:https://larealestatemarketing.com/event/prefabrication-modular-mass-timber-conference/
CATEGORIES:Conference
ATTACH;FMTTYPE=image/jpeg:https://larealestatemarketing.com/wp-content/uploads/2024/08/Bundled-Services-2000-x-1250.jpg
END:VEVENT
BEGIN:VEVENT
DTSTART;TZID=UTC:20240905T100000
DTEND;TZID=UTC:20240905T170000
DTSTAMP:20260423T135833
CREATED:20240812T123202Z
LAST-MODIFIED:20240812T123202Z
UID:10000076-1725530400-1725555600@larealestatemarketing.com
SUMMARY:IMN: CRE Asset Managers’ Forum
DESCRIPTION:The CRE Asset Managers’ Forum offers commercial real estate asset managers the chance to engage in industry-specific discussions and network with peers in similar roles.
URL:https://larealestatemarketing.com/event/imn-cre-asset-managers-forum-2/
LOCATION:Waldorf Astoria Monarch Beach\, 1 Monarch Beach Resort N\, Dana Point\, CA\, 92629\, USA
CATEGORIES:Conference
ATTACH;FMTTYPE=image/jpeg:https://larealestatemarketing.com/wp-content/uploads/2024/07/LAREM_event_calendar_stock_v9.jpg
END:VEVENT
BEGIN:VEVENT
DTSTART;TZID=UTC:20240910T130000
DTEND;TZID=UTC:20240910T170000
DTSTAMP:20260423T135833
CREATED:20240731T201928Z
LAST-MODIFIED:20240909T220434Z
UID:10000017-1725973200-1725987600@larealestatemarketing.com
SUMMARY:Connect Orange County 2024
DESCRIPTION:Join us when the active brokers\, developers\, and investors discuss the local industry’s current trends and what’s next.
URL:https://larealestatemarketing.com/event/connect-orange-county-2024/
LOCATION:Hyatt Regency Irvine\, 17900 Jamboree Rd\, Irvine\, 92614\, USA
CATEGORIES:Conference
ATTACH;FMTTYPE=image/jpeg:https://larealestatemarketing.com/wp-content/uploads/2024/07/LAREM_event_calendar_stock_v1.jpg
END:VEVENT
BEGIN:VEVENT
DTSTART;TZID=UTC:20240911T090000
DTEND;TZID=UTC:20240911T170000
DTSTAMP:20260423T135833
CREATED:20240731T201928Z
LAST-MODIFIED:20240909T214448Z
UID:10000018-1726045200-1726074000@larealestatemarketing.com
SUMMARY:Connect Healthcare Real Estate 2024
DESCRIPTION:Sit-in with industry leading experts as they share insights and forecasts on todays CRE markets. This events panelists include:
URL:https://larealestatemarketing.com/event/connect-healthcare-real-estate-2024/
LOCATION:Hyatt Regency Irvine\, 17900 Jamboree Rd\, Irvine\, 92614\, USA
CATEGORIES:Conference
ATTACH;FMTTYPE=image/jpeg:https://larealestatemarketing.com/wp-content/uploads/2024/07/LAREM_event_calendar_stock_v2.jpg
END:VEVENT
BEGIN:VEVENT
DTSTART;TZID=UTC:20240912T100000
DTEND;TZID=UTC:20240912T180000
DTSTAMP:20260423T135833
CREATED:20240731T201929Z
LAST-MODIFIED:20240909T214721Z
UID:10000019-1726135200-1726164000@larealestatemarketing.com
SUMMARY:LA Real Estate Forum
DESCRIPTION:The Real Deal’s LA Real Estate Forum is back bigger and better than ever! Join us on September 12 at the Beverly Wilshire for a day of networking with 800 fellow real estate professionals.
URL:https://larealestatemarketing.com/event/la-real-estate-forum/
LOCATION:Beverly Wilshire\, 9500 Wilshire Blvd\, Beverly Hills\, CA\, 90210
CATEGORIES:Conference
ATTACH;FMTTYPE=image/jpeg:https://larealestatemarketing.com/wp-content/uploads/2024/07/LAREM_event_calendar_stock_v8.jpg
END:VEVENT
BEGIN:VEVENT
DTSTART;TZID=UTC:20240917T080000
DTEND;TZID=UTC:20240917T140000
DTSTAMP:20260423T135833
CREATED:20240812T123232Z
LAST-MODIFIED:20240909T215453Z
UID:10000085-1726560000-1726581600@larealestatemarketing.com
SUMMARY:Los Angeles Life Sciences Commercial Real Estate Summit
DESCRIPTION:The Los Angeles Life Sciences Commercial Real Estate Summit\, scheduled for September 17\, 2024\, at Hilton Los Angeles Culver City\, will address investment and growth opportunities within the life sciences sector. This summit will feature discussions on market conditions\, supply-demand dynamics\, and the impact of drug discovery on real estate innovation. Attendees will hear from leading experts on transforming facilities for scientific use and the role of LA’s research institutions in supporting growth. Network with professionals from biotech\, pharma\, and life sciences real estate to understand current trends and opportunities in the industry.
URL:https://larealestatemarketing.com/event/los-angeles-life-sciences-commercial-real-estate-summit/
CATEGORIES:Conference
ATTACH;FMTTYPE=image/jpeg:https://larealestatemarketing.com/wp-content/uploads/2024/07/LAREM_event_calendar_stock_v23.jpg
END:VEVENT
BEGIN:VEVENT
DTSTART;TZID=UTC:20240924T080000
DTEND;TZID=UTC:20240924T110000
DTSTAMP:20260423T135833
CREATED:20240812T123233Z
LAST-MODIFIED:20240909T221115Z
UID:10000086-1727164800-1727175600@larealestatemarketing.com
SUMMARY:Bisnow: Healthcare Industry Summit
DESCRIPTION:Healthcare industry leaders discuss the future of medical facilities\, hospital upgrades\, and patient care in Los Angeles\, Orange County\, and San Diego. This event will bring together industry leaders to explore innovative financing strategies\, hospital expansions\, and the impact of technology on healthcare construction and design. Attendees will gain insights into market trends\, investment opportunities\, and the evolving needs of healthcare real estate.
URL:https://larealestatemarketing.com/event/los-angeles-state-of-the-market-conference/
CATEGORIES:Conference
ATTACH;FMTTYPE=image/jpeg:https://larealestatemarketing.com/wp-content/uploads/2024/07/LAREM_event_calendar_stock_v3.jpg
END:VEVENT
BEGIN:VEVENT
DTSTART;TZID=UTC:20240924T100000
DTEND;TZID=UTC:20240925T170000
DTSTAMP:20260423T135833
CREATED:20240812T123343Z
LAST-MODIFIED:20240909T220012Z
UID:10000091-1727172000-1727283600@larealestatemarketing.com
SUMMARY:REimagine! Conference & Expo
DESCRIPTION:Join thousands of real estate professionals at the Long Beach Convention Center for the REimagine! Conference & Expo\, happening from September 24-26\, 2024. This event is packed with over 50 powerful sessions\, 250+ exhibitor booths\, and numerous networking opportunities\, designed to help you stay ahead in the industry. Attendees will benefit from a range of educational tracks\, including pre-conference sessions tailored to enhance business strategies. The event also features a can’t-miss after-hours event and chances to win big prizes. Whether you are an industry veteran or a new agent\, REimagine! offers invaluable insights from CEOs\, thought leaders\, and industry experts. The conference is free to attend\, making it a must for those looking to grow and connect within the real estate
URL:https://larealestatemarketing.com/event/reimagine/
CATEGORIES:Conference
ATTACH;FMTTYPE=image/jpeg:https://larealestatemarketing.com/wp-content/uploads/2024/07/LAREM_event_calendar_stock_v26.jpg
END:VEVENT
BEGIN:VEVENT
DTSTART;TZID=UTC:20240925T080000
DTEND;TZID=UTC:20240925T180000
DTSTAMP:20260423T135833
CREATED:20240812T123352Z
LAST-MODIFIED:20240812T123352Z
UID:10000092-1727251200-1727287200@larealestatemarketing.com
SUMMARY:26th Real Estate Private Equity Summit: West
DESCRIPTION:Senior-level gathering for Real Estate Asset Managers\, Private Equity Firms\, Institutional Investors\, Lenders\, Owners & Developers
URL:https://larealestatemarketing.com/event/26th-real-estate-private-equity-summit-west/
LOCATION:The London West Hollywood at Beverly Hills\, 1020 N. San Vicente Blvd\, West Hollywood\, CA\, 90069\, USA
CATEGORIES:Conference
ATTACH;FMTTYPE=image/jpeg:https://larealestatemarketing.com/wp-content/uploads/2024/07/LAREM_event_calendar_stock_v1.jpg
END:VEVENT
BEGIN:VEVENT
DTSTART;TZID=UTC:20240926T150000
DTEND;TZID=UTC:20240926T170000
DTSTAMP:20260423T135833
CREATED:20240731T201944Z
LAST-MODIFIED:20240909T221618Z
UID:10000023-1727362800-1727370000@larealestatemarketing.com
SUMMARY:The Blazing Wildfire Threat to Housing
DESCRIPTION:This event will examine the growing threat of wildfires to housing markets. Experts will assess the risks and provide insights into how increased wildfire exposure affects the industry and potential strategies for mitigation.
URL:https://larealestatemarketing.com/event/the-blazing-wildfire-threat-to-housing/
LOCATION:Newport Beach Civic Center\, 100 Civic Center DR\, Newport Beach\, CA\, 92660\, USA
CATEGORIES:Conference
ATTACH;FMTTYPE=image/jpeg:https://larealestatemarketing.com/wp-content/uploads/2024/07/larem_stock_2000x1250_v39.jpg
END:VEVENT
BEGIN:VEVENT
DTSTART;TZID=UTC:20241007T090000
DTEND;TZID=UTC:20241007T170000
DTSTAMP:20260423T135833
CREATED:20240731T201944Z
LAST-MODIFIED:20240930T212558Z
UID:10000024-1728291600-1728320400@larealestatemarketing.com
SUMMARY:I.CON Cold Storage
DESCRIPTION:The I.CON Cold Storage conference is focused on the cold storage sector within industrial real estate. It will provide insights from leading professionals on the challenges and opportunities in this specialized field.
URL:https://larealestatemarketing.com/event/i-con-cold-storage/
CATEGORIES:Conference
ATTACH;FMTTYPE=image/jpeg:https://larealestatemarketing.com/wp-content/uploads/2024/07/LAREM_Post_Fetured_cold_storage.jpg
END:VEVENT
BEGIN:VEVENT
DTSTART;TZID=UTC:20241010T080000
DTEND;TZID=UTC:20241010T140000
DTSTAMP:20260423T135833
CREATED:20240801T165117Z
LAST-MODIFIED:20240812T123833Z
UID:10000049-1728547200-1728568800@larealestatemarketing.com
SUMMARY:Connect Orange County 2024
DESCRIPTION:Connect Orange County 2024 will feature discussions on current trends and future directions in the local real estate industry. Active brokers\, developers\, and investors will share insights and perspectives on what’s next for the region.
URL:https://larealestatemarketing.com/event/connect-orange-county-2024-2/
LOCATION:Hyatt Regency Irvine\, 17900 Jamboree Rd\, Irvine\, 92614\, USA
CATEGORIES:Conference
ATTACH;FMTTYPE=image/jpeg:https://larealestatemarketing.com/wp-content/uploads/2024/07/LAREM_event_calendar_stock_v16.jpg
END:VEVENT
BEGIN:VEVENT
DTSTART;TZID=UTC:20241015T090000
DTEND;TZID=UTC:20241018T170000
DTSTAMP:20260423T135834
CREATED:20240731T203921Z
LAST-MODIFIED:20240731T203921Z
UID:10000027-1728982800-1729270800@larealestatemarketing.com
SUMMARY:SIOR'S Fall 2024 Event
DESCRIPTION:SIOR’s Fall Event in Los Angeles will gather top commercial real estate brokers. Attendees will have the opportunity to network\, share insights\, and discuss strategies for success in the CRE industry.
URL:https://larealestatemarketing.com/event/siors-fall-2024-event/
LOCATION:Lowes Hollywood Hotel\, 1755 Highland Ave\, Los Angeles\, 90028\, USA
CATEGORIES:Conference
ATTACH;FMTTYPE=image/jpeg:https://larealestatemarketing.com/wp-content/uploads/2024/07/LAREM_event_calendar_stock_v26.jpg
END:VEVENT
BEGIN:VEVENT
DTSTART;TZID=UTC:20241022T080000
DTEND;TZID=UTC:20241022T160000
DTSTAMP:20260423T135834
CREATED:20240909T212047Z
LAST-MODIFIED:20240909T212047Z
UID:10000109-1729584000-1729612800@larealestatemarketing.com
SUMMARY:Connect Distressed Investment & Finance 2024
DESCRIPTION:Our panel of experts will provide their take on the market as 2024 segues into 2025.
URL:https://larealestatemarketing.com/event/connect-distressed-investment-finance-2024/
LOCATION:Luxe Sunset Blvd Hotel\, 11461 W Sunset Blvd\, Los Angeles\, CA\, 90049\, USA
CATEGORIES:Conference
ATTACH;FMTTYPE=image/jpeg:https://larealestatemarketing.com/wp-content/uploads/2024/07/LAREM_event_calendar_stock_v1.jpg
END:VEVENT
BEGIN:VEVENT
DTSTART;TZID=UTC:20241024T100000
DTEND;TZID=UTC:20241024T170000
DTSTAMP:20260423T135834
CREATED:20240812T123337Z
LAST-MODIFIED:20241020T161408Z
UID:10000087-1729764000-1729789200@larealestatemarketing.com
SUMMARY:Southern California Healthcare Real Estate Summit
DESCRIPTION:The Southern California Healthcare Real Estate Summit promises a comprehensive look at the region’s healthcare real estate sector. With a focus on facilities of the future and hospital upgrades\, the summit will address pressing issues such as prioritizing patient care and investing in the right locations across Los Angeles\, Orange County\, and San Diego. \nKey topics include innovative financing strategies\, adapting to new legislation\, and the shift towards outpatient care settings. Join top industry professionals for discussions on how to navigate and capitalize on the evolving healthcare real estate landscape\, and network with leaders in healthcare systems\, development\, investment\, and more.
URL:https://larealestatemarketing.com/event/southern-california-healthcare-real-estate-summit/
CATEGORIES:Conference
ATTACH;FMTTYPE=image/jpeg:https://larealestatemarketing.com/wp-content/uploads/2024/08/Bundled-Services-2000-x-1250-14.jpg
END:VEVENT
END:VCALENDAR