BEGIN:VCALENDAR
VERSION:2.0
PRODID:-//LA Real Estate Marketing - ECPv6.15.20//NONSGML v1.0//EN
CALSCALE:GREGORIAN
METHOD:PUBLISH
X-WR-CALNAME:LA Real Estate Marketing
X-ORIGINAL-URL:https://larealestatemarketing.com
X-WR-CALDESC:Events for LA Real Estate Marketing
REFRESH-INTERVAL;VALUE=DURATION:PT1H
X-Robots-Tag:noindex
X-PUBLISHED-TTL:PT1H
BEGIN:VTIMEZONE
TZID:UTC
BEGIN:STANDARD
TZOFFSETFROM:+0000
TZOFFSETTO:+0000
TZNAME:UTC
DTSTART:20240101T000000
END:STANDARD
END:VTIMEZONE
BEGIN:VEVENT
DTSTART;TZID=UTC:20251108T090000
DTEND;TZID=UTC:20251108T180000
DTSTAMP:20260423T142651
CREATED:20250714T192544Z
LAST-MODIFIED:20250714T192544Z
UID:10000280-1762592400-1762624800@larealestatemarketing.com
SUMMARY:Los Angeles Real Estate Grand Expo
DESCRIPTION:Join over 1\,000 investors\, professionals\, and vendors for LA’s largest real estate investor event\, featuring educational breakout sessions\, private consultations\, and a massive vendor expo. Presented by LA County REIA\, Sam’s Real Estate Club\, and WREN.
URL:https://larealestatemarketing.com/event/los-angeles-real-estate-grand-expo/
CATEGORIES:Education,Expo,Real Estate
ATTACH;FMTTYPE=image/jpeg:https://larealestatemarketing.com/wp-content/uploads/2024/07/LAREM_event_calendar_stock_v14.jpg
END:VEVENT
BEGIN:VEVENT
DTSTART;TZID=UTC:20251104T080000
DTEND;TZID=UTC:20251107T170000
DTSTAMP:20260423T142651
CREATED:20250714T192546Z
LAST-MODIFIED:20250714T192546Z
UID:10000281-1762243200-1762534800@larealestatemarketing.com
SUMMARY:Greenbuild International Conference & Expo 2025
DESCRIPTION:Join industry leaders and sustainability advocates shaping the future of green building through policy\, design\, and innovation. Hosted by USGBC\, Greenbuild 2025 includes panels\, an expo hall\, and workshops across LA Convention Center’s South and West Halls.
URL:https://larealestatemarketing.com/event/greenbuild-international-conference-expo-2025/
CATEGORIES:Construction,Expo,Sustainability
ATTACH;FMTTYPE=image/jpeg:https://larealestatemarketing.com/wp-content/uploads/2024/07/LAREM_event_calendar_stock_v15.jpg
END:VEVENT
END:VCALENDAR