BEGIN:VCALENDAR
VERSION:2.0
PRODID:-//LA Real Estate Marketing - ECPv6.15.20//NONSGML v1.0//EN
CALSCALE:GREGORIAN
METHOD:PUBLISH
X-WR-CALNAME:LA Real Estate Marketing
X-ORIGINAL-URL:https://larealestatemarketing.com
X-WR-CALDESC:Events for LA Real Estate Marketing
REFRESH-INTERVAL;VALUE=DURATION:PT1H
X-Robots-Tag:noindex
X-PUBLISHED-TTL:PT1H
BEGIN:VTIMEZONE
TZID:UTC
BEGIN:STANDARD
TZOFFSETFROM:+0000
TZOFFSETTO:+0000
TZNAME:UTC
DTSTART:19690101T000000
END:STANDARD
END:VTIMEZONE
BEGIN:VEVENT
DTSTART;TZID=UTC:20250821T170000
DTEND;TZID=UTC:20250821T193000
DTSTAMP:20260423T141931
CREATED:20250714T191634Z
LAST-MODIFIED:20250714T191634Z
UID:10000254-1755795600-1755804600@larealestatemarketing.com
SUMMARY:Women in CRE – Summer Garden Party
DESCRIPTION:Join BOMA Greater LA for a Summer Garden Party celebrating Women in CRE. Enjoy meaningful conversation\, networking with like-minded professionals\, and a supportive atmosphere. This event is focused on elevating the voices and experiences of women in commercial real estate. All are welcome!
URL:https://larealestatemarketing.com/event/women-in-cre-summer-garden-party/
CATEGORIES:Networking,Women in Leadership
ATTACH;FMTTYPE=image/jpeg:https://larealestatemarketing.com/wp-content/uploads/2024/07/LAREM_event_calendar_stock_v14.jpg
END:VEVENT
BEGIN:VEVENT
DTSTART;TZID=UTC:20250814T143000
DTEND;TZID=UTC:20250814T180000
DTSTAMP:20260423T141931
CREATED:20250714T192541Z
LAST-MODIFIED:20250714T192541Z
UID:10000278-1755181800-1755194400@larealestatemarketing.com
SUMMARY:Real Estate Trends Forum + Social
DESCRIPTION:The Los Angeles Business Journal’s 3rd Annual Real Estate Trends Forum + Social will feature top commercial real estate experts discussing key market sectors\, including office\, industrial\, development\, and technology trends. Network with industry leaders and stay ahead of market shifts. Includes a 6-month LABJ subscription.
URL:https://larealestatemarketing.com/event/real-estate-trends-forum-social/
CATEGORIES:Development,Networking,Real Estate
ATTACH;FMTTYPE=image/jpeg:https://larealestatemarketing.com/wp-content/uploads/2024/07/LAREM_event_calendar_stock_v12.jpg
END:VEVENT
BEGIN:VEVENT
DTSTART;TZID=UTC:20250731T180000
DTEND;TZID=UTC:20250731T200000
DTSTAMP:20260423T141931
CREATED:20250714T192142Z
LAST-MODIFIED:20250714T192142Z
UID:10000270-1753984800-1753992000@larealestatemarketing.com
SUMMARY:Summer Social
DESCRIPTION:Join CREW LA for a vibrant summer social in Marina del Rey. Enjoy food\, drinks\, and networking in a relaxed atmosphere at The Penmar. Make new connections\, strengthen old ones\, and celebrate summer with fellow commercial real estate professionals.
URL:https://larealestatemarketing.com/event/summer-social/
CATEGORIES:Networking
ATTACH;FMTTYPE=image/jpeg:https://larealestatemarketing.com/wp-content/uploads/2024/07/LAREM_event_calendar_stock_v4.jpg
END:VEVENT
BEGIN:VEVENT
DTSTART;TZID=UTC:20250724T150000
DTEND;TZID=UTC:20250724T190000
DTSTAMP:20260423T141931
CREATED:20250714T192341Z
LAST-MODIFIED:20250714T192341Z
UID:10000274-1753369200-1753383600@larealestatemarketing.com
SUMMARY:SIOR LA Beach Day 2025
DESCRIPTION:Join the Los Angeles Chapter of SIOR for a fun and casual networking afternoon at Hermosa Beach. This exclusive beach day offers members\, corporate sponsors\, and invited guests the chance to connect in a relaxed outdoor setting.
URL:https://larealestatemarketing.com/event/sior-la-beach-day-2025/
CATEGORIES:Charity & Causes,Networking
ATTACH;FMTTYPE=image/jpeg:https://larealestatemarketing.com/wp-content/uploads/2024/07/LAREM_event_calendar_stock_v8.jpg
END:VEVENT
BEGIN:VEVENT
DTSTART;TZID=UTC:20250723T180000
DTEND;TZID=UTC:20250723T203000
DTSTAMP:20260423T141931
CREATED:20250714T192140Z
LAST-MODIFIED:20250714T192140Z
UID:10000269-1753293600-1753302600@larealestatemarketing.com
SUMMARY:LA Rendezvous in the South Bay
DESCRIPTION:Join CREW Los Angeles for an evening of connection\, community\, and giving back at Landmark Dividend in El Segundo. Enjoy drinks and bites while networking\, and bring gently used professional clothing to support job seekers in need.
URL:https://larealestatemarketing.com/event/la-rendezvous-in-the-south-bay-2/
CATEGORIES:Networking
ATTACH;FMTTYPE=image/jpeg:https://larealestatemarketing.com/wp-content/uploads/2024/07/LAREM_event_calendar_stock_v3.jpg
END:VEVENT
BEGIN:VEVENT
DTSTART;TZID=UTC:20250717T143000
DTEND;TZID=UTC:20250717T170000
DTSTAMP:20260423T141931
CREATED:20250714T191158Z
LAST-MODIFIED:20250714T191158Z
UID:10000245-1752762600-1752771600@larealestatemarketing.com
SUMMARY:AIR CRE: Port of LA Boat Tour
DESCRIPTION:Set sail with AIR CRE for an exclusive networking and educational cruise of the Port of Los Angeles. Departing from Long Beach\, this guided tour includes refreshments\, hors d’oeuvres\, and a keynote by Eric Caris\, Director of Cargo Marketing. Learn about tariffs\, port expansion\, technology\, and sustainability at America’s busiest container port.
URL:https://larealestatemarketing.com/event/air-cre-port-of-la-boat-tour/
CATEGORIES:Networking
ATTACH;FMTTYPE=image/jpeg:https://larealestatemarketing.com/wp-content/uploads/2024/07/LAREM_event_calendar_stock_v5.jpg
ORGANIZER;CN="AIR CRE":MAILTO:info@aircre.com
END:VEVENT
BEGIN:VEVENT
DTSTART;TZID=UTC:20250716T170000
DTEND;TZID=UTC:20250716T190000
DTSTAMP:20260423T141931
CREATED:20250714T191934Z
LAST-MODIFIED:20250714T191934Z
UID:10000262-1752685200-1752692400@larealestatemarketing.com
SUMMARY:CREW Connections Summer Mixer
DESCRIPTION:Join fellow CREW Orange County members and industry professionals for an evening of light bites\, drinks\, and summer vibes. Whether you’re a new or longtime member\, this mixer at Hangar 24 in Irvine is the perfect opportunity to build relationships and enjoy a casual\, seasonal gathering. Space is limited—RSVP today!
URL:https://larealestatemarketing.com/event/crew-connections-summer-mixer/
CATEGORIES:Networking
ATTACH;FMTTYPE=image/jpeg:https://larealestatemarketing.com/wp-content/uploads/2024/07/LAREM_event_calendar_stock_v22.jpg
END:VEVENT
BEGIN:VEVENT
DTSTART;TZID=UTC:20250430T090000
DTEND;TZID=UTC:20250430T120000
DTSTAMP:20260423T141931
CREATED:20250326T122401Z
LAST-MODIFIED:20250326T122401Z
UID:10000213-1746003600-1746014400@larealestatemarketing.com
SUMMARY:Discover Careers in Commercial Real Estate
DESCRIPTION:The “Discover Careers in Commercial Real Estate” event\, held on April 30\, 2025\, at KPMG Center\, offers an invaluable opportunity to explore various career paths in property management\, skilled trades\, and essential services within the CRE industry. Whether you are a college student\, career changer\, or industry professional seeking to grow\, this event will connect you with leading companies hiring for roles such as asset managers\, property managers\, engineers\, and HVAC technicians. Registration is free for attendees\, and exhibit tables are available for those interested in showcasing career opportunities.
URL:https://larealestatemarketing.com/event/discover-careers-in-commercial-real-estate/
CATEGORIES:Networking
ATTACH;FMTTYPE=image/jpeg:https://larealestatemarketing.com/wp-content/uploads/2024/07/LAREM_event_calendar_stock_v18.jpg
ORGANIZER;CN="BOMA Greater LA":MAILTO:info@bomagla.org
END:VEVENT
BEGIN:VEVENT
DTSTART;TZID=UTC:20250417T170000
DTEND;TZID=UTC:20250417T200000
DTSTAMP:20260423T141931
CREATED:20241126T164620Z
LAST-MODIFIED:20250326T122345Z
UID:10000184-1744909200-1744920000@larealestatemarketing.com
SUMMARY:2025 OC Real Estate Challenge
DESCRIPTION:The 2025 OC Real Estate Challenge will take place on April 17th\, from 5:00 PM to 8:30 PM PDT. Student teams from Chapman University and UCI will compete to determine the highest and best use for a proposed site\, tackling issues like financial challenges\, sustainable development\, and community impact. Attend this exciting event to support the next generation of real estate leaders and connect with over 300 industry professionals. The evening will conclude with a reception and the awarding of the Orange Bowl. Don’t miss this unique opportunity to be part of the future of real estate!
URL:https://larealestatemarketing.com/event/2025-oc-real-estate-challenge/
CATEGORIES:Networking
ATTACH;FMTTYPE=image/jpeg:https://larealestatemarketing.com/wp-content/uploads/2024/07/LAREM_event_calendar_stock_v23.jpg
ORGANIZER;CN="NAIOP SoCal":MAILTO:info@naiopsocal.org
END:VEVENT
BEGIN:VEVENT
DTSTART;TZID=UTC:20241205T120000
DTEND;TZID=UTC:20241205T150000
DTSTAMP:20260423T141931
CREATED:20241203T152228Z
LAST-MODIFIED:20241203T152228Z
UID:10000192-1733400000-1733410800@larealestatemarketing.com
SUMMARY:SIOR Los Angeles 2024 Holiday Party
DESCRIPTION:Join SIOR LA for an exclusive holiday celebration with members\, corporate sponsors\, and friends of SIOR. This festive event offers a fantastic opportunity to connect with industry professionals\, celebrate the season\, and enjoy a night of networking and fun.
URL:https://larealestatemarketing.com/event/sior-los-angeles-2024-holiday-party/
LOCATION:Manhattan Beach Post\, 1142 Manhattan Ave\, Manhattan Beach\, CA\, 90266
CATEGORIES:Networking
ATTACH;FMTTYPE=image/jpeg:https://larealestatemarketing.com/wp-content/uploads/2024/11/event_stock_party.jpg
END:VEVENT
BEGIN:VEVENT
DTSTART;TZID=UTC:20241121T170000
DTEND;TZID=UTC:20241121T210000
DTSTAMP:20260423T141931
CREATED:20240731T204124Z
LAST-MODIFIED:20240819T211436Z
UID:10000033-1732208400-1732222800@larealestatemarketing.com
SUMMARY:2024 LA Real Estate Challenge
DESCRIPTION:On November 16\, 2023\, UCLA and USC student teams will compete in the LA Real Estate Challenge\, presenting their highest and best use proposals for a unique parcel of land in Southern California.
URL:https://larealestatemarketing.com/event/2024-la-real-estate-challenge/
LOCATION:UCLA Campus\, 405 Hilgard Ave\, Los Angeles\, CA\, 90095\, USA
CATEGORIES:Event
ATTACH;FMTTYPE=image/jpeg:https://larealestatemarketing.com/wp-content/uploads/2024/07/LAREM_event_calendar_stock_v6.jpg
END:VEVENT
BEGIN:VEVENT
DTSTART;TZID=UTC:20241119T160000
DTEND;TZID=UTC:20241119T180000
DTSTAMP:20260423T141931
CREATED:20241106T184011Z
LAST-MODIFIED:20241106T212256Z
UID:10000150-1732032000-1732039200@larealestatemarketing.com
SUMMARY:2025 CRE Mentorship Open House
DESCRIPTION:The 2025 Mentorship Open House is happening on November 19\, 2024\, from 4 PM to 6 PM at Hangar 24. This event invites those interested in NAIOP SoCal’s Mentorship Program to learn more about how it connects young CRE professionals with industry leaders. Don’t miss this opportunity to gain insights and make valuable connections in the commercial real estate sector!
URL:https://larealestatemarketing.com/event/2025-cre-mentorship-open-house/
CATEGORIES:Networking
ATTACH;FMTTYPE=image/jpeg:https://larealestatemarketing.com/wp-content/uploads/2024/09/la_real_estate_marketing_events_9-30-10-3_v1.jpg
ORGANIZER;CN="NAIOP SoCal":MAILTO:info@naiopsocal.org
END:VEVENT
BEGIN:VEVENT
DTSTART;TZID=UTC:20241118T083000
DTEND;TZID=UTC:20241118T170000
DTSTAMP:20260423T141931
CREATED:20240731T204121Z
LAST-MODIFIED:20240819T205852Z
UID:10000032-1731918600-1731949200@larealestatemarketing.com
SUMMARY:Masters Golf Tournament
DESCRIPTION:The Masters Golf Tournament at Palos Verdes Golf Club promises an exciting day of golf for players of all skill levels. The event offers a challenging course and a chance to enjoy a prestigious golfing experience.
URL:https://larealestatemarketing.com/event/masters-golf-tournament/
LOCATION:Palos Verdes Golf Club\, 3301 Via Campesina\, Palos Verdes Estates\, CA\, 90274\, USA
CATEGORIES:Event
ATTACH;FMTTYPE=image/jpeg:https://larealestatemarketing.com/wp-content/uploads/2024/07/Bundled-Services-2000-x-1250-11.jpg
ORGANIZER;CN="BOMA Greater LA":MAILTO:info@bomagla.org
END:VEVENT
BEGIN:VEVENT
DTSTART;TZID=UTC:20241114T170000
DTEND;TZID=UTC:20241114T200000
DTSTAMP:20260423T141931
CREATED:20241106T194802Z
LAST-MODIFIED:20241106T203855Z
UID:10000178-1731603600-1731614400@larealestatemarketing.com
SUMMARY:NAIOP YPG Alumni Happy Hour
DESCRIPTION:The YPG Alumni Happy Hour is set for November 14\, 2024\, from 5 PM to 8 PM at Alley Lounge in Culver City. This event offers free registration for young professionals in the NAIOP Southern California group. Join us for a fantastic evening of networking with peers\, and enjoy your first two drinks courtesy of the hosts!
URL:https://larealestatemarketing.com/event/naiop-ypg-alumni-happy-hour-2/
CATEGORIES:Networking
ATTACH;FMTTYPE=image/jpeg:https://larealestatemarketing.com/wp-content/uploads/2024/07/LAREM_event_calendar_stock_v20.jpg
ORGANIZER;CN="NAIOP SoCal":MAILTO:info@naiopsocal.org
END:VEVENT
BEGIN:VEVENT
DTSTART;TZID=UTC:20240925T180000
DTEND;TZID=UTC:20240925T200000
DTSTAMP:20260423T141931
CREATED:20240912T203336Z
LAST-MODIFIED:20240912T203336Z
UID:10000128-1727287200-1727294400@larealestatemarketing.com
SUMMARY:Understanding Measure ULA - Impact and Insights for the Future
DESCRIPTION:Gathering of Southern California’s leading real estate professionals to discuss Measure ULA\, LA’s controversial “Mansion Tax” passed in November 2022. This measure uses transfer taxes to fund affordable housing and homelessness services\, significantly affecting the commercial real estate industry. Our esteemed panelists will explore how Measure ULA passed\, its implications since then\, and upcoming measures that could impact you. They’ll also share ideas for a balanced path forward on housing needs. Don’t miss this insightful event—RSVP now as space is limited! Hosted by BREAA LA in collaboration with the USC Alumni Real Estate Network (AREN).
URL:https://larealestatemarketing.com/event/understanding-measure-ula-impact-and-insights-for-the-future/
LOCATION:Vineyard Room at USC\, 3409 S Figueroa Street\, Los Angeles\, CA
CATEGORIES:Networking
ATTACH;FMTTYPE=image/jpeg:https://larealestatemarketing.com/wp-content/uploads/2024/08/larem_stock_2000x1250_post_082024_v04.jpg
END:VEVENT
BEGIN:VEVENT
DTSTART;TZID=UTC:20240919T173000
DTEND;TZID=UTC:20240919T193000
DTSTAMP:20260423T141931
CREATED:20240731T201943Z
LAST-MODIFIED:20240909T221445Z
UID:10000022-1726767000-1726774200@larealestatemarketing.com
SUMMARY:2024 LA Membership Mixer
DESCRIPTION:NAIOP SoCal’s fall membership mixer at Citizen Public Market in Culver City will offer a vibrant networking atmosphere. It’s an opportunity to connect with industry professionals and enjoy the lively setting of this popular venue.
URL:https://larealestatemarketing.com/event/2024-la-membership-mixer/
CATEGORIES:Networking
ATTACH;FMTTYPE=image/jpeg:https://larealestatemarketing.com/wp-content/uploads/2024/07/Bundled-Services-2000-x-1250-1.jpg
ORGANIZER;CN="NAIOP SoCal":MAILTO:info@naiopsocal.org
END:VEVENT
BEGIN:VEVENT
DTSTART;TZID=UTC:20240919T100000
DTEND;TZID=UTC:20240919T140000
DTSTAMP:20260423T141931
CREATED:20240731T201929Z
LAST-MODIFIED:20240909T215713Z
UID:10000020-1726740000-1726754400@larealestatemarketing.com
SUMMARY:Job Fair: Careers in Commercial Real Estate
DESCRIPTION:This job fair aims to bridge the gap between employers and job seekers in commercial real estate. It provides a platform for recruiting and retaining talent in a competitive industry\, offering opportunities for career advancement and professional growth.
URL:https://larealestatemarketing.com/event/job-fair-careers-in-commercial-real-estate/
LOCATION:1Cal\, 300 S. Grand Avenue\, Los Angeles\, 90071\, USA
CATEGORIES:Networking
ATTACH;FMTTYPE=image/jpeg:https://larealestatemarketing.com/wp-content/uploads/2024/07/larem_stock_2000x1250_v24.jpg
ORGANIZER;CN="BOMA Greater LA":MAILTO:info@bomagla.org
END:VEVENT
BEGIN:VEVENT
DTSTART;TZID=UTC:20240816T173000
DTEND;TZID=UTC:20240816T220000
DTSTAMP:20260423T141931
CREATED:20240731T201903Z
LAST-MODIFIED:20240731T203509Z
UID:10000011-1723829400-1723845600@larealestatemarketing.com
SUMMARY:CREW OC: Summer Soiree 2024
DESCRIPTION:CREW Orange County’s Annual Summer Soirée\, themed “Casino Royale\,” will take place on August 16th. The elegant event\, held at the Marconi Automotive Museum\, includes a portion of proceeds benefiting WISEPlace\, supporting women and children in need.
URL:https://larealestatemarketing.com/event/crew-oc-summer-soiree-2024/
LOCATION:Marconi Automotive Museum\, 1302 Industrial Dr.\, Tustin\, CA\, 92780\, USA
CATEGORIES:Event
ATTACH;FMTTYPE=image/jpeg:https://larealestatemarketing.com/wp-content/uploads/2024/07/LAREM_event_calendar_stock_v10.jpg
ORGANIZER;CN="CREW OC":MAILTO:info@crewoc.org
END:VEVENT
BEGIN:VEVENT
DTSTART;TZID=UTC:20240815T110000
DTEND;TZID=UTC:20240815T133000
DTSTAMP:20260423T141931
CREATED:20240731T201902Z
LAST-MODIFIED:20240909T202045Z
UID:10000009-1723719600-1723728600@larealestatemarketing.com
SUMMARY:BOMA OC Industry Luncheon
DESCRIPTION:BOMA OC is hosting an industry luncheon. Connect with BOMA OC for information on the event.
URL:https://larealestatemarketing.com/event/boma-oc-industry-luncheon/
LOCATION:The Westin – South Coast Plaza\, 686 Anton Blvd.\, Costa Mesa\, CA\, 92626\, USA
CATEGORIES:Networking
ATTACH;FMTTYPE=image/jpeg:https://larealestatemarketing.com/wp-content/uploads/2024/07/LAREM_event_calendar_stock_v12.jpg
ORGANIZER;CN="BOMA OC":MAILTO:info@bomaoc.org
END:VEVENT
BEGIN:VEVENT
DTSTART;TZID=UTC:20240814T170000
DTEND;TZID=UTC:20240814T193000
DTSTAMP:20260423T141931
CREATED:20240731T201858Z
LAST-MODIFIED:20240731T203502Z
UID:10000007-1723654800-1723663800@larealestatemarketing.com
SUMMARY:Women in CRE
DESCRIPTION:This networking event will bring together women in commercial real estate for an evening of meaningful conversations over Mexican food and margaritas. It’s an opportunity to connect with peers and discuss issues and opportunities specific to women in the industry.
URL:https://larealestatemarketing.com/event/women-in-cre/
CATEGORIES:Networking
ATTACH;FMTTYPE=image/jpeg:https://larealestatemarketing.com/wp-content/uploads/2024/07/LAREM_event_calendar_stock_v6.jpg
ORGANIZER;CN="BOMA Greater LA":MAILTO:info@bomagla.org
END:VEVENT
BEGIN:VEVENT
DTSTART;TZID=UTC:20260423T141931
DTEND;TZID=UTC:20260423T141931
DTSTAMP:20260423T141931
CREATED:20241106T184428Z
LAST-MODIFIED:20241106T184428Z
UID:10000165-0-0@larealestatemarketing.com
SUMMARY:NAIOP YPG Alumni Happy Hour
DESCRIPTION:The YPG Alumni Happy Hour is set for November 14\, 2024\, from 5 PM to 8 PM at Alley Lounge in Culver City. This event offers free registration for young professionals in the NAIOP Southern California group. Join us for a fantastic evening of networking with peers\, and enjoy your first two drinks courtesy of the hosts!
URL:https://larealestatemarketing.com/event/naiop-ypg-alumni-happy-hour/
CATEGORIES:Networking
ATTACH;FMTTYPE=image/jpeg:https://larealestatemarketing.com/wp-content/uploads/2024/07/LAREM_event_calendar_stock_v1.jpg
ORGANIZER;CN="NAIOP SoCal":MAILTO:info@naiopsocal.org
END:VEVENT
BEGIN:VEVENT
DTSTART;TZID=UTC:20260423T141931
DTEND;TZID=UTC:20260423T141931
DTSTAMP:20260423T141931
CREATED:20240801T165204Z
LAST-MODIFIED:20240801T165204Z
UID:10000065-0-0@larealestatemarketing.com
SUMMARY:2024 LA Real Estate Challenge
DESCRIPTION:On November 16\, 2023\, UCLA and USC student teams will compete in the LA Real Estate Challenge\, presenting their highest and best use proposals for a unique parcel of land in Southern California.
URL:https://larealestatemarketing.com/event/2024-la-real-estate-challenge-2/
LOCATION:UCLA Campus\, 405 Hilgard Ave\, Los Angeles\, CA\, 90095\, USA
CATEGORIES:Networking
ATTACH;FMTTYPE=image/jpeg:https://larealestatemarketing.com/wp-content/uploads/2024/07/LAREM_event_calendar_stock_v6.jpg
END:VEVENT
BEGIN:VEVENT
DTSTART;TZID=UTC:20260423T141931
DTEND;TZID=UTC:20260423T141931
DTSTAMP:20260423T141931
CREATED:20240801T165202Z
LAST-MODIFIED:20240801T165202Z
UID:10000064-0-0@larealestatemarketing.com
SUMMARY:Masters Golf Tournament
DESCRIPTION:The Masters Golf Tournament at Palos Verdes Golf Club promises an exciting day of golf for players of all skill levels. The event offers a challenging course and a chance to enjoy a prestigious golfing experience.
URL:https://larealestatemarketing.com/event/masters-golf-tournament-2/
LOCATION:Palos Verdes Golf Club\, 3301 Via Campesina\, Palos Verdes Estates\, CA\, 90274\, USA
CATEGORIES:Networking
ATTACH;FMTTYPE=image/jpeg:https://larealestatemarketing.com/wp-content/uploads/2024/07/LAREM_event_calendar_stock_v5.jpg
ORGANIZER;CN="BOMA Greater LA":MAILTO:info@bomagla.org
END:VEVENT
BEGIN:VEVENT
DTSTART;TZID=UTC:20260423T141931
DTEND;TZID=UTC:20260423T141931
DTSTAMP:20260423T141931
CREATED:20240801T165132Z
LAST-MODIFIED:20240801T165132Z
UID:10000054-0-0@larealestatemarketing.com
SUMMARY:2024 LA Membership Mixer
DESCRIPTION:NAIOP SoCal’s fall membership mixer at Citizen Public Market in Culver City will offer a vibrant networking atmosphere. It’s an opportunity to connect with industry professionals and enjoy the lively setting of this popular venue.
URL:https://larealestatemarketing.com/event/2024-la-membership-mixer-2/
CATEGORIES:Networking
ATTACH;FMTTYPE=image/jpeg:https://larealestatemarketing.com/wp-content/uploads/2024/07/LAREM_event_calendar_stock_v21.jpg
ORGANIZER;CN="NAIOP SoCal":MAILTO:info@naiopsocal.org
END:VEVENT
BEGIN:VEVENT
DTSTART;TZID=UTC:20260423T141931
DTEND;TZID=UTC:20260423T141931
DTSTAMP:20260423T141931
CREATED:20240801T165121Z
LAST-MODIFIED:20240801T165121Z
UID:10000052-0-0@larealestatemarketing.com
SUMMARY:Job Fair: Careers in Commercial Real Estate
DESCRIPTION:This job fair aims to bridge the gap between employers and job seekers in commercial real estate. It provides a platform for recruiting and retaining talent in a competitive industry\, offering opportunities for career advancement and professional growth.
URL:https://larealestatemarketing.com/event/job-fair-careers-in-commercial-real-estate-2/
LOCATION:1Cal\, 300 S. Grand Avenue\, Los Angeles\, 90071\, USA
CATEGORIES:Networking
ATTACH;FMTTYPE=image/jpeg:https://larealestatemarketing.com/wp-content/uploads/2024/07/LAREM_event_calendar_stock_v19.jpg
ORGANIZER;CN="BOMA Greater LA":MAILTO:info@bomagla.org
END:VEVENT
BEGIN:VEVENT
DTSTART;TZID=UTC:20260423T141931
DTEND;TZID=UTC:20260423T141931
DTSTAMP:20260423T141931
CREATED:20240801T165108Z
LAST-MODIFIED:20240801T165108Z
UID:10000047-0-0@larealestatemarketing.com
SUMMARY:2024 Conjured Connections - A Magical Networking Soiree
DESCRIPTION:Experience an enchanting evening of networking at the Magic Castle. This exclusive event offers drinks\, bites\, and a magical atmosphere\, perfect for making new connections and enjoying a unique\, memorable experience.
URL:https://larealestatemarketing.com/event/2024-conjured-connections-a-magical-networking-soiree-2/
LOCATION:Magic Castle\, 7001 Franklin Ave\, Los Angeles\, 90028\, USA
CATEGORIES:Networking
ATTACH;FMTTYPE=image/jpeg:https://larealestatemarketing.com/wp-content/uploads/2024/07/LAREM_event_calendar_stock_v14.jpg
ORGANIZER;CN="NAIOP SoCal":MAILTO:info@naiopsocal.org
END:VEVENT
BEGIN:VEVENT
DTSTART;TZID=UTC:20260423T141931
DTEND;TZID=UTC:20260423T141931
DTSTAMP:20260423T141931
CREATED:20240801T165053Z
LAST-MODIFIED:20240801T165053Z
UID:10000041-0-0@larealestatemarketing.com
SUMMARY:BOMA OC Industry Luncheon
DESCRIPTION:BOMA OC is hosting an industry luncheon designed to foster connections among commercial real estate professionals. This event will provide updates on industry trends and offer networking opportunities with key figures in the BOMA OC community.
URL:https://larealestatemarketing.com/event/boma-oc-industry-luncheon-2/
LOCATION:The Westin – South Coast Plaza\, 686 Anton Blvd.\, Costa Mesa\, CA\, 92626\, USA
CATEGORIES:Networking
ATTACH;FMTTYPE=image/jpeg:https://larealestatemarketing.com/wp-content/uploads/2024/07/LAREM_event_calendar_stock_v8.jpg
ORGANIZER;CN="BOMA OC":MAILTO:info@bomaoc.org
END:VEVENT
BEGIN:VEVENT
DTSTART;TZID=UTC:20260423T141931
DTEND;TZID=UTC:20260423T141931
DTSTAMP:20260423T141931
CREATED:20240801T165048Z
LAST-MODIFIED:20240801T165048Z
UID:10000039-0-0@larealestatemarketing.com
SUMMARY:Women in CRE
DESCRIPTION:This networking event will bring together women in commercial real estate for an evening of meaningful conversations over Mexican food and margaritas. It’s an opportunity to connect with peers and discuss issues and opportunities specific to women in the industry.
URL:https://larealestatemarketing.com/event/women-in-cre-2/
CATEGORIES:Networking
ATTACH;FMTTYPE=image/jpeg:https://larealestatemarketing.com/wp-content/uploads/2024/07/LAREM_event_calendar_stock_v6.jpg
ORGANIZER;CN="BOMA Greater LA":MAILTO:info@bomagla.org
END:VEVENT
END:VCALENDAR