BEGIN:VCALENDAR
VERSION:2.0
PRODID:-//LA Real Estate Marketing - ECPv6.15.20//NONSGML v1.0//EN
CALSCALE:GREGORIAN
METHOD:PUBLISH
X-WR-CALNAME:LA Real Estate Marketing
X-ORIGINAL-URL:https://larealestatemarketing.com
X-WR-CALDESC:Events for LA Real Estate Marketing
REFRESH-INTERVAL;VALUE=DURATION:PT1H
X-Robots-Tag:noindex
X-PUBLISHED-TTL:PT1H
BEGIN:VTIMEZONE
TZID:UTC
BEGIN:STANDARD
TZOFFSETFROM:+0000
TZOFFSETTO:+0000
TZNAME:UTC
DTSTART:19690101T000000
END:STANDARD
END:VTIMEZONE
BEGIN:VEVENT
DTSTART;TZID=UTC:20260423T154638
DTEND;TZID=UTC:20260423T154638
DTSTAMP:20260423T154638
CREATED:20240801T165102Z
LAST-MODIFIED:20240801T165102Z
UID:10000044-0-0@larealestatemarketing.com
SUMMARY:AIR Lease Contracts Seminar
DESCRIPTION:This seminar will focus on AIR CRE Lease Agreements\, offering an in-depth review by experts Bryan Mashian and John Pagliassotti. Attendees will gain insights into lease contract specifics and best practices for managing lease agreements effectively.
URL:https://larealestatemarketing.com/event/air-lease-contracts-seminar-2/
LOCATION:Fullerton Marriott\, 2701 Nutwood Ave.\, Fullerton\, 92831\, USA
CATEGORIES:Training
ATTACH;FMTTYPE=image/jpeg:https://larealestatemarketing.com/wp-content/uploads/2024/07/LAREM_event_calendar_stock_v11.jpg
ORGANIZER;CN="AIR CRE":MAILTO:info@aircre.com
END:VEVENT
BEGIN:VEVENT
DTSTART;TZID=UTC:20260423T154638
DTEND;TZID=UTC:20260423T154638
DTSTAMP:20260423T154638
CREATED:20240801T165051Z
LAST-MODIFIED:20240801T165051Z
UID:10000040-0-0@larealestatemarketing.com
SUMMARY:AIR Contracts Seminar
DESCRIPTION:This in-person seminar will review AIR CRE Purchase and Sale Agreements. Led by AIR CRE Contracts experts Bryan Mashian and John Pagliassotti\, the session will cover key aspects of these contracts\, providing valuable insights for professionals involved in real estate transactions.
URL:https://larealestatemarketing.com/event/air-contracts-seminar-2/
LOCATION:Fullerton Marriott\, 2701 Nutwood Ave.\, Fullerton\, 92831\, USA
CATEGORIES:Training
ATTACH;FMTTYPE=image/jpeg:https://larealestatemarketing.com/wp-content/uploads/2024/07/LAREM_event_calendar_stock_v7.jpg
ORGANIZER;CN="AIR CRE":MAILTO:info@aircre.com
END:VEVENT
BEGIN:VEVENT
DTSTART;TZID=UTC:20260423T154638
DTEND;TZID=UTC:20260423T154638
DTSTAMP:20260423T154638
CREATED:20240801T165037Z
LAST-MODIFIED:20240801T165037Z
UID:10000037-0-0@larealestatemarketing.com
SUMMARY:Common Area Maintenance Workshop (CAMS)
DESCRIPTION:This workshop will provide a comprehensive guide to Common Area Maintenance (CAM) reconciliation in commercial real estate. Attendees will learn essential techniques for effective CAM management\, ensuring accurate billing and efficient property operations.
URL:https://larealestatemarketing.com/event/common-area-maintenance-workshop-cams-2/
LOCATION:55 S. Lake\, 55 S. Lake\, Pasadena\, 91101\, USA
CATEGORIES:Training
ATTACH;FMTTYPE=image/jpeg:https://larealestatemarketing.com/wp-content/uploads/2024/07/LAREM_event_calendar_stock_v4.jpg
ORGANIZER;CN="BOMA Greater LA":MAILTO:info@bomagla.org
END:VEVENT
BEGIN:VEVENT
DTSTART;TZID=UTC:20240807T080000
DTEND;TZID=UTC:20240807T093000
DTSTAMP:20260423T154638
CREATED:20240731T201853Z
LAST-MODIFIED:20240819T214206Z
UID:10000005-1723017600-1723023000@larealestatemarketing.com
SUMMARY:Common Area Maintenance Workshop (CAMS)
DESCRIPTION:Unlock the secrets to mastering Common Area Maintenance (CAM) reconciliation in commercial real estate. This insightful session will cover the essentials: What CAM reconciliation is\, its critical importance\, and strategies for efficiency.
URL:https://larealestatemarketing.com/event/common-area-maintenance-workshop-cams/
LOCATION:55 S. Lake\, 55 S. Lake\, Pasadena\, 91101\, USA
CATEGORIES:Training
ATTACH;FMTTYPE=image/jpeg:https://larealestatemarketing.com/wp-content/uploads/2024/07/LAREM_event_calendar_stock_v4.jpg
ORGANIZER;CN="BOMA Greater LA":MAILTO:info@bomagla.org
END:VEVENT
BEGIN:VEVENT
DTSTART;TZID=UTC:20240815T120000
DTEND;TZID=UTC:20240815T170000
DTSTAMP:20260423T154638
CREATED:20240731T201901Z
LAST-MODIFIED:20240909T202041Z
UID:10000008-1723723200-1723741200@larealestatemarketing.com
SUMMARY:AIR Contracts Seminar
DESCRIPTION:Join us for an in-person review of AIR CRE Purchase and Sale Agreements\, presented by AIR CRE Contracts experts Bryan Mashian and John Pagliassotti.
URL:https://larealestatemarketing.com/event/air-contracts-seminar/
LOCATION:Fullerton Marriott\, 2701 Nutwood Ave.\, Fullerton\, 92831\, USA
CATEGORIES:Training
ATTACH;FMTTYPE=image/jpeg:https://larealestatemarketing.com/wp-content/uploads/2024/07/LAREM_event_calendar_stock_v7.jpg
ORGANIZER;CN="AIR CRE":MAILTO:info@aircre.com
END:VEVENT
BEGIN:VEVENT
DTSTART;TZID=UTC:20240822T120000
DTEND;TZID=UTC:20240822T170000
DTSTAMP:20260423T154638
CREATED:20240731T201913Z
LAST-MODIFIED:20240731T203517Z
UID:10000012-1724328000-1724346000@larealestatemarketing.com
SUMMARY:AIR Lease Contracts Seminar
DESCRIPTION:This seminar will focus on AIR CRE Lease Agreements\, offering an in-depth review by experts Bryan Mashian and John Pagliassotti. Attendees will gain insights into lease contract specifics and best practices for managing lease agreements effectively.
URL:https://larealestatemarketing.com/event/air-lease-contracts-seminar/
LOCATION:Fullerton Marriott\, 2701 Nutwood Ave.\, Fullerton\, 92831\, USA
CATEGORIES:Training
ATTACH;FMTTYPE=image/jpeg:https://larealestatemarketing.com/wp-content/uploads/2024/07/LAREM_event_calendar_stock_v11.jpg
ORGANIZER;CN="AIR CRE":MAILTO:info@aircre.com
END:VEVENT
END:VCALENDAR