BEGIN:VCALENDAR
VERSION:2.0
PRODID:-//LA Real Estate Marketing - ECPv6.15.20//NONSGML v1.0//EN
CALSCALE:GREGORIAN
METHOD:PUBLISH
X-WR-CALNAME:LA Real Estate Marketing
X-ORIGINAL-URL:https://larealestatemarketing.com
X-WR-CALDESC:Events for LA Real Estate Marketing
REFRESH-INTERVAL;VALUE=DURATION:PT1H
X-Robots-Tag:noindex
X-PUBLISHED-TTL:PT1H
BEGIN:VTIMEZONE
TZID:UTC
BEGIN:STANDARD
TZOFFSETFROM:+0000
TZOFFSETTO:+0000
TZNAME:UTC
DTSTART:19690101T000000
END:STANDARD
END:VTIMEZONE
BEGIN:VEVENT
DTSTART;TZID=UTC:20260423T153836
DTEND;TZID=UTC:20260423T153836
DTSTAMP:20260423T153836
CREATED:20240909T213607Z
LAST-MODIFIED:20240909T213607Z
UID:10000111-0-0@larealestatemarketing.com
SUMMARY:Tenant Screening Master Class – Best Practices for Avoiding Tenants from Hell!
DESCRIPTION:
URL:https://larealestatemarketing.com/event/tenant-screening-master-class-best-practices-for-avoiding-tenants-from-hell-3/
END:VEVENT
BEGIN:VEVENT
DTSTART;TZID=UTC:20250730T120000
DTEND;TZID=UTC:20250730T133000
DTSTAMP:20260423T153836
CREATED:20250714T192335Z
LAST-MODIFIED:20250714T192335Z
UID:10000272-1753876800-1753882200@larealestatemarketing.com
SUMMARY:Lunch & Learn: So Many Notices\, How to Know Which To Use and When to Use Them
DESCRIPTION:Learn which AAGLA rental and lease forms to use—and when—with expert property manager Patti Widget. From 3-day notices to addendums\, this in-depth session helps landlords and managers understand and apply the right documents in real-world scenarios. Free for members.
URL:https://larealestatemarketing.com/event/lunch-learn-so-many-notices-how-to-know-which-to-use-and-when-to-use-them/
CATEGORIES:Education
ATTACH;FMTTYPE=image/jpeg:https://larealestatemarketing.com/wp-content/uploads/2024/07/LAREM_event_calendar_stock_v6.jpg
END:VEVENT
END:VCALENDAR