BEGIN:VCALENDAR
VERSION:2.0
PRODID:-//LA Real Estate Marketing - ECPv6.15.20//NONSGML v1.0//EN
CALSCALE:GREGORIAN
METHOD:PUBLISH
X-ORIGINAL-URL:https://larealestatemarketing.com
X-WR-CALDESC:Events for LA Real Estate Marketing
REFRESH-INTERVAL;VALUE=DURATION:PT1H
X-Robots-Tag:noindex
X-PUBLISHED-TTL:PT1H
BEGIN:VTIMEZONE
TZID:UTC
BEGIN:STANDARD
TZOFFSETFROM:+0000
TZOFFSETTO:+0000
TZNAME:UTC
DTSTART:20240101T000000
END:STANDARD
END:VTIMEZONE
BEGIN:VEVENT
DTSTART;TZID=UTC:20251023T110000
DTEND;TZID=UTC:20251023T113000
DTSTAMP:20260423T154428
CREATED:20250714T191621Z
LAST-MODIFIED:20250714T191621Z
UID:10000250-1761217200-1761219000@larealestatemarketing.com
SUMMARY:Town Hall: Q3 2025 Research Insights
DESCRIPTION:Join AIR CRE’s Monique Ebel for a live webinar presenting Q3 2025 industrial market data\, including direct and sublease listings\, transaction activity\, average asking rates\, and construction updates across SoCal.
URL:https://larealestatemarketing.com/event/town-hall-q3-2025-research-insights/
CATEGORIES:Webinar
ATTACH;FMTTYPE=image/jpeg:https://larealestatemarketing.com/wp-content/uploads/2024/07/LAREM_event_calendar_stock_v10.jpg
ORGANIZER;CN="AIR CRE":MAILTO:info@aircre.com
END:VEVENT
BEGIN:VEVENT
DTSTART;TZID=UTC:20250930T083000
DTEND;TZID=UTC:20250930T173000
DTSTAMP:20260423T154428
CREATED:20250714T191619Z
LAST-MODIFIED:20250714T191619Z
UID:10000249-1759221000-1759253400@larealestatemarketing.com
SUMMARY:41st Annual AIR CRE Golf Classic
DESCRIPTION:Join AIR CRE for the 41st Annual Golf Classic on the legendary Eisenhower course at Industry Hills. Enjoy golf\, contests\, networking\, lunch\, cocktails\, and a dinner banquet with raffle prizes. Proceeds benefit the Jules B. Altemus Scholarship Fund supporting future CRE leaders.
URL:https://larealestatemarketing.com/event/41st-annual-air-cre-golf-classic/
LOCATION:Industry Hills Golf Club\, One Industry Hills Parkway\, City of Industry\, 91744\, USA
CATEGORIES:Golf Tournament
ATTACH;FMTTYPE=image/jpeg:https://larealestatemarketing.com/wp-content/uploads/2024/07/LAREM_event_calendar_stock_v9.jpg
ORGANIZER;CN="AIR CRE":MAILTO:info@aircre.com
END:VEVENT
BEGIN:VEVENT
DTSTART;TZID=UTC:20250818T130000
DTEND;TZID=UTC:20250818T173000
DTSTAMP:20260423T154428
CREATED:20250714T191618Z
LAST-MODIFIED:20250714T191618Z
UID:10000248-1755522000-1755538200@larealestatemarketing.com
SUMMARY:AIR CRE Contracts Strategy Seminar: Leases – OC
DESCRIPTION:This in-person seminar dives into AIR CRE Lease Agreements\, related addenda\, and listing documents. Hosted at the Fullerton Marriott\, it includes expert guidance\, Q&A\, sample kits\, a networking break with refreshments\, and parking. Presented by Bryan Mashian and John Pagliassotti. Early bird pricing ends July 11.
URL:https://larealestatemarketing.com/event/air-cre-contracts-strategy-seminar-leases-oc/
CATEGORIES:Seminar
ATTACH;FMTTYPE=image/jpeg:https://larealestatemarketing.com/wp-content/uploads/2024/07/LAREM_event_calendar_stock_v8.jpg
ORGANIZER;CN="AIR CRE":MAILTO:info@aircre.com
END:VEVENT
BEGIN:VEVENT
DTSTART;TZID=UTC:20250811T130000
DTEND;TZID=UTC:20250811T173000
DTSTAMP:20260423T154428
CREATED:20250714T191616Z
LAST-MODIFIED:20250714T191616Z
UID:10000247-1754917200-1754933400@larealestatemarketing.com
SUMMARY:AIR CRE Contracts Strategy Seminar: PSA – OC
DESCRIPTION:This in-depth seminar covers AIR CRE Purchase & Sale Agreements\, addenda\, and listing documents. Hosted at the Fullerton Marriott\, the session includes expert instruction\, sample kits\, a networking break with refreshments\, and Q&A. Presented by Bryan Mashian and John Pagliassotti. Early bird rates available through July 11.
URL:https://larealestatemarketing.com/event/air-cre-contracts-strategy-seminar-psa-oc/
CATEGORIES:Seminar
ATTACH;FMTTYPE=image/jpeg:https://larealestatemarketing.com/wp-content/uploads/2024/07/LAREM_event_calendar_stock_v7.jpg
ORGANIZER;CN="AIR CRE":MAILTO:info@aircre.com
END:VEVENT
BEGIN:VEVENT
DTSTART;TZID=UTC:20250724T110000
DTEND;TZID=UTC:20250724T113000
DTSTAMP:20260423T154428
CREATED:20250714T191200Z
LAST-MODIFIED:20250714T191200Z
UID:10000246-1753354800-1753356600@larealestatemarketing.com
SUMMARY:AIR CRE Town Hall: Q2 2025 Research Insights
DESCRIPTION:In this 30-minute live webinar\, Monique Ebel\, Director of Research at AIR CRE\, will present key takeaways from Q2 2025 data across Southern California’s industrial real estate market. Topics include leasing activity\, average asking rents\, construction pipeline\, and sublease trends. Includes Q&A.
URL:https://larealestatemarketing.com/event/air-cre-town-hall-q2-2025-research-insights/
CATEGORIES:Webinar
ATTACH;FMTTYPE=image/jpeg:https://larealestatemarketing.com/wp-content/uploads/2024/07/LAREM_event_calendar_stock_v6.jpg
ORGANIZER;CN="AIR CRE":MAILTO:info@aircre.com
END:VEVENT
BEGIN:VEVENT
DTSTART;TZID=UTC:20250717T143000
DTEND;TZID=UTC:20250717T170000
DTSTAMP:20260423T154428
CREATED:20250714T191158Z
LAST-MODIFIED:20250714T191158Z
UID:10000245-1752762600-1752771600@larealestatemarketing.com
SUMMARY:AIR CRE: Port of LA Boat Tour
DESCRIPTION:Set sail with AIR CRE for an exclusive networking and educational cruise of the Port of Los Angeles. Departing from Long Beach\, this guided tour includes refreshments\, hors d’oeuvres\, and a keynote by Eric Caris\, Director of Cargo Marketing. Learn about tariffs\, port expansion\, technology\, and sustainability at America’s busiest container port.
URL:https://larealestatemarketing.com/event/air-cre-port-of-la-boat-tour/
CATEGORIES:Networking
ATTACH;FMTTYPE=image/jpeg:https://larealestatemarketing.com/wp-content/uploads/2024/07/LAREM_event_calendar_stock_v5.jpg
ORGANIZER;CN="AIR CRE":MAILTO:info@aircre.com
END:VEVENT
END:VCALENDAR