BEGIN:VCALENDAR
VERSION:2.0
PRODID:-//LA Real Estate Marketing - ECPv6.15.20//NONSGML v1.0//EN
CALSCALE:GREGORIAN
METHOD:PUBLISH
X-WR-CALNAME:LA Real Estate Marketing
X-ORIGINAL-URL:https://larealestatemarketing.com
X-WR-CALDESC:Events for LA Real Estate Marketing
REFRESH-INTERVAL;VALUE=DURATION:PT1H
X-Robots-Tag:noindex
X-PUBLISHED-TTL:PT1H
BEGIN:VTIMEZONE
TZID:UTC
BEGIN:STANDARD
TZOFFSETFROM:+0000
TZOFFSETTO:+0000
TZNAME:UTC
DTSTART:19690101T000000
END:STANDARD
END:VTIMEZONE
BEGIN:VEVENT
DTSTART;TZID=UTC:20260423T172259
DTEND;TZID=UTC:20260423T172259
DTSTAMP:20260423T172259
CREATED:20240909T213934Z
LAST-MODIFIED:20240909T213934Z
UID:10000125-0-0@larealestatemarketing.com
SUMMARY:Orange County Construction & Development Summit
DESCRIPTION:
URL:https://larealestatemarketing.com/event/orange-county-construction-development-summit/
END:VEVENT
BEGIN:VEVENT
DTSTART;TZID=UTC:20260423T172259
DTEND;TZID=UTC:20260423T172259
DTSTAMP:20260423T172259
CREATED:20240909T213933Z
LAST-MODIFIED:20240909T213933Z
UID:10000124-0-0@larealestatemarketing.com
SUMMARY:Bisnow Multifamily Conference West
DESCRIPTION:
URL:https://larealestatemarketing.com/event/bisnow-multifamily-conference-west/
END:VEVENT
BEGIN:VEVENT
DTSTART;TZID=UTC:20260423T172259
DTEND;TZID=UTC:20260423T172259
DTSTAMP:20260423T172259
CREATED:20240909T213729Z
LAST-MODIFIED:20240909T213729Z
UID:10000119-0-0@larealestatemarketing.com
SUMMARY:Los Angeles Hospitality & Retail Summit
DESCRIPTION:
URL:https://larealestatemarketing.com/event/los-angeles-hospitality-retail-summit-2/
END:VEVENT
BEGIN:VEVENT
DTSTART;TZID=UTC:20260423T172259
DTEND;TZID=UTC:20260423T172259
DTSTAMP:20260423T172259
CREATED:20240909T213630Z
LAST-MODIFIED:20240909T213630Z
UID:10000115-0-0@larealestatemarketing.com
SUMMARY:Los Angeles State of the Market Conference
DESCRIPTION:
URL:https://larealestatemarketing.com/event/los-angeles-state-of-the-market-conference-2/
END:VEVENT
BEGIN:VEVENT
DTSTART;TZID=UTC:20260423T172259
DTEND;TZID=UTC:20260423T172259
DTSTAMP:20260423T172259
CREATED:20240909T213610Z
LAST-MODIFIED:20240909T213610Z
UID:10000112-0-0@larealestatemarketing.com
SUMMARY:Los Angeles Life Sciences Commercial Real Estate Summit
DESCRIPTION:
URL:https://larealestatemarketing.com/event/los-angeles-life-sciences-commercial-real-estate-summit-2/
END:VEVENT
END:VCALENDAR