BEGIN:VCALENDAR
VERSION:2.0
PRODID:-//LA Real Estate Marketing - ECPv6.15.20//NONSGML v1.0//EN
CALSCALE:GREGORIAN
METHOD:PUBLISH
X-WR-CALNAME:LA Real Estate Marketing
X-ORIGINAL-URL:https://larealestatemarketing.com
X-WR-CALDESC:Events for LA Real Estate Marketing
REFRESH-INTERVAL;VALUE=DURATION:PT1H
X-Robots-Tag:noindex
X-PUBLISHED-TTL:PT1H
BEGIN:VTIMEZONE
TZID:UTC
BEGIN:STANDARD
TZOFFSETFROM:+0000
TZOFFSETTO:+0000
TZNAME:UTC
DTSTART:20240101T000000
END:STANDARD
END:VTIMEZONE
BEGIN:VEVENT
DTSTART;TZID=UTC:20250813T093000
DTEND;TZID=UTC:20250813T140000
DTSTAMP:20260423T170610
CREATED:20250714T192543Z
LAST-MODIFIED:20250714T192543Z
UID:10000279-1755077400-1755093600@larealestatemarketing.com
SUMMARY:BuildUp LA Series – Housing & Clean Energy Summit
DESCRIPTION:BizFed Institute’s summit convenes public and private sector leaders to develop policy and investment solutions for LA’s pressing housing and energy infrastructure issues. Topics include CEQA reform\, infrastructure modernization\, and equitable clean energy access.
URL:https://larealestatemarketing.com/event/buildup-la-series-housing-clean-energy-summit/
CATEGORIES:Energy,Housing,Public Policy
ATTACH;FMTTYPE=image/jpeg:https://larealestatemarketing.com/wp-content/uploads/2024/07/LAREM_event_calendar_stock_v13.jpg
END:VEVENT
END:VCALENDAR