BEGIN:VCALENDAR
VERSION:2.0
PRODID:-//LA Real Estate Marketing - ECPv6.15.20//NONSGML v1.0//EN
CALSCALE:GREGORIAN
METHOD:PUBLISH
X-ORIGINAL-URL:https://larealestatemarketing.com
X-WR-CALDESC:Events for LA Real Estate Marketing
REFRESH-INTERVAL;VALUE=DURATION:PT1H
X-Robots-Tag:noindex
X-PUBLISHED-TTL:PT1H
BEGIN:VTIMEZONE
TZID:UTC
BEGIN:STANDARD
TZOFFSETFROM:+0000
TZOFFSETTO:+0000
TZNAME:UTC
DTSTART:20240101T000000
END:STANDARD
END:VTIMEZONE
BEGIN:VEVENT
DTSTART;TZID=UTC:20250724T110000
DTEND;TZID=UTC:20250724T133000
DTSTAMP:20260423T160621
CREATED:20250714T191834Z
LAST-MODIFIED:20250714T191834Z
UID:10000259-1753354800-1753363800@larealestatemarketing.com
SUMMARY:BOMA OC Industry Luncheon
DESCRIPTION:Join BOMA Orange County for its signature Industry Luncheon\, a premier in-person gathering of commercial real estate professionals and service providers. Expect high-quality networking\, sponsor displays\, and a lively midday atmosphere. Lunch provided. Member appreciation and sponsor activations included.
URL:https://larealestatemarketing.com/event/boma-oc-industry-luncheon-3/
CATEGORIES:Networking Events
ATTACH;FMTTYPE=image/jpeg:https://larealestatemarketing.com/wp-content/uploads/2024/07/LAREM_event_calendar_stock_v19.jpg
END:VEVENT
END:VCALENDAR