BEGIN:VCALENDAR
VERSION:2.0
PRODID:-//LA Real Estate Marketing - ECPv6.15.20//NONSGML v1.0//EN
CALSCALE:GREGORIAN
METHOD:PUBLISH
X-WR-CALNAME:LA Real Estate Marketing
X-ORIGINAL-URL:https://larealestatemarketing.com
X-WR-CALDESC:Events for LA Real Estate Marketing
REFRESH-INTERVAL;VALUE=DURATION:PT1H
X-Robots-Tag:noindex
X-PUBLISHED-TTL:PT1H
BEGIN:VTIMEZONE
TZID:UTC
BEGIN:STANDARD
TZOFFSETFROM:+0000
TZOFFSETTO:+0000
TZNAME:UTC
DTSTART:20240101T000000
END:STANDARD
END:VTIMEZONE
BEGIN:VEVENT
DTSTART;TZID=UTC:20250716T173000
DTEND;TZID=UTC:20250716T193000
DTSTAMP:20260423T163941
CREATED:20250714T191623Z
LAST-MODIFIED:20250714T191623Z
UID:10000251-1752687000-1752694200@larealestatemarketing.com
SUMMARY:2025 LA Summer Membership Mixer
DESCRIPTION:Join NAIOP SoCal for their summer mixer at Citizen Public Market in Culver City. Enjoy a lively evening of networking\, conversation\, and connection with fellow professionals in the commercial real estate industry.
URL:https://larealestatemarketing.com/event/2025-la-summer-membership-mixer/
CATEGORIES:Networking Event
ATTACH;FMTTYPE=image/jpeg:https://larealestatemarketing.com/wp-content/uploads/2024/07/LAREM_event_calendar_stock_v11.jpg
ORGANIZER;CN="NAIOP SoCal":MAILTO:info@naiopsocal.org
END:VEVENT
BEGIN:VEVENT
DTSTART;TZID=UTC:20250724T173000
DTEND;TZID=UTC:20250724T203000
DTSTAMP:20260423T163941
CREATED:20250714T191632Z
LAST-MODIFIED:20250714T191632Z
UID:10000253-1753378200-1753389000@larealestatemarketing.com
SUMMARY:BOMA's Boot-Scootin' Country Festival
DESCRIPTION:Saddle up for BOMA Greater LA’s Boot-Scootin’ Country Festival\, an evening of live country music\, line dancing\, and western fun under the stars. Wear your best cowboy boots and enjoy a lively networking experience with the local CRE community.
URL:https://larealestatemarketing.com/event/bomas-boot-scootin-country-festival-2/
CATEGORIES:Networking Event
ATTACH;FMTTYPE=image/jpeg:https://larealestatemarketing.com/wp-content/uploads/2024/07/LAREM_event_calendar_stock_v13.jpg
END:VEVENT
BEGIN:VEVENT
DTSTART;TZID=UTC:20250821T170000
DTEND;TZID=UTC:20250821T193000
DTSTAMP:20260423T163941
CREATED:20250714T191634Z
LAST-MODIFIED:20250714T191634Z
UID:10000254-1755795600-1755804600@larealestatemarketing.com
SUMMARY:Women in CRE – Summer Garden Party
DESCRIPTION:Join BOMA Greater LA for a Summer Garden Party celebrating Women in CRE. Enjoy meaningful conversation\, networking with like-minded professionals\, and a supportive atmosphere. This event is focused on elevating the voices and experiences of women in commercial real estate. All are welcome!
URL:https://larealestatemarketing.com/event/women-in-cre-summer-garden-party/
CATEGORIES:Networking,Women in Leadership
ATTACH;FMTTYPE=image/jpeg:https://larealestatemarketing.com/wp-content/uploads/2024/07/LAREM_event_calendar_stock_v14.jpg
END:VEVENT
BEGIN:VEVENT
DTSTART;TZID=UTC:20250904T173000
DTEND;TZID=UTC:20250904T200000
DTSTAMP:20260423T163941
CREATED:20250714T191630Z
LAST-MODIFIED:20250714T191630Z
UID:10000252-1757007000-1757016000@larealestatemarketing.com
SUMMARY:2025 LA BBQ
DESCRIPTION:Say aloha to summer with NAIOP SoCal’s Hawaiian-themed LA BBQ at the iconic Jonathan Beach Club in Santa Monica. Expect tropical bites\, beachside networking\, and good vibes all around.
URL:https://larealestatemarketing.com/event/2025-la-bbq/
CATEGORIES:Networking Event
ATTACH;FMTTYPE=image/jpeg:https://larealestatemarketing.com/wp-content/uploads/2024/07/LAREM_event_calendar_stock_v12.jpg
ORGANIZER;CN="NAIOP SoCal":MAILTO:info@naiopsocal.org
END:VEVENT
BEGIN:VEVENT
DTSTART;TZID=UTC:20250925T173000
DTEND;TZID=UTC:20250925T200000
DTSTAMP:20260423T163941
CREATED:20250714T191836Z
LAST-MODIFIED:20250714T191836Z
UID:10000260-1758821400-1758830400@larealestatemarketing.com
SUMMARY:Sip\, Support & Socialize
DESCRIPTION:Join BOMA Orange County for its signature fall mixer — Sip\, Support & Socialize. This lively reception brings together CRE professionals and elected officials for an evening of drinks\, hors d’oeuvres\, and live music\, while supporting local government affairs. Don’t miss the chance to connect with Orange County’s top property pros and policy leaders.
URL:https://larealestatemarketing.com/event/sip-support-socialize-3/
LOCATION:The Park at Lakeshore\, 18155 Von Karman Avenue\, Irvine\, CA\, 92614\, USA
CATEGORIES:Networking & Advocacy
ATTACH;FMTTYPE=image/jpeg:https://larealestatemarketing.com/wp-content/uploads/2024/07/LAREM_event_calendar_stock_v20.jpg
END:VEVENT
BEGIN:VEVENT
DTSTART;TZID=UTC:20250930T083000
DTEND;TZID=UTC:20250930T173000
DTSTAMP:20260423T163941
CREATED:20250714T191619Z
LAST-MODIFIED:20250714T191619Z
UID:10000249-1759221000-1759253400@larealestatemarketing.com
SUMMARY:41st Annual AIR CRE Golf Classic
DESCRIPTION:Join AIR CRE for the 41st Annual Golf Classic on the legendary Eisenhower course at Industry Hills. Enjoy golf\, contests\, networking\, lunch\, cocktails\, and a dinner banquet with raffle prizes. Proceeds benefit the Jules B. Altemus Scholarship Fund supporting future CRE leaders.
URL:https://larealestatemarketing.com/event/41st-annual-air-cre-golf-classic/
LOCATION:Industry Hills Golf Club\, One Industry Hills Parkway\, City of Industry\, 91744\, USA
CATEGORIES:Golf Tournament
ATTACH;FMTTYPE=image/jpeg:https://larealestatemarketing.com/wp-content/uploads/2024/07/LAREM_event_calendar_stock_v9.jpg
ORGANIZER;CN="AIR CRE":MAILTO:info@aircre.com
END:VEVENT
BEGIN:VEVENT
DTSTART;TZID=UTC:20251009T170000
DTEND;TZID=UTC:20251009T230000
DTSTAMP:20260423T163941
CREATED:20250714T191635Z
LAST-MODIFIED:20250714T191635Z
UID:10000255-1760029200-1760050800@larealestatemarketing.com
SUMMARY:2025 BOMA Greater LA Awards Gala
DESCRIPTION:Join BOMA Greater Los Angeles for the 2025 Awards Gala at the Skirball Cultural Center. This black-tie event will honor top buildings\, property teams\, and standout professionals with the TOBY Awards and Awards of Excellence. Enjoy a night of celebration\, connection\, and an exciting after-party.
URL:https://larealestatemarketing.com/event/2025-boma-greater-la-awards-gala/
CATEGORIES:Networking Events,Signature Events
ATTACH;FMTTYPE=image/jpeg:https://larealestatemarketing.com/wp-content/uploads/2024/07/LAREM_event_calendar_stock_v15.jpg
END:VEVENT
BEGIN:VEVENT
DTSTART;TZID=UTC:20251023T110000
DTEND;TZID=UTC:20251023T113000
DTSTAMP:20260423T163941
CREATED:20250714T191621Z
LAST-MODIFIED:20250714T191621Z
UID:10000250-1761217200-1761219000@larealestatemarketing.com
SUMMARY:Town Hall: Q3 2025 Research Insights
DESCRIPTION:Join AIR CRE’s Monique Ebel for a live webinar presenting Q3 2025 industrial market data\, including direct and sublease listings\, transaction activity\, average asking rates\, and construction updates across SoCal.
URL:https://larealestatemarketing.com/event/town-hall-q3-2025-research-insights/
CATEGORIES:Webinar
ATTACH;FMTTYPE=image/jpeg:https://larealestatemarketing.com/wp-content/uploads/2024/07/LAREM_event_calendar_stock_v10.jpg
ORGANIZER;CN="AIR CRE":MAILTO:info@aircre.com
END:VEVENT
BEGIN:VEVENT
DTSTART;TZID=UTC:20251027T083000
DTEND;TZID=UTC:20251027T183000
DTSTAMP:20260423T163941
CREATED:20250714T191637Z
LAST-MODIFIED:20250714T191637Z
UID:10000256-1761553800-1761589800@larealestatemarketing.com
SUMMARY:2025 BOMA Triple Play Sports Fest
DESCRIPTION:Join BOMA Greater Los Angeles for a full-day sports networking event featuring an 18-hole golf tournament\, pickleball competition\, golf clinic\, and social festivities. Includes breakfast\, lunch\, happy hour\, dinner\, and awards. Great for pros and newcomers alike!
URL:https://larealestatemarketing.com/event/2025-boma-triple-play-sports-fest/
CATEGORIES:Networking Events,Signature Events
ATTACH;FMTTYPE=image/jpeg:https://larealestatemarketing.com/wp-content/uploads/2024/07/LAREM_event_calendar_stock_v16.jpg
END:VEVENT
BEGIN:VEVENT
DTSTART;TZID=UTC:20251112T120000
DTEND;TZID=UTC:20251112T130000
DTSTAMP:20260423T163941
CREATED:20250714T192139Z
LAST-MODIFIED:20250714T192139Z
UID:10000268-1762948800-1762952400@larealestatemarketing.com
SUMMARY:CREW Connections – State of the Market
DESCRIPTION:Don’t miss CREW Orange County’s State of the Market discussion hosted at CoStar’s Irvine office. Event details are coming soon\, but expect engaging commentary on current CRE trends and what’s ahead for 2026.
URL:https://larealestatemarketing.com/event/crew-connections-state-of-the-market-3/
CATEGORIES:Market Update
ATTACH;FMTTYPE=image/jpeg:https://larealestatemarketing.com/wp-content/uploads/2024/07/LAREM_event_calendar_stock_v2.jpg
END:VEVENT
END:VCALENDAR