BEGIN:VCALENDAR
VERSION:2.0
PRODID:-//LA Real Estate Marketing - ECPv6.15.20//NONSGML v1.0//EN
CALSCALE:GREGORIAN
METHOD:PUBLISH
X-WR-CALNAME:LA Real Estate Marketing
X-ORIGINAL-URL:https://larealestatemarketing.com
X-WR-CALDESC:Events for LA Real Estate Marketing
REFRESH-INTERVAL;VALUE=DURATION:PT1H
X-Robots-Tag:noindex
X-PUBLISHED-TTL:PT1H
BEGIN:VTIMEZONE
TZID:UTC
BEGIN:STANDARD
TZOFFSETFROM:+0000
TZOFFSETTO:+0000
TZNAME:UTC
DTSTART:20240101T000000
END:STANDARD
END:VTIMEZONE
BEGIN:VEVENT
DTSTART;TZID=UTC:20250725T083000
DTEND;TZID=UTC:20250725T103000
DTSTAMP:20260423T170803
CREATED:20250714T191936Z
LAST-MODIFIED:20250714T191936Z
UID:10000263-1753432200-1753439400@larealestatemarketing.com
SUMMARY:Emerging Leaders Annual Leadership Summit
DESCRIPTION:Join CREW Orange County’s Emerging Leaders for their 3rd Annual Leadership Summit\, designed to connect rising professionals with experienced leaders across commercial real estate. Expect roundtable conversations\, career stories\, and industry insight in an intimate\, supportive environment. Breakfast is included and parking is sponsored by Allen Matkins.
URL:https://larealestatemarketing.com/event/emerging-leaders-annual-leadership-summit/
CATEGORIES:Professional Development
ATTACH;FMTTYPE=image/jpeg:https://larealestatemarketing.com/wp-content/uploads/2024/07/LAREM_event_calendar_stock_v23.jpg
END:VEVENT
END:VCALENDAR