BEGIN:VCALENDAR
VERSION:2.0
PRODID:-//LA Real Estate Marketing - ECPv6.15.20//NONSGML v1.0//EN
CALSCALE:GREGORIAN
METHOD:PUBLISH
X-WR-CALNAME:LA Real Estate Marketing
X-ORIGINAL-URL:https://larealestatemarketing.com
X-WR-CALDESC:Events for LA Real Estate Marketing
REFRESH-INTERVAL;VALUE=DURATION:PT1H
X-Robots-Tag:noindex
X-PUBLISHED-TTL:PT1H
BEGIN:VTIMEZONE
TZID:UTC
BEGIN:STANDARD
TZOFFSETFROM:+0000
TZOFFSETTO:+0000
TZNAME:UTC
DTSTART:19690101T000000
END:STANDARD
END:VTIMEZONE
BEGIN:VEVENT
DTSTART;TZID=UTC:20260423T151620
DTEND;TZID=UTC:20260423T151620
DTSTAMP:20260423T151620
CREATED:20240801T165512Z
LAST-MODIFIED:20240801T165512Z
UID:10000074-0-0@larealestatemarketing.com
SUMMARY:2024 AAGLA Classic Golf Tournament
DESCRIPTION:The Apartment Association of Greater Los Angeles proudly presents the Second Annual AAGLA Classic Golf Tournament at DeBell Golf Club. This event offers a fantastic opportunity for members and suppliers to connect\, build valuable relationships\, and enjoy a casual\, enjoyable round of golf.
URL:https://larealestatemarketing.com/event/2024-aagla-classic-golf-tournament/
CATEGORIES:Event
ATTACH;FMTTYPE=image/jpeg:https://larealestatemarketing.com/wp-content/uploads/2024/07/LAREM_event_calendar_stock_v18.jpg
END:VEVENT
BEGIN:VEVENT
DTSTART;TZID=UTC:20260423T151620
DTEND;TZID=UTC:20260423T151620
DTSTAMP:20260423T151620
CREATED:20240801T165206Z
LAST-MODIFIED:20240801T165206Z
UID:10000066-0-0@larealestatemarketing.com
SUMMARY:CREW Golf Clinic - August
DESCRIPTION:Join us for group golf lessons suitable for any skill level\, held on the second Friday of each month. Exclusively for CREW OC members.
URL:https://larealestatemarketing.com/event/crew-golf-clinic-august/
CATEGORIES:Event
ATTACH;FMTTYPE=image/jpeg:https://larealestatemarketing.com/wp-content/uploads/2024/07/LAREM_event_calendar_stock_v7.jpg
ORGANIZER;CN="CREW OC":MAILTO:info@crewoc.org
END:VEVENT
BEGIN:VEVENT
DTSTART;TZID=UTC:20260423T151620
DTEND;TZID=UTC:20260423T151620
DTSTAMP:20260423T151620
CREATED:20240801T165202Z
LAST-MODIFIED:20240801T165202Z
UID:10000064-0-0@larealestatemarketing.com
SUMMARY:Masters Golf Tournament
DESCRIPTION:The Masters Golf Tournament at Palos Verdes Golf Club promises an exciting day of golf for players of all skill levels. The event offers a challenging course and a chance to enjoy a prestigious golfing experience.
URL:https://larealestatemarketing.com/event/masters-golf-tournament-2/
LOCATION:Palos Verdes Golf Club\, 3301 Via Campesina\, Palos Verdes Estates\, CA\, 90274\, USA
CATEGORIES:Networking
ATTACH;FMTTYPE=image/jpeg:https://larealestatemarketing.com/wp-content/uploads/2024/07/LAREM_event_calendar_stock_v5.jpg
ORGANIZER;CN="BOMA Greater LA":MAILTO:info@bomagla.org
END:VEVENT
BEGIN:VEVENT
DTSTART;TZID=UTC:20260423T151620
DTEND;TZID=UTC:20260423T151620
DTSTAMP:20260423T151620
CREATED:20240801T165109Z
LAST-MODIFIED:20240909T201912Z
UID:10000048-0-0@larealestatemarketing.com
SUMMARY:40th Annual AIR CRE Golf Classic
DESCRIPTION:Swing into action at the 40th Annual AIR CRE Golf Classic! It’s that time of the year again – where the green beckons\, the carts await\, and the thrill of competition fills the air. Join us for an unforgettable day at Industry Hills Golf Club\, on the legendary Eisenhower (Ike) course\, all for a fantastic cause! Proceeds from this event go towards the Jules B. Altemus Scholarship Fund\, empowering exceptional students in the field of commercial real estate\, by providing internships at AIR CRE and member and affiliate firms.
URL:https://larealestatemarketing.com/event/40th-annual-air-cre-golf-classic-2/
LOCATION:Industry Hills Golf Club\, One Industry Hills Parkway\, City of Industry\, 91744\, USA
CATEGORIES:Event
ATTACH;FMTTYPE=image/jpeg:https://larealestatemarketing.com/wp-content/uploads/2024/07/LAREM_event_calendar_stock_v15.jpg
ORGANIZER;CN="AIR CRE":MAILTO:info@aircre.com
END:VEVENT
BEGIN:VEVENT
DTSTART;TZID=UTC:20240809T113000
DTEND;TZID=UTC:20240809T123000
DTSTAMP:20260423T151620
CREATED:20240812T123159Z
LAST-MODIFIED:20240812T123159Z
UID:10000075-1723203000-1723206600@larealestatemarketing.com
SUMMARY:CREW Golf Clinic - August
DESCRIPTION:Join us for group golf lessons suitable for any skill level\, held on the second Friday of each month. Exclusively for CREW OC members.
URL:https://larealestatemarketing.com/event/crew-golf-clinic-august-2/
LOCATION:Henry Brunton Golf Academy\, 11 Strawberry Farm Rd.\, Irvine\, CA\, 92614\, USA
CATEGORIES:Event
ATTACH;FMTTYPE=image/jpeg:https://larealestatemarketing.com/wp-content/uploads/2024/07/LAREM_event_calendar_stock_v7.jpg
ORGANIZER;CN="CREW OC":MAILTO:info@crewoc.org
END:VEVENT
BEGIN:VEVENT
DTSTART;TZID=UTC:20240909T090000
DTEND;TZID=UTC:20240909T180000
DTSTAMP:20260423T151620
CREATED:20240731T201915Z
LAST-MODIFIED:20240909T201252Z
UID:10000016-1725872400-1725904800@larealestatemarketing.com
SUMMARY:40th Annual AIR CRE Golf Classic
DESCRIPTION:Swing into action at the 40th Annual AIR CRE Golf Classic! It’s that time of the year again – where the green beckons\, the carts await\, and the thrill of competition fills the air. Join us for an unforgettable day at Industry Hills Golf Club\, on the legendary Eisenhower (Ike) course\, all for a fantastic cause! Proceeds from this event go towards the Jules B. Altemus Scholarship Fund\, empowering exceptional students in the field of commercial real estate\, by providing internships at AIR CRE and member and affiliate firms.
URL:https://larealestatemarketing.com/event/40th-annual-air-cre-golf-classic/
LOCATION:Industry Hills Golf Club\, One Industry Hills Parkway\, City of Industry\, 91744\, USA
CATEGORIES:Event
ATTACH;FMTTYPE=image/jpeg:https://larealestatemarketing.com/wp-content/uploads/2024/07/Bundled-Services-2000-x-1250-8-1.jpg
ORGANIZER;CN="AIR CRE":MAILTO:info@aircre.com
END:VEVENT
BEGIN:VEVENT
DTSTART;TZID=UTC:20241010T080000
DTEND;TZID=UTC:20241010T150000
DTSTAMP:20260423T151620
CREATED:20240812T123228Z
LAST-MODIFIED:20240819T205627Z
UID:10000083-1728547200-1728572400@larealestatemarketing.com
SUMMARY:2024 AAGLA Classic Golf Tournament
DESCRIPTION:The Apartment Association of Greater Los Angeles proudly presents the Second Annual AAGLA Classic Golf Tournament at DeBell Golf Club. This event offers a fantastic opportunity for members and suppliers to connect\, build valuable relationships\, and enjoy a casual\, enjoyable round of golf.
URL:https://larealestatemarketing.com/event/2024-aagla-classic-golf-tournament-2/
CATEGORIES:Event
ATTACH;FMTTYPE=image/jpeg:https://larealestatemarketing.com/wp-content/uploads/2024/08/Bundled-Services-2000-x-1250-9.jpg
END:VEVENT
BEGIN:VEVENT
DTSTART;TZID=UTC:20241118T083000
DTEND;TZID=UTC:20241118T170000
DTSTAMP:20260423T151620
CREATED:20240731T204121Z
LAST-MODIFIED:20240819T205852Z
UID:10000032-1731918600-1731949200@larealestatemarketing.com
SUMMARY:Masters Golf Tournament
DESCRIPTION:The Masters Golf Tournament at Palos Verdes Golf Club promises an exciting day of golf for players of all skill levels. The event offers a challenging course and a chance to enjoy a prestigious golfing experience.
URL:https://larealestatemarketing.com/event/masters-golf-tournament/
LOCATION:Palos Verdes Golf Club\, 3301 Via Campesina\, Palos Verdes Estates\, CA\, 90274\, USA
CATEGORIES:Event
ATTACH;FMTTYPE=image/jpeg:https://larealestatemarketing.com/wp-content/uploads/2024/07/Bundled-Services-2000-x-1250-11.jpg
ORGANIZER;CN="BOMA Greater LA":MAILTO:info@bomagla.org
END:VEVENT
BEGIN:VEVENT
DTSTART;TZID=UTC:20241202T080000
DTEND;TZID=UTC:20241202T170000
DTSTAMP:20260423T151620
CREATED:20241021T065304Z
LAST-MODIFIED:20241106T201749Z
UID:10000142-1733126400-1733158800@larealestatemarketing.com
SUMMARY:NAIOP 2024 Los Angeles Golf Tournament
DESCRIPTION:The 2024 Los Angeles Golf Tournament\, hosted by NAIOP SoCal\, takes place on December 2\, 2024. This popular annual event attracts commercial real estate professionals for a day of friendly competition and networking. While golf registration is sold out\, you’re still welcome to join the reception for valuable connections in the industry.
URL:https://larealestatemarketing.com/event/naiiop-2024-los-angeles-golf-tournament/
CATEGORIES:Event
ATTACH;FMTTYPE=image/jpeg:https://larealestatemarketing.com/wp-content/uploads/2024/11/event_golf.jpg
ORGANIZER;CN="NAIOP SoCal":MAILTO:info@naiopsocal.org
END:VEVENT
BEGIN:VEVENT
DTSTART;TZID=UTC:20250404T100000
DTEND;TZID=UTC:20250404T180000
DTSTAMP:20260423T151620
CREATED:20250326T122318Z
LAST-MODIFIED:20250326T122318Z
UID:10000201-1743760800-1743789600@larealestatemarketing.com
SUMMARY:BOMA Spring Golf Tournament
DESCRIPTION:BOMA’s Spring Golf Tournament on April 4\, 2025\, at Desert Willow Golf Resort is the perfect opportunity to connect with industry professionals while enjoying a day on the green. Whether you’re a seasoned golfer or just looking to enjoy the day\, this event offers a beautiful mountain-view setting\, food\, refreshments\, and exciting raffle prizes. Early bird registration is available—be sure to secure your spot and hotel reservation by March 10. Don’t miss out on this fun-filled networking event! For more information or sponsorship opportunities\, contact the Education and Events Team at (213) 435-0318.
URL:https://larealestatemarketing.com/event/boma-spring-golf-tournament/
CATEGORIES:Event
ATTACH;FMTTYPE=image/jpeg:https://larealestatemarketing.com/wp-content/uploads/2024/07/LAREM_event_calendar_stock_v5.jpg
ORGANIZER;CN="BOMA Greater LA":MAILTO:info@bomagla.org
END:VEVENT
BEGIN:VEVENT
DTSTART;TZID=UTC:20250625T100000
DTEND;TZID=UTC:20250625T200000
DTSTAMP:20260423T151620
CREATED:20250326T122855Z
LAST-MODIFIED:20250714T191058Z
UID:10000228-1750845600-1750881600@larealestatemarketing.com
SUMMARY:2025 BOMA OC Golf Classic
DESCRIPTION:BOMA OC’s 2025 Golf Classic will take place at the beautiful Pelican Hill Golf Club on June 25\, 2025. Enjoy a full day of networking\, golfing\, and celebrating with industry professionals. The event kicks off with a 10:00 AM registration and breakfast\, followed by a shotgun start at 12:00 PM. Afterward\, unwind at the 5:30 PM happy hour\, with the awards dinner starting at 6:00 PM. This event is a great way to enjoy the scenic South Course and connect with peers while competing for fun prizes. Early registration is encouraged as this event sells out quickly!
URL:https://larealestatemarketing.com/event/2025-boma-oc-golf-classic/
LOCATION:Pelican Hill Golf Club\, 22800 Pelican Hill Road South\, Newport Coast\, CA\, 92657\, USA
CATEGORIES:Event
ATTACH;FMTTYPE=image/jpeg:https://larealestatemarketing.com/wp-content/uploads/2024/07/LAREM_event_calendar_stock_v1.jpg
ORGANIZER;CN="BOMA OC":MAILTO:info@bomaoc.org
END:VEVENT
BEGIN:VEVENT
DTSTART;TZID=UTC:20250630T080000
DTEND;TZID=UTC:20250630T170000
DTSTAMP:20260423T151620
CREATED:20250326T122856Z
LAST-MODIFIED:20250714T191100Z
UID:10000229-1751270400-1751302800@larealestatemarketing.com
SUMMARY:2025 Orange County Golf Tournament
DESCRIPTION:Get ready for the 2025 Orange County Golf Tournament\, hosted by NAIOP SoCal on June 30th! This highly anticipated event attracts leading commercial real estate professionals for a day of networking and friendly competition. The tournament provides a unique opportunity to connect with industry peers while enjoying a round of golf at Coto De Caza Golf Club. Registration opens at 9:00 AM\, with a shotgun start at 11:00 AM sharp. This event promises a great atmosphere for building relationships and engaging in friendly competition. Don’t miss your chance to participate—contact Becky Ezell at 714-550-0309 for more information.
URL:https://larealestatemarketing.com/event/2025-orange-county-golf-tournament/
CATEGORIES:Event
ATTACH;FMTTYPE=image/jpeg:https://larealestatemarketing.com/wp-content/uploads/2024/07/LAREM_event_calendar_stock_v2.jpg
ORGANIZER;CN="NAIOP SoCal":MAILTO:info@naiopsocal.org
END:VEVENT
BEGIN:VEVENT
DTSTART;TZID=UTC:20251023T080000
DTEND;TZID=UTC:20251023T180000
DTSTAMP:20260423T151620
CREATED:20250714T192134Z
LAST-MODIFIED:20250714T192134Z
UID:10000267-1761206400-1761242400@larealestatemarketing.com
SUMMARY:CREW Orange County Charity Golf Tournament
DESCRIPTION:Get your clubs out and join CREW Orange County on Thursday\, October 23rd\, 2025\, for their Charity Golf Tournament at the Tustin Ranch Golf Club. This event combines a great day on the course with a great cause. Sponsorships are welcome\, and full event details will be released soon!
URL:https://larealestatemarketing.com/event/crew-orange-county-charity-golf-tournament/
CATEGORIES:Golf Tournament
ATTACH;FMTTYPE=image/jpeg:https://larealestatemarketing.com/wp-content/uploads/2024/07/LAREM_event_calendar_stock_v1.jpg
END:VEVENT
BEGIN:VEVENT
DTSTART;TZID=UTC:20251027T083000
DTEND;TZID=UTC:20251027T183000
DTSTAMP:20260423T151620
CREATED:20250714T191637Z
LAST-MODIFIED:20250714T191637Z
UID:10000256-1761553800-1761589800@larealestatemarketing.com
SUMMARY:2025 BOMA Triple Play Sports Fest
DESCRIPTION:Join BOMA Greater Los Angeles for a full-day sports networking event featuring an 18-hole golf tournament\, pickleball competition\, golf clinic\, and social festivities. Includes breakfast\, lunch\, happy hour\, dinner\, and awards. Great for pros and newcomers alike!
URL:https://larealestatemarketing.com/event/2025-boma-triple-play-sports-fest/
CATEGORIES:Networking Events,Signature Events
ATTACH;FMTTYPE=image/jpeg:https://larealestatemarketing.com/wp-content/uploads/2024/07/LAREM_event_calendar_stock_v16.jpg
END:VEVENT
END:VCALENDAR