BEGIN:VCALENDAR
VERSION:2.0
PRODID:-//LA Real Estate Marketing - ECPv6.15.20//NONSGML v1.0//EN
CALSCALE:GREGORIAN
METHOD:PUBLISH
X-WR-CALNAME:LA Real Estate Marketing
X-ORIGINAL-URL:https://larealestatemarketing.com
X-WR-CALDESC:Events for LA Real Estate Marketing
REFRESH-INTERVAL;VALUE=DURATION:PT1H
X-Robots-Tag:noindex
X-PUBLISHED-TTL:PT1H
BEGIN:VTIMEZONE
TZID:UTC
BEGIN:STANDARD
TZOFFSETFROM:+0000
TZOFFSETTO:+0000
TZNAME:UTC
DTSTART:19690101T000000
END:STANDARD
END:VTIMEZONE
BEGIN:VEVENT
DTSTART;TZID=UTC:20260423T155409
DTEND;TZID=UTC:20260423T155409
DTSTAMP:20260423T155409
CREATED:20241106T184428Z
LAST-MODIFIED:20241106T184428Z
UID:10000165-0-0@larealestatemarketing.com
SUMMARY:NAIOP YPG Alumni Happy Hour
DESCRIPTION:The YPG Alumni Happy Hour is set for November 14\, 2024\, from 5 PM to 8 PM at Alley Lounge in Culver City. This event offers free registration for young professionals in the NAIOP Southern California group. Join us for a fantastic evening of networking with peers\, and enjoy your first two drinks courtesy of the hosts!
URL:https://larealestatemarketing.com/event/naiop-ypg-alumni-happy-hour/
CATEGORIES:Networking
ATTACH;FMTTYPE=image/jpeg:https://larealestatemarketing.com/wp-content/uploads/2024/07/LAREM_event_calendar_stock_v1.jpg
ORGANIZER;CN="NAIOP SoCal":MAILTO:info@naiopsocal.org
END:VEVENT
BEGIN:VEVENT
DTSTART;TZID=UTC:20260423T155409
DTEND;TZID=UTC:20260423T155409
DTSTAMP:20260423T155409
CREATED:20240909T202020Z
LAST-MODIFIED:20240909T202020Z
UID:10000103-0-0@larealestatemarketing.com
SUMMARY:ULI YLG End of Summer Rooftop Social
DESCRIPTION:As summer comes to a close\, get ready to join us for an unforgettable evening of networking\, camaraderie\, and celebration at our marquee event of the season – YLG’s Summer Social!
URL:https://larealestatemarketing.com/event/uli-ylg-end-of-summer-rooftop-social-3/
LOCATION:HLW International\, 1437 4th Street\, Santa Monica\, CA\, 90401\, USA
CATEGORIES:Event
GEO:34.0185;-118.4912
X-APPLE-STRUCTURED-LOCATION;VALUE=URI;X-ADDRESS=HLW International 1437 4th Street Santa Monica CA 90401 USA;X-APPLE-RADIUS=500;X-TITLE=1437 4th Street:geo:-118.4912,34.0185
END:VEVENT
BEGIN:VEVENT
DTSTART;TZID=UTC:20260423T155409
DTEND;TZID=UTC:20260423T155409
DTSTAMP:20260423T155409
CREATED:20240801T165221Z
LAST-MODIFIED:20240801T165221Z
UID:10000071-0-0@larealestatemarketing.com
SUMMARY:Brokers by the Beach
DESCRIPTION:Join us as we share updates and gather feedback on the Downtown Shoreline (PD-6) Vision Plan. With the Plan not updated since the 1970s\, this is a prime chance to explore ideas for transforming Downtown Shoreline into a world-class waterfront destination. Your involvement will help shape its future!
URL:https://larealestatemarketing.com/event/brokers-by-the-beach/
CATEGORIES:Event
ATTACH;FMTTYPE=image/jpeg:https://larealestatemarketing.com/wp-content/uploads/2024/07/LAREM_event_calendar_stock_v15.jpg
ORGANIZER;CN="CREW LA":MAILTO:info@crewla.org
END:VEVENT
BEGIN:VEVENT
DTSTART;TZID=UTC:20260423T155409
DTEND;TZID=UTC:20260423T155409
DTSTAMP:20260423T155409
CREATED:20240801T165132Z
LAST-MODIFIED:20240801T165132Z
UID:10000054-0-0@larealestatemarketing.com
SUMMARY:2024 LA Membership Mixer
DESCRIPTION:NAIOP SoCal’s fall membership mixer at Citizen Public Market in Culver City will offer a vibrant networking atmosphere. It’s an opportunity to connect with industry professionals and enjoy the lively setting of this popular venue.
URL:https://larealestatemarketing.com/event/2024-la-membership-mixer-2/
CATEGORIES:Networking
ATTACH;FMTTYPE=image/jpeg:https://larealestatemarketing.com/wp-content/uploads/2024/07/LAREM_event_calendar_stock_v21.jpg
ORGANIZER;CN="NAIOP SoCal":MAILTO:info@naiopsocal.org
END:VEVENT
BEGIN:VEVENT
DTSTART;TZID=UTC:20260423T155409
DTEND;TZID=UTC:20260423T155409
DTSTAMP:20260423T155409
CREATED:20240801T165108Z
LAST-MODIFIED:20240801T165108Z
UID:10000047-0-0@larealestatemarketing.com
SUMMARY:2024 Conjured Connections - A Magical Networking Soiree
DESCRIPTION:Experience an enchanting evening of networking at the Magic Castle. This exclusive event offers drinks\, bites\, and a magical atmosphere\, perfect for making new connections and enjoying a unique\, memorable experience.
URL:https://larealestatemarketing.com/event/2024-conjured-connections-a-magical-networking-soiree-2/
LOCATION:Magic Castle\, 7001 Franklin Ave\, Los Angeles\, 90028\, USA
CATEGORIES:Networking
ATTACH;FMTTYPE=image/jpeg:https://larealestatemarketing.com/wp-content/uploads/2024/07/LAREM_event_calendar_stock_v14.jpg
ORGANIZER;CN="NAIOP SoCal":MAILTO:info@naiopsocal.org
END:VEVENT
BEGIN:VEVENT
DTSTART;TZID=UTC:20260423T155409
DTEND;TZID=UTC:20260423T155409
DTSTAMP:20260423T155409
CREATED:20240801T165048Z
LAST-MODIFIED:20240801T165048Z
UID:10000039-0-0@larealestatemarketing.com
SUMMARY:Women in CRE
DESCRIPTION:This networking event will bring together women in commercial real estate for an evening of meaningful conversations over Mexican food and margaritas. It’s an opportunity to connect with peers and discuss issues and opportunities specific to women in the industry.
URL:https://larealestatemarketing.com/event/women-in-cre-2/
CATEGORIES:Networking
ATTACH;FMTTYPE=image/jpeg:https://larealestatemarketing.com/wp-content/uploads/2024/07/LAREM_event_calendar_stock_v6.jpg
ORGANIZER;CN="BOMA Greater LA":MAILTO:info@bomagla.org
END:VEVENT
BEGIN:VEVENT
DTSTART;TZID=UTC:20240814T170000
DTEND;TZID=UTC:20240814T193000
DTSTAMP:20260423T155409
CREATED:20240731T201858Z
LAST-MODIFIED:20240731T203502Z
UID:10000007-1723654800-1723663800@larealestatemarketing.com
SUMMARY:Women in CRE
DESCRIPTION:This networking event will bring together women in commercial real estate for an evening of meaningful conversations over Mexican food and margaritas. It’s an opportunity to connect with peers and discuss issues and opportunities specific to women in the industry.
URL:https://larealestatemarketing.com/event/women-in-cre/
CATEGORIES:Networking
ATTACH;FMTTYPE=image/jpeg:https://larealestatemarketing.com/wp-content/uploads/2024/07/LAREM_event_calendar_stock_v6.jpg
ORGANIZER;CN="BOMA Greater LA":MAILTO:info@bomagla.org
END:VEVENT
BEGIN:VEVENT
DTSTART;TZID=UTC:20240815T180000
DTEND;TZID=UTC:20240815T200000
DTSTAMP:20260423T155409
CREATED:20240812T123215Z
LAST-MODIFIED:20240909T202050Z
UID:10000080-1723744800-1723752000@larealestatemarketing.com
SUMMARY:Brokers by the Beach
DESCRIPTION:Join us as we share updates and gather feedback on the Downtown Shoreline (PD-6) Vision Plan. With the Plan not updated since the 1970s\, this is a prime chance to explore ideas for transforming Downtown Shoreline into a world-class waterfront destination. Your involvement will help shape its future!
URL:https://larealestatemarketing.com/event/brokers-by-the-beach-2/
LOCATION:Shoreline Village\, 429 Shoreline Village Drive 100\, Long Beach\, CA\, 90802\, USA
CATEGORIES:Event
ATTACH;FMTTYPE=image/jpeg:https://larealestatemarketing.com/wp-content/uploads/2024/07/LAREM_event_calendar_stock_v15.jpg
ORGANIZER;CN="CREW LA":MAILTO:info@crewla.org
END:VEVENT
BEGIN:VEVENT
DTSTART;TZID=UTC:20240919T173000
DTEND;TZID=UTC:20240919T193000
DTSTAMP:20260423T155409
CREATED:20240731T201943Z
LAST-MODIFIED:20240909T221445Z
UID:10000022-1726767000-1726774200@larealestatemarketing.com
SUMMARY:2024 LA Membership Mixer
DESCRIPTION:NAIOP SoCal’s fall membership mixer at Citizen Public Market in Culver City will offer a vibrant networking atmosphere. It’s an opportunity to connect with industry professionals and enjoy the lively setting of this popular venue.
URL:https://larealestatemarketing.com/event/2024-la-membership-mixer/
CATEGORIES:Networking
ATTACH;FMTTYPE=image/jpeg:https://larealestatemarketing.com/wp-content/uploads/2024/07/Bundled-Services-2000-x-1250-1.jpg
ORGANIZER;CN="NAIOP SoCal":MAILTO:info@naiopsocal.org
END:VEVENT
BEGIN:VEVENT
DTSTART;TZID=UTC:20240926T180000
DTEND;TZID=UTC:20240926T210000
DTSTAMP:20260423T155409
CREATED:20240909T211843Z
LAST-MODIFIED:20240909T221306Z
UID:10000108-1727373600-1727384400@larealestatemarketing.com
SUMMARY:ULI YLG End of Summer Rooftop Social
DESCRIPTION:As summer comes to a close\, get ready to join us for an unforgettable evening of networking\, camaraderie\, and celebration at our marquee event of the season – YLG’s Summer Social!
URL:https://larealestatemarketing.com/event/uli-ylg-end-of-summer-rooftop-social-4/
LOCATION:HLW International\, 1437 4th Street\, Santa Monica\, CA\, 90401\, USA
CATEGORIES:Event
ATTACH;FMTTYPE=image/jpeg:https://larealestatemarketing.com/wp-content/uploads/2024/07/LAREM_event_calendar_stock_v5.jpg
GEO:34.0185;-118.4912
X-APPLE-STRUCTURED-LOCATION;VALUE=URI;X-ADDRESS=HLW International 1437 4th Street Santa Monica CA 90401 USA;X-APPLE-RADIUS=500;X-TITLE=1437 4th Street:geo:-118.4912,34.0185
END:VEVENT
BEGIN:VEVENT
DTSTART;TZID=UTC:20241114T170000
DTEND;TZID=UTC:20241114T200000
DTSTAMP:20260423T155409
CREATED:20241106T194802Z
LAST-MODIFIED:20241106T203855Z
UID:10000178-1731603600-1731614400@larealestatemarketing.com
SUMMARY:NAIOP YPG Alumni Happy Hour
DESCRIPTION:The YPG Alumni Happy Hour is set for November 14\, 2024\, from 5 PM to 8 PM at Alley Lounge in Culver City. This event offers free registration for young professionals in the NAIOP Southern California group. Join us for a fantastic evening of networking with peers\, and enjoy your first two drinks courtesy of the hosts!
URL:https://larealestatemarketing.com/event/naiop-ypg-alumni-happy-hour-2/
CATEGORIES:Networking
ATTACH;FMTTYPE=image/jpeg:https://larealestatemarketing.com/wp-content/uploads/2024/07/LAREM_event_calendar_stock_v20.jpg
ORGANIZER;CN="NAIOP SoCal":MAILTO:info@naiopsocal.org
END:VEVENT
BEGIN:VEVENT
DTSTART;TZID=UTC:20241205T173000
DTEND;TZID=UTC:20241205T193000
DTSTAMP:20260423T155409
CREATED:20241106T083544Z
LAST-MODIFIED:20241106T201636Z
UID:10000149-1733419800-1733427000@larealestatemarketing.com
SUMMARY:ULI OC/IE YLG Holiday Giveback Happy Hour
DESCRIPTION:Celebrate the season of giving at the ULI Orange County/Inland Empire’s YLG Holiday Giveback Happy Hour! Join us for an evening of community and cheer as we raise funds for HIS-OC\, supporting essential services for those experiencing homelessness. All proceeds will directly benefit HIS-OC\, making a meaningful impact this holiday season. Let’s come together to spread joy and give back!
URL:https://larealestatemarketing.com/event/uli-oc-ie-ylg-holiday-giveback-happy-hour/
CATEGORIES:Event
ATTACH;FMTTYPE=image/jpeg:https://larealestatemarketing.com/wp-content/uploads/2024/09/la_real_estate_marketing_events_9-30-10-3_v4.jpg
END:VEVENT
BEGIN:VEVENT
DTSTART;TZID=UTC:20250402T173000
DTEND;TZID=UTC:20250402T193000
DTSTAMP:20260423T155409
CREATED:20250326T122306Z
LAST-MODIFIED:20250326T122306Z
UID:10000197-1743615000-1743622200@larealestatemarketing.com
SUMMARY:2025 LA Spring Membership Mixer
DESCRIPTION:Don’t miss the 2025 NAIOP SoCal Spring Membership Mixer on April 2nd\, from 5:30 PM to 7:30 PM PDT\, at Citizen Public Market in Culver City. This exciting networking event brings together industry professionals in a lively setting. Expand your network\, connect with like-minded individuals\, and engage with the local commercial real estate community. Join us for a vibrant evening in one of LA’s popular venues—mark your calendar now!
URL:https://larealestatemarketing.com/event/2025-la-spring-membership-mixer/
CATEGORIES:Mixer
ATTACH;FMTTYPE=image/jpeg:https://larealestatemarketing.com/wp-content/uploads/2024/07/LAREM_event_calendar_stock_v10.jpg
ORGANIZER;CN="NAIOP SoCal":MAILTO:info@naiopsocal.org
END:VEVENT
BEGIN:VEVENT
DTSTART;TZID=UTC:20250424T173000
DTEND;TZID=UTC:20250424T203000
DTSTAMP:20260423T155409
CREATED:20250326T122348Z
LAST-MODIFIED:20250326T122348Z
UID:10000210-1745515800-1745526600@larealestatemarketing.com
SUMMARY:2025 Real Estate Roundup Mixer - BIA / CREW / YPG / ULI Joint Event
DESCRIPTION:The 2025 Real Estate Roundup Mixer is happening on Thursday\, April 24th\, from 5:30 PM to 8:30 PM PDT at Hangar 24 in Irvine. Join NAIOP YPG\, CREW OC\, and ULI members for a relaxing evening on the lawn\, featuring delicious food\, drinks\, and fantastic networking opportunities. Soak in the sunset and mingle with industry professionals from the real estate sector in a laid-back\, social setting. Don’t miss out on this chance to connect with your peers and enjoy a fun-filled evening!
URL:https://larealestatemarketing.com/event/2025-real-estate-roundup-mixer-bia-crew-ypg-uli-joint-event/
CATEGORIES:Mixer
ATTACH;FMTTYPE=image/jpeg:https://larealestatemarketing.com/wp-content/uploads/2024/07/LAREM_event_calendar_stock_v21.jpg
ORGANIZER;CN="NAIOP SoCal":MAILTO:info@naiopsocal.org
END:VEVENT
BEGIN:VEVENT
DTSTART;TZID=UTC:20250522T173000
DTEND;TZID=UTC:20250522T200000
DTSTAMP:20260423T155409
CREATED:20250326T122454Z
LAST-MODIFIED:20250326T122454Z
UID:10000219-1747935000-1747944000@larealestatemarketing.com
SUMMARY:Wine Around the World Experience
DESCRIPTION:The “Wine Around the World Experience” on May 22\, 2025\, at Entrada in Culver City is the perfect event for wine lovers. Enjoy a first-class journey through some of the world’s finest wine regions\, including California\, Argentina\, France\, Italy\, Spain\, and South Africa. Each wine will be paired with gourmet accoutrements to enhance your tasting experience. This relaxed and fun event allows you to compare regional styles\, discover new favorites\, and celebrate the rich flavors of wine in an exciting atmosphere. Early bird registration is available for members and non-members\, with sponsorship opportunities for businesses to get involved.
URL:https://larealestatemarketing.com/event/wine-around-the-world-experience/
CATEGORIES:Event
ATTACH;FMTTYPE=image/jpeg:https://larealestatemarketing.com/wp-content/uploads/2024/07/LAREM_event_calendar_stock_v12.jpg
ORGANIZER;CN="BOMA Greater LA":MAILTO:info@bomagla.org
END:VEVENT
END:VCALENDAR