BEGIN:VCALENDAR
VERSION:2.0
PRODID:-//LA Real Estate Marketing - ECPv6.15.20//NONSGML v1.0//EN
CALSCALE:GREGORIAN
METHOD:PUBLISH
X-WR-CALNAME:LA Real Estate Marketing
X-ORIGINAL-URL:https://larealestatemarketing.com
X-WR-CALDESC:Events for LA Real Estate Marketing
REFRESH-INTERVAL;VALUE=DURATION:PT1H
X-Robots-Tag:noindex
X-PUBLISHED-TTL:PT1H
BEGIN:VTIMEZONE
TZID:UTC
BEGIN:STANDARD
TZOFFSETFROM:+0000
TZOFFSETTO:+0000
TZNAME:UTC
DTSTART:19690101T000000
END:STANDARD
END:VTIMEZONE
BEGIN:VEVENT
DTSTART;TZID=UTC:20250813T080000
DTEND;TZID=UTC:20250813T130000
DTSTAMP:20260423T154427
CREATED:20250714T191128Z
LAST-MODIFIED:20250714T191128Z
UID:10000240-1755072000-1755090000@larealestatemarketing.com
SUMMARY:Bisnow SoCal Healthcare Real Estate Conference
DESCRIPTION:Join industry leaders at the Hilton Culver City for a full-day summit focused on healthcare real estate trends across LA\, Orange County\, and San Diego. Sessions will cover outpatient facility demand\, capital strategies\, seismic mandates\, and the integration of design\, policy\, and technology. Network with developers\, providers\, architects\, and investors shaping the future of patient-centered real estate.
URL:https://larealestatemarketing.com/event/bisnow-socal-healthcare-real-estate-conference/
LOCATION:Hilton Los Angeles Culver City\, 6161 West Centinela Ave\, Culver City\, CA\, 90230\, USA
CATEGORIES:Conference
ATTACH;FMTTYPE=image/jpeg:https://larealestatemarketing.com/wp-content/uploads/2024/07/LAREM_event_calendar_stock_v26.jpg
END:VEVENT
BEGIN:VEVENT
DTSTART;TZID=UTC:20241024T100000
DTEND;TZID=UTC:20241024T170000
DTSTAMP:20260423T154427
CREATED:20240812T123337Z
LAST-MODIFIED:20241020T161408Z
UID:10000087-1729764000-1729789200@larealestatemarketing.com
SUMMARY:Southern California Healthcare Real Estate Summit
DESCRIPTION:The Southern California Healthcare Real Estate Summit promises a comprehensive look at the region’s healthcare real estate sector. With a focus on facilities of the future and hospital upgrades\, the summit will address pressing issues such as prioritizing patient care and investing in the right locations across Los Angeles\, Orange County\, and San Diego. \nKey topics include innovative financing strategies\, adapting to new legislation\, and the shift towards outpatient care settings. Join top industry professionals for discussions on how to navigate and capitalize on the evolving healthcare real estate landscape\, and network with leaders in healthcare systems\, development\, investment\, and more.
URL:https://larealestatemarketing.com/event/southern-california-healthcare-real-estate-summit/
LOCATION:CA
CATEGORIES:Conference
ATTACH;FMTTYPE=image/jpeg:https://larealestatemarketing.com/wp-content/uploads/2024/08/Bundled-Services-2000-x-1250-14.jpg
END:VEVENT
BEGIN:VEVENT
DTSTART;TZID=UTC:20240911T090000
DTEND;TZID=UTC:20240911T170000
DTSTAMP:20260423T154427
CREATED:20240731T201928Z
LAST-MODIFIED:20240909T214448Z
UID:10000018-1726045200-1726074000@larealestatemarketing.com
SUMMARY:Connect Healthcare Real Estate 2024
DESCRIPTION:Sit-in with industry leading experts as they share insights and forecasts on todays CRE markets. This events panelists include:
URL:https://larealestatemarketing.com/event/connect-healthcare-real-estate-2024/
LOCATION:Hyatt Regency Irvine\, 17900 Jamboree Rd\, Irvine\, 92614\, USA
CATEGORIES:Conference
ATTACH;FMTTYPE=image/jpeg:https://larealestatemarketing.com/wp-content/uploads/2024/07/LAREM_event_calendar_stock_v2.jpg
END:VEVENT
BEGIN:VEVENT
DTSTART;TZID=UTC:20240809T080000
DTEND;TZID=UTC:20240809T143000
DTSTAMP:20260423T154427
CREATED:20240731T201854Z
LAST-MODIFIED:20240819T214207Z
UID:10000006-1723190400-1723213800@larealestatemarketing.com
SUMMARY:The MLS Summit 2024
DESCRIPTION:Join us for a day filled with innovation\, networking\, and learning. This in-person event will take place at the beautiful Skirball Cultural Center on Fri Aug 09 2024 starting at 08:00 AM.
URL:https://larealestatemarketing.com/event/the-mls-summit-2024/
LOCATION:Skirball Cultural Center\, 2701 North Sepulveda Boulevard\, Los Angeles\, CA\, 90049\, USA
CATEGORIES:Conference
ATTACH;FMTTYPE=image/jpeg:https://larealestatemarketing.com/wp-content/uploads/2024/07/LAREM_event_calendar_stock_v5.jpg
ORGANIZER;CN="LAAR":MAILTO:info@laar.org
END:VEVENT
BEGIN:VEVENT
DTSTART;TZID=UTC:20240806T090000
DTEND;TZID=UTC:20240806T170000
DTSTAMP:20260423T154427
CREATED:20240731T201852Z
LAST-MODIFIED:20240819T214205Z
UID:10000004-1722934800-1722963600@larealestatemarketing.com
SUMMARY:AREAA GLA Super Summit
DESCRIPTION:Join AREAA on August 6th\, 2024\, at the iconic SoFi Stadium. GLAR members are invited to attend for FREE with code: GLAFriends (case sensitive) This premier event is designed to deliver unparalleled value to a diverse array of real estate professionals.
URL:https://larealestatemarketing.com/event/areaa-gla-super-summit/
LOCATION:SoFi Stadium\, 1001 Stadium Dr.\, Inglewood\, CA\, 90301\, USA
CATEGORIES:Conference
ATTACH;FMTTYPE=image/jpeg:https://larealestatemarketing.com/wp-content/uploads/2024/07/LAREM_event_calendar_stock_v3.jpg
ORGANIZER;CN="LAAR":MAILTO:info@laar.org
END:VEVENT
BEGIN:VEVENT
DTSTART;TZID=UTC:20260423T154427
DTEND;TZID=UTC:20260423T154427
DTSTAMP:20260423T154427
CREATED:20240909T202058Z
LAST-MODIFIED:20240909T202058Z
UID:10000106-0-0@larealestatemarketing.com
SUMMARY:Southern California Healthcare Real Estate Summit
DESCRIPTION:The Southern California Healthcare Real Estate Summit promises a comprehensive look at the region’s healthcare real estate sector. With a focus on facilities of the future and hospital upgrades\, the summit will address pressing issues such as prioritizing patient care and investing in the right locations across Los Angeles\, Orange County\, and San Diego. Key topics include innovative financing strategies\, adapting to new legislation\, and the shift towards outpatient care settings. Join top industry professionals for discussions on how to navigate and capitalize on the evolving healthcare real estate landscape\, and network with leaders in healthcare systems\, development\, investment\, and more.
URL:https://larealestatemarketing.com/event/southern-california-healthcare-real-estate-summit-2/
LOCATION:Hilton Los Angeles Culver City\, 6161 West Centinela Ave\, Culver City\, CA\, 90230\, USA
CATEGORIES:Conference
ATTACH;FMTTYPE=image/jpeg:https://larealestatemarketing.com/wp-content/uploads/2024/07/LAREM_event_calendar_stock_v26.jpg
END:VEVENT
END:VCALENDAR