BEGIN:VCALENDAR
VERSION:2.0
PRODID:-//LA Real Estate Marketing - ECPv6.15.20//NONSGML v1.0//EN
CALSCALE:GREGORIAN
METHOD:PUBLISH
X-WR-CALNAME:LA Real Estate Marketing
X-ORIGINAL-URL:https://larealestatemarketing.com
X-WR-CALDESC:Events for LA Real Estate Marketing
REFRESH-INTERVAL;VALUE=DURATION:PT1H
X-Robots-Tag:noindex
X-PUBLISHED-TTL:PT1H
BEGIN:VTIMEZONE
TZID:UTC
BEGIN:STANDARD
TZOFFSETFROM:+0000
TZOFFSETTO:+0000
TZNAME:UTC
DTSTART:20240101T000000
END:STANDARD
END:VTIMEZONE
BEGIN:VEVENT
DTSTART;TZID=UTC:20250917T083000
DTEND;TZID=UTC:20250917T093000
DTSTAMP:20260423T170732
CREATED:20250714T191123Z
LAST-MODIFIED:20250714T191123Z
UID:10000237-1758097800-1758101400@larealestatemarketing.com
SUMMARY:ULI OC/IE: IE New Member Coffee
DESCRIPTION:Join ULI Orange County/Inland Empire for a relaxed\, informative coffee event designed for new and prospective members. Learn more about the district council\, connect with professionals in real estate and land use\, and explore ways to engage with ULI locally. Hosted at Fuscoe Engineering.
URL:https://larealestatemarketing.com/event/uli-oc-ie-ie-new-member-coffee/
LOCATION:Fuscoe Engineering\, 15535 Sand Canyon Ave\, Irvine\, 92618\, USA
CATEGORIES:Event
ATTACH;FMTTYPE=image/jpeg:https://larealestatemarketing.com/wp-content/uploads/2024/07/LAREM_event_calendar_stock_v23.jpg
END:VEVENT
END:VCALENDAR