BEGIN:VCALENDAR
VERSION:2.0
PRODID:-//LA Real Estate Marketing - ECPv6.15.20//NONSGML v1.0//EN
CALSCALE:GREGORIAN
METHOD:PUBLISH
X-WR-CALNAME:LA Real Estate Marketing
X-ORIGINAL-URL:https://larealestatemarketing.com
X-WR-CALDESC:Events for LA Real Estate Marketing
REFRESH-INTERVAL;VALUE=DURATION:PT1H
X-Robots-Tag:noindex
X-PUBLISHED-TTL:PT1H
BEGIN:VTIMEZONE
TZID:UTC
BEGIN:STANDARD
TZOFFSETFROM:+0000
TZOFFSETTO:+0000
TZNAME:UTC
DTSTART:20240101T000000
END:STANDARD
END:VTIMEZONE
BEGIN:VEVENT
DTSTART;TZID=UTC:20250807T180000
DTEND;TZID=UTC:20250807T203000
DTSTAMP:20260423T160311
CREATED:20250714T192339Z
LAST-MODIFIED:20250714T192339Z
UID:10000273-1754589600-1754598600@larealestatemarketing.com
SUMMARY:Best Places to Work Awards 2025
DESCRIPTION:Join the Los Angeles Business Journal for the 19th Annual Best Places to Work Awards on August 7th at the historic Biltmore Los Angeles. This event honors the most outstanding companies in the region\, based on a comprehensive survey conducted by Workforce Research Group\, highlighting leadership\, culture\, and employee satisfaction.
URL:https://larealestatemarketing.com/event/best-places-to-work-awards-2025/
CATEGORIES:Awards
ATTACH;FMTTYPE=image/jpeg:https://larealestatemarketing.com/wp-content/uploads/2024/07/LAREM_event_calendar_stock_v7.jpg
END:VEVENT
BEGIN:VEVENT
DTSTART;TZID=UTC:20250814T143000
DTEND;TZID=UTC:20250814T180000
DTSTAMP:20260423T160311
CREATED:20250714T192541Z
LAST-MODIFIED:20250714T192541Z
UID:10000278-1755181800-1755194400@larealestatemarketing.com
SUMMARY:Real Estate Trends Forum + Social
DESCRIPTION:The Los Angeles Business Journal’s 3rd Annual Real Estate Trends Forum + Social will feature top commercial real estate experts discussing key market sectors\, including office\, industrial\, development\, and technology trends. Network with industry leaders and stay ahead of market shifts. Includes a 6-month LABJ subscription.
URL:https://larealestatemarketing.com/event/real-estate-trends-forum-social/
CATEGORIES:Development,Networking,Real Estate
ATTACH;FMTTYPE=image/jpeg:https://larealestatemarketing.com/wp-content/uploads/2024/07/LAREM_event_calendar_stock_v12.jpg
END:VEVENT
END:VCALENDAR