BEGIN:VCALENDAR
VERSION:2.0
PRODID:-//LA Real Estate Marketing - ECPv6.15.20//NONSGML v1.0//EN
CALSCALE:GREGORIAN
METHOD:PUBLISH
X-WR-CALNAME:LA Real Estate Marketing
X-ORIGINAL-URL:https://larealestatemarketing.com
X-WR-CALDESC:Events for LA Real Estate Marketing
REFRESH-INTERVAL;VALUE=DURATION:PT1H
X-Robots-Tag:noindex
X-PUBLISHED-TTL:PT1H
BEGIN:VTIMEZONE
TZID:UTC
BEGIN:STANDARD
TZOFFSETFROM:+0000
TZOFFSETTO:+0000
TZNAME:UTC
DTSTART:20240101T000000
END:STANDARD
END:VTIMEZONE
BEGIN:VEVENT
DTSTART;TZID=UTC:20250910T173000
DTEND;TZID=UTC:20250910T193000
DTSTAMP:20260423T154135
CREATED:20250714T191120Z
LAST-MODIFIED:20250714T191120Z
UID:10000236-1757525400-1757532600@larealestatemarketing.com
SUMMARY:ULI OC/IE: Chair's Reception
DESCRIPTION:Celebrate the leadership transition of ULI Orange County/Inland Empire at the Chair’s Reception. Welcome incoming Chair Rob Reitenour of Lowe and honor outgoing Chair Aram Chahbazian of TCA Architects. Enjoy networking\, drinks\, and discussion of the future of land use and development in the region. Sponsorships available.
URL:https://larealestatemarketing.com/event/uli-oc-ie-chairs-reception/
CATEGORIES:Event
ATTACH;FMTTYPE=image/jpeg:https://larealestatemarketing.com/wp-content/uploads/2024/07/LAREM_event_calendar_stock_v22.jpg
END:VEVENT
BEGIN:VEVENT
DTSTART;TZID=UTC:20250909T160000
DTEND;TZID=UTC:20250909T190000
DTSTAMP:20260423T154135
CREATED:20250714T192144Z
LAST-MODIFIED:20250714T192144Z
UID:10000271-1757433600-1757444400@larealestatemarketing.com
SUMMARY:CREW LA Honors Allison Lynch
DESCRIPTION:Join CREW LA for a cocktail reception honoring Allison Lynch\, COO of Primestor\, for her mentorship\, leadership\, and dedication to advancing women in commercial real estate. Includes cocktails\, hors d’oeuvres\, networking\, and speakers. A portion of proceeds benefit CREW Network Foundation and AltadenaGirls.org.
URL:https://larealestatemarketing.com/event/crew-la-honors-allison-lynch/
CATEGORIES:Celebration
ATTACH;FMTTYPE=image/jpeg:https://larealestatemarketing.com/wp-content/uploads/2024/07/LAREM_event_calendar_stock_v5.jpg
END:VEVENT
END:VCALENDAR