BEGIN:VCALENDAR
VERSION:2.0
PRODID:-//LA Real Estate Marketing - ECPv6.15.20//NONSGML v1.0//EN
CALSCALE:GREGORIAN
METHOD:PUBLISH
X-WR-CALNAME:LA Real Estate Marketing
X-ORIGINAL-URL:https://larealestatemarketing.com
X-WR-CALDESC:Events for LA Real Estate Marketing
REFRESH-INTERVAL;VALUE=DURATION:PT1H
X-Robots-Tag:noindex
X-PUBLISHED-TTL:PT1H
BEGIN:VTIMEZONE
TZID:UTC
BEGIN:STANDARD
TZOFFSETFROM:+0000
TZOFFSETTO:+0000
TZNAME:UTC
DTSTART:20230101T000000
END:STANDARD
END:VTIMEZONE
BEGIN:VEVENT
DTSTART;TZID=UTC:20240924T080000
DTEND;TZID=UTC:20240924T110000
DTSTAMP:20260423T154654
CREATED:20240812T123233Z
LAST-MODIFIED:20240909T221115Z
UID:10000086-1727164800-1727175600@larealestatemarketing.com
SUMMARY:Bisnow: Healthcare Industry Summit
DESCRIPTION:Healthcare industry leaders discuss the future of medical facilities\, hospital upgrades\, and patient care in Los Angeles\, Orange County\, and San Diego. This event will bring together industry leaders to explore innovative financing strategies\, hospital expansions\, and the impact of technology on healthcare construction and design. Attendees will gain insights into market trends\, investment opportunities\, and the evolving needs of healthcare real estate.
URL:https://larealestatemarketing.com/event/los-angeles-state-of-the-market-conference/
CATEGORIES:Conference
ATTACH;FMTTYPE=image/jpeg:https://larealestatemarketing.com/wp-content/uploads/2024/07/LAREM_event_calendar_stock_v3.jpg
END:VEVENT
BEGIN:VEVENT
DTSTART;TZID=UTC:20250917T080000
DTEND;TZID=UTC:20250917T113000
DTSTAMP:20260423T154654
CREATED:20250714T191153Z
LAST-MODIFIED:20250714T191153Z
UID:10000242-1758096000-1758108600@larealestatemarketing.com
SUMMARY:Bisnow DTLA CRE Market Update
DESCRIPTION:This Bisnow summit provides a pulse check on DTLA’s evolving commercial landscape. Held at 601 Figueroa\, the program features panels on development\, tenant trends\, adaptive reuse\, and economic opportunities across neighborhoods like the Arts District\, Civic Center\, South Park\, and more. Speakers include leaders from Related California\, Lincoln Property Co.\, LA City Planning\, and the DTLA Alliance.
URL:https://larealestatemarketing.com/event/bisnow-dtla-cre-market-update/
CATEGORIES:Market Update
ATTACH;FMTTYPE=image/jpeg:https://larealestatemarketing.com/wp-content/uploads/2024/07/LAREM_event_calendar_stock_v2.jpg
END:VEVENT
END:VCALENDAR