BEGIN:VCALENDAR
VERSION:2.0
PRODID:-//LA Real Estate Marketing - ECPv6.15.20//NONSGML v1.0//EN
CALSCALE:GREGORIAN
METHOD:PUBLISH
X-ORIGINAL-URL:https://larealestatemarketing.com
X-WR-CALDESC:Events for LA Real Estate Marketing
REFRESH-INTERVAL;VALUE=DURATION:PT1H
X-Robots-Tag:noindex
X-PUBLISHED-TTL:PT1H
BEGIN:VTIMEZONE
TZID:UTC
BEGIN:STANDARD
TZOFFSETFROM:+0000
TZOFFSETTO:+0000
TZNAME:UTC
DTSTART:20240101T000000
END:STANDARD
END:VTIMEZONE
BEGIN:VEVENT
DTSTART;TZID=UTC:20250806T080000
DTEND;TZID=UTC:20250806T100000
DTSTAMP:20260423T151720
CREATED:20250714T191111Z
LAST-MODIFIED:20250714T191111Z
UID:10000233-1754467200-1754474400@larealestatemarketing.com
SUMMARY:ULI LA: Not Your Grandparents' Senior Housing
DESCRIPTION:Join ULI Los Angeles for an insightful discussion on the critical issue of affordable housing for seniors. This panel event will cover innovative design\, financing\, and policy solutions for aging populations\, including real-world case studies.
URL:https://larealestatemarketing.com/event/uli-la-not-your-grandparents-senior-housing/
CATEGORIES:Event
ATTACH;FMTTYPE=image/jpeg:https://larealestatemarketing.com/wp-content/uploads/2024/07/LAREM_event_calendar_stock_v19.jpg
END:VEVENT
BEGIN:VEVENT
DTSTART;TZID=UTC:20250807T173000
DTEND;TZID=UTC:20250807T193000
DTSTAMP:20260423T151720
CREATED:20250714T191117Z
LAST-MODIFIED:20250714T191117Z
UID:10000234-1754587800-1754595000@larealestatemarketing.com
SUMMARY:ULI LA: cityLAB-UCLA Presents “Small Lots\, Big Impact”
DESCRIPTION:LA for a deep dive into small-lot housing innovation with cityLAB–UCLA. Explore winning RFQ designs and learn how to engage in L.A.’s housing transformation.
URL:https://larealestatemarketing.com/event/uli-la-citylab-ucla-presents-small-lots-big-impact/
CATEGORIES:Event
ATTACH;FMTTYPE=image/jpeg:https://larealestatemarketing.com/wp-content/uploads/2024/07/LAREM_event_calendar_stock_v20.jpg
END:VEVENT
BEGIN:VEVENT
DTSTART;TZID=UTC:20251008T080000
DTEND;TZID=UTC:20251008T153000
DTSTAMP:20260423T151720
CREATED:20250714T191155Z
LAST-MODIFIED:20250714T191155Z
UID:10000243-1759910400-1759937400@larealestatemarketing.com
SUMMARY:Bisnow LA CRE State of the Market Conference
DESCRIPTION:This full-day Bisnow summit brings together leaders in investment\, development\, construction\, and public policy to examine the state of Los Angeles’ CRE market. Topics include trade policy\, zoning reform\, mega-event impacts\, and investment trends across asset classes. Keynote from Ethan Penner and panels featuring leaders from Invesco\, Brookfield\, LASEC\, and more.
URL:https://larealestatemarketing.com/event/bisnow-la-cre-state-of-the-market-conference/
CATEGORIES:Conference
ATTACH;FMTTYPE=image/jpeg:https://larealestatemarketing.com/wp-content/uploads/2024/07/LAREM_event_calendar_stock_v3.jpg
END:VEVENT
BEGIN:VEVENT
DTSTART;TZID=UTC:20251112T080000
DTEND;TZID=UTC:20251113T130000
DTSTAMP:20260423T151720
CREATED:20250714T191157Z
LAST-MODIFIED:20250714T191157Z
UID:10000244-1762934400-1763038800@larealestatemarketing.com
SUMMARY:Bisnow Multifamily Annual Conference West (MAC West)
DESCRIPTION:Bisnow’s signature West Coast multifamily event returns Nov 12–13 at the Hilton Universal City. Over two days\, top executives and public officials will discuss housing solutions\, capital markets\, adaptive reuse\, TODs\, ESG\, and resident engagement across LA\, OC\, and SD. Speakers include SDS Capital\, National CORE\, Hines\, LAHD\, and more.
URL:https://larealestatemarketing.com/event/bisnow-multifamily-annual-conference-west-mac-west/
CATEGORIES:Conference
ATTACH;FMTTYPE=image/jpeg:https://larealestatemarketing.com/wp-content/uploads/2024/07/LAREM_event_calendar_stock_v4.jpg
END:VEVENT
END:VCALENDAR