BEGIN:VCALENDAR
VERSION:2.0
PRODID:-//LA Real Estate Marketing - ECPv6.15.20//NONSGML v1.0//EN
CALSCALE:GREGORIAN
METHOD:PUBLISH
X-ORIGINAL-URL:https://larealestatemarketing.com
X-WR-CALDESC:Events for LA Real Estate Marketing
REFRESH-INTERVAL;VALUE=DURATION:PT1H
X-Robots-Tag:noindex
X-PUBLISHED-TTL:PT1H
BEGIN:VTIMEZONE
TZID:UTC
BEGIN:STANDARD
TZOFFSETFROM:+0000
TZOFFSETTO:+0000
TZNAME:UTC
DTSTART:20240101T000000
END:STANDARD
END:VTIMEZONE
BEGIN:VEVENT
DTSTART;TZID=UTC:20250731T180000
DTEND;TZID=UTC:20250731T200000
DTSTAMP:20260423T154249
CREATED:20250714T192142Z
LAST-MODIFIED:20250714T192142Z
UID:10000270-1753984800-1753992000@larealestatemarketing.com
SUMMARY:Summer Social
DESCRIPTION:Join CREW LA for a vibrant summer social in Marina del Rey. Enjoy food\, drinks\, and networking in a relaxed atmosphere at The Penmar. Make new connections\, strengthen old ones\, and celebrate summer with fellow commercial real estate professionals.
URL:https://larealestatemarketing.com/event/summer-social/
CATEGORIES:Networking
ATTACH;FMTTYPE=image/jpeg:https://larealestatemarketing.com/wp-content/uploads/2024/07/LAREM_event_calendar_stock_v4.jpg
END:VEVENT
BEGIN:VEVENT
DTSTART;TZID=UTC:20250806T080000
DTEND;TZID=UTC:20250806T100000
DTSTAMP:20260423T154249
CREATED:20250714T191111Z
LAST-MODIFIED:20250714T191111Z
UID:10000233-1754467200-1754474400@larealestatemarketing.com
SUMMARY:ULI LA: Not Your Grandparents' Senior Housing
DESCRIPTION:Join ULI Los Angeles for an insightful discussion on the critical issue of affordable housing for seniors. This panel event will cover innovative design\, financing\, and policy solutions for aging populations\, including real-world case studies.
URL:https://larealestatemarketing.com/event/uli-la-not-your-grandparents-senior-housing/
CATEGORIES:Event
ATTACH;FMTTYPE=image/jpeg:https://larealestatemarketing.com/wp-content/uploads/2024/07/LAREM_event_calendar_stock_v19.jpg
END:VEVENT
BEGIN:VEVENT
DTSTART;TZID=UTC:20250813T080000
DTEND;TZID=UTC:20250813T130000
DTSTAMP:20260423T154249
CREATED:20250714T191128Z
LAST-MODIFIED:20250714T191128Z
UID:10000240-1755072000-1755090000@larealestatemarketing.com
SUMMARY:Bisnow SoCal Healthcare Real Estate Conference
DESCRIPTION:Join industry leaders at the Hilton Culver City for a full-day summit focused on healthcare real estate trends across LA\, Orange County\, and San Diego. Sessions will cover outpatient facility demand\, capital strategies\, seismic mandates\, and the integration of design\, policy\, and technology. Network with developers\, providers\, architects\, and investors shaping the future of patient-centered real estate.
URL:https://larealestatemarketing.com/event/bisnow-socal-healthcare-real-estate-conference/
LOCATION:Hilton Los Angeles Culver City\, 6161 West Centinela Ave\, Culver City\, CA\, 90230\, USA
CATEGORIES:Conference
ATTACH;FMTTYPE=image/jpeg:https://larealestatemarketing.com/wp-content/uploads/2024/07/LAREM_event_calendar_stock_v26.jpg
END:VEVENT
END:VCALENDAR