BEGIN:VCALENDAR
VERSION:2.0
PRODID:-//LA Real Estate Marketing - ECPv6.15.20//NONSGML v1.0//EN
CALSCALE:GREGORIAN
METHOD:PUBLISH
X-WR-CALNAME:LA Real Estate Marketing
X-ORIGINAL-URL:https://larealestatemarketing.com
X-WR-CALDESC:Events for LA Real Estate Marketing
REFRESH-INTERVAL;VALUE=DURATION:PT1H
X-Robots-Tag:noindex
X-PUBLISHED-TTL:PT1H
BEGIN:VTIMEZONE
TZID:UTC
BEGIN:STANDARD
TZOFFSETFROM:+0000
TZOFFSETTO:+0000
TZNAME:UTC
DTSTART:20230101T000000
END:STANDARD
END:VTIMEZONE
BEGIN:VEVENT
DTSTART;TZID=UTC:20241119T153000
DTEND;TZID=UTC:20241119T180000
DTSTAMP:20260423T164749
CREATED:20240812T123339Z
LAST-MODIFIED:20241110T205855Z
UID:10000088-1732030200-1732039200@larealestatemarketing.com
SUMMARY:Los Angeles Hospitality & Retail Summit
DESCRIPTION:Join us at the Los Angeles Hospitality & Retail Summit to explore the latest trends in hotel and retail development. Discover investment opportunities\, strategies for major events like the 2026 World Cup and 2028 Summer Olympics\, and shifts in consumer trends. Network with industry leaders and gain valuable insights to navigate the evolving landscape of hospitality and retail real estate.
URL:https://larealestatemarketing.com/event/los-angeles-hospitality-retail-summit/
CATEGORIES:Conference
ATTACH;FMTTYPE=image/jpeg:https://larealestatemarketing.com/wp-content/uploads/2024/08/Bundled-Services-2000-x-1250-12.jpg
END:VEVENT
END:VCALENDAR