BEGIN:VCALENDAR
VERSION:2.0
PRODID:-//LA Real Estate Marketing - ECPv6.15.20//NONSGML v1.0//EN
CALSCALE:GREGORIAN
METHOD:PUBLISH
X-ORIGINAL-URL:https://larealestatemarketing.com
X-WR-CALDESC:Events for LA Real Estate Marketing
REFRESH-INTERVAL;VALUE=DURATION:PT1H
X-Robots-Tag:noindex
X-PUBLISHED-TTL:PT1H
BEGIN:VTIMEZONE
TZID:UTC
BEGIN:STANDARD
TZOFFSETFROM:+0000
TZOFFSETTO:+0000
TZNAME:UTC
DTSTART:20240101T000000
END:STANDARD
END:VTIMEZONE
BEGIN:VEVENT
DTSTART;TZID=UTC:20251112T160000
DTEND;TZID=UTC:20251112T183000
DTSTAMP:20260423T154157
CREATED:20250714T191833Z
LAST-MODIFIED:20250714T191833Z
UID:10000258-1762963200-1762972200@larealestatemarketing.com
SUMMARY:Reverse Trade Show
DESCRIPTION:Join BOMA Greater LA for a dynamic “speed dating”–style trade show where Associate Members meet with property managers in timed one-on-one rotations. Property management companies receive complimentary booths. Afterward\, enjoy a lively networking mixer with food\, drinks\, and prizes.
URL:https://larealestatemarketing.com/event/reverse-trade-show/
CATEGORIES:Networking Events
ATTACH;FMTTYPE=image/jpeg:https://larealestatemarketing.com/wp-content/uploads/2024/07/LAREM_event_calendar_stock_v18.jpg
END:VEVENT
END:VCALENDAR