BEGIN:VCALENDAR
VERSION:2.0
PRODID:-//LA Real Estate Marketing - ECPv6.15.20//NONSGML v1.0//EN
CALSCALE:GREGORIAN
METHOD:PUBLISH
X-WR-CALNAME:LA Real Estate Marketing
X-ORIGINAL-URL:https://larealestatemarketing.com
X-WR-CALDESC:Events for LA Real Estate Marketing
REFRESH-INTERVAL;VALUE=DURATION:PT1H
X-Robots-Tag:noindex
X-PUBLISHED-TTL:PT1H
BEGIN:VTIMEZONE
TZID:UTC
BEGIN:STANDARD
TZOFFSETFROM:+0000
TZOFFSETTO:+0000
TZNAME:UTC
DTSTART:20240101T000000
END:STANDARD
END:VTIMEZONE
BEGIN:VEVENT
DTSTART;TZID=UTC:20250716T170000
DTEND;TZID=UTC:20250716T190000
DTSTAMP:20260423T154344
CREATED:20250714T191934Z
LAST-MODIFIED:20250714T191934Z
UID:10000262-1752685200-1752692400@larealestatemarketing.com
SUMMARY:CREW Connections Summer Mixer
DESCRIPTION:Join fellow CREW Orange County members and industry professionals for an evening of light bites\, drinks\, and summer vibes. Whether you’re a new or longtime member\, this mixer at Hangar 24 in Irvine is the perfect opportunity to build relationships and enjoy a casual\, seasonal gathering. Space is limited—RSVP today!
URL:https://larealestatemarketing.com/event/crew-connections-summer-mixer/
CATEGORIES:Networking
ATTACH;FMTTYPE=image/jpeg:https://larealestatemarketing.com/wp-content/uploads/2024/07/LAREM_event_calendar_stock_v22.jpg
END:VEVENT
END:VCALENDAR