BEGIN:VCALENDAR
VERSION:2.0
PRODID:-//LA Real Estate Marketing - ECPv6.15.20//NONSGML v1.0//EN
CALSCALE:GREGORIAN
METHOD:PUBLISH
X-WR-CALNAME:LA Real Estate Marketing
X-ORIGINAL-URL:https://larealestatemarketing.com
X-WR-CALDESC:Events for LA Real Estate Marketing
REFRESH-INTERVAL;VALUE=DURATION:PT1H
X-Robots-Tag:noindex
X-PUBLISHED-TTL:PT1H
BEGIN:VTIMEZONE
TZID:UTC
BEGIN:STANDARD
TZOFFSETFROM:+0000
TZOFFSETTO:+0000
TZNAME:UTC
DTSTART:19690101T000000
END:STANDARD
END:VTIMEZONE
BEGIN:VEVENT
DTSTART;TZID=UTC:20260423T172322
DTEND;TZID=UTC:20260423T172322
DTSTAMP:20260423T172322
CREATED:20240909T213732Z
LAST-MODIFIED:20240909T213732Z
UID:10000121-0-0@larealestatemarketing.com
SUMMARY:Conexiones: Hispanic Heritage Month Event
DESCRIPTION:
URL:https://larealestatemarketing.com/event/conexiones-hispanic-heritage-month-event/
END:VEVENT
BEGIN:VEVENT
DTSTART;TZID=UTC:20260423T172322
DTEND;TZID=UTC:20260423T172322
DTSTAMP:20260423T172322
CREATED:20240909T213629Z
LAST-MODIFIED:20240909T213629Z
UID:10000114-0-0@larealestatemarketing.com
SUMMARY:ULI Los Angeles: Capital Markets Summer Breakfast
DESCRIPTION:
URL:https://larealestatemarketing.com/event/uli-los-angeles-capital-markets-summer-breakfast-2/
END:VEVENT
BEGIN:VEVENT
DTSTART;TZID=UTC:20260423T172322
DTEND;TZID=UTC:20260423T172322
DTSTAMP:20260423T172322
CREATED:20240909T213614Z
LAST-MODIFIED:20240909T213614Z
UID:10000113-0-0@larealestatemarketing.com
SUMMARY:Meet and Greet with OFFICEUNTITLED
DESCRIPTION:
URL:https://larealestatemarketing.com/event/meet-and-greet-with-officeuntitled-2/
END:VEVENT
BEGIN:VEVENT
DTSTART;TZID=UTC:20241002T080000
DTEND;TZID=UTC:20241002T100000
DTSTAMP:20260423T172322
CREATED:20240909T213731Z
LAST-MODIFIED:20240930T210845Z
UID:10000120-1727856000-1727863200@larealestatemarketing.com
SUMMARY:ULI Los Angeles: StimULI - Getting it Done: Housing and Mixed-Use Development in Underinvested Communities
DESCRIPTION:Hear from a panel of experts discuss how to successfully finance projects in areas of the city long passed over by the real estate industry. Learn from successful case studies on how to achieve this while also building trust and support at the local level. Building healthy and affordable places in underinvested communities can be done profitably\, if approached with proper insight and knowledge.
URL:https://larealestatemarketing.com/event/housing-and-mixed-use-development-in-underinvested-communities/
LOCATION:3573 Hayden Ave\, 3573 Hayden Ave\, Culver City\, CA\, 90232
CATEGORIES:Event
ATTACH;FMTTYPE=image/jpeg:https://larealestatemarketing.com/wp-content/uploads/2024/01/venti-views-0YWaDPylkYA-unsplash-scaled.jpg
END:VEVENT
END:VCALENDAR