BEGIN:VCALENDAR
VERSION:2.0
PRODID:-//LA Real Estate Marketing - ECPv6.15.20//NONSGML v1.0//EN
CALSCALE:GREGORIAN
METHOD:PUBLISH
X-ORIGINAL-URL:https://larealestatemarketing.com
X-WR-CALDESC:Events for LA Real Estate Marketing
REFRESH-INTERVAL;VALUE=DURATION:PT1H
X-Robots-Tag:noindex
X-PUBLISHED-TTL:PT1H
BEGIN:VTIMEZONE
TZID:UTC
BEGIN:STANDARD
TZOFFSETFROM:+0000
TZOFFSETTO:+0000
TZNAME:UTC
DTSTART:19690101T000000
END:STANDARD
END:VTIMEZONE
BEGIN:VEVENT
DTSTART;TZID=UTC:20250625T100000
DTEND;TZID=UTC:20250625T200000
DTSTAMP:20260423T141939
CREATED:20250326T122855Z
LAST-MODIFIED:20250714T191058Z
UID:10000228-1750845600-1750881600@larealestatemarketing.com
SUMMARY:2025 BOMA OC Golf Classic
DESCRIPTION:BOMA OC’s 2025 Golf Classic will take place at the beautiful Pelican Hill Golf Club on June 25\, 2025. Enjoy a full day of networking\, golfing\, and celebrating with industry professionals. The event kicks off with a 10:00 AM registration and breakfast\, followed by a shotgun start at 12:00 PM. Afterward\, unwind at the 5:30 PM happy hour\, with the awards dinner starting at 6:00 PM. This event is a great way to enjoy the scenic South Course and connect with peers while competing for fun prizes. Early registration is encouraged as this event sells out quickly!
URL:https://larealestatemarketing.com/event/2025-boma-oc-golf-classic/
LOCATION:Pelican Hill Golf Club\, 22800 Pelican Hill Road South\, Newport Coast\, CA\, 92657\, USA
CATEGORIES:Event
ATTACH;FMTTYPE=image/jpeg:https://larealestatemarketing.com/wp-content/uploads/2024/07/LAREM_event_calendar_stock_v1.jpg
ORGANIZER;CN="BOMA OC":MAILTO:info@bomaoc.org
END:VEVENT
BEGIN:VEVENT
DTSTART;TZID=UTC:20241119T073000
DTEND;TZID=UTC:20241119T090000
DTSTAMP:20260423T141939
CREATED:20241106T194702Z
LAST-MODIFIED:20241106T194702Z
UID:10000167-1732001400-1732006800@larealestatemarketing.com
SUMMARY:BOMA OC Committee Meet & Greet
DESCRIPTION:Discover the benefits of BOMA Orange County membership at the Committee Meet & Greet on November 19\, 2024. This exclusive member-only event is a fantastic opportunity to connect with like-minded professionals\, explore various committee opportunities\, and enjoy breakfast. Learn how to maximize your involvement in our vibrant community and make the most of your BOMA OC membership!
URL:https://larealestatemarketing.com/event/boma-oc-committee-meet-greet-2/
LOCATION:Innovation Office Park\, 260 Progress\, Irvine\, 92618\, USA
CATEGORIES:Event
ATTACH;FMTTYPE=image/jpeg:https://larealestatemarketing.com/wp-content/uploads/2024/07/LAREM_event_calendar_stock_v16.jpg
ORGANIZER;CN="BOMA OC":MAILTO:info@bomaoc.org
END:VEVENT
BEGIN:VEVENT
DTSTART;TZID=UTC:20241108T180000
DTEND;TZID=UTC:20241108T230000
DTSTAMP:20260423T141939
CREATED:20240926T090345Z
LAST-MODIFIED:20241106T201925Z
UID:10000136-1731088800-1731106800@larealestatemarketing.com
SUMMARY:BOMA OC Awards of Excellence Gala
DESCRIPTION:BOMA OC invites you to the 41st Annual Awards of Excellence Gala hosted by BOMA Orange County. This prestigious event celebrates the remarkable achievements of the BOMA OC community\, including commercial real estate professionals and service partners. As we commemorate the successes of 2024 and look forward to new opportunities\, immerse yourself in an elegant evening of networking and connection. The gala will take place at the stunning Balboa Bay Club\, and formal black-tie attire is required. Don’t miss this premier celebration!
URL:https://larealestatemarketing.com/event/boma-oc-awards-of-excellence-gala/
CATEGORIES:Event
ATTACH;FMTTYPE=image/jpeg:https://larealestatemarketing.com/wp-content/uploads/2024/08/LAREM_Post_Fetured_party.jpg
ORGANIZER;CN="BOMA OC":MAILTO:info@bomaoc.org
END:VEVENT
BEGIN:VEVENT
DTSTART;TZID=UTC:20241002T170000
DTEND;TZID=UTC:20241002T203000
DTSTAMP:20260423T141939
CREATED:20240926T090344Z
LAST-MODIFIED:20240930T210605Z
UID:10000135-1727888400-1727901000@larealestatemarketing.com
SUMMARY:CRE Networking Scavenger Hunt
DESCRIPTION:Join BOMA OC for an exciting networking experience at Irvine Spectrum\, where teams will tackle photo\, video\, and trivia challenges\, followed by food\, drinks\, and awards at Umami Burger.
URL:https://larealestatemarketing.com/event/cre-networking-scavenger-hunt/
CATEGORIES:Event
ATTACH;FMTTYPE=image/jpeg:https://larealestatemarketing.com/wp-content/uploads/2024/09/la_real_estate_marketing_events_9-30-10-3_v3.jpg
ORGANIZER;CN="BOMA OC":MAILTO:info@bomaoc.org
END:VEVENT
BEGIN:VEVENT
DTSTART;TZID=UTC:20240919T173000
DTEND;TZID=UTC:20240919T200000
DTSTAMP:20260423T141939
CREATED:20240731T201930Z
LAST-MODIFIED:20240731T203659Z
UID:10000021-1726767000-1726776000@larealestatemarketing.com
SUMMARY:Sip\, Support & Socialize
DESCRIPTION:BOMA Orange County’s annual beer and wine reception will benefit the Government Affairs Committee. The event features live music\, appetizers\, and a chance to engage with top real estate professionals and influential local officials.
URL:https://larealestatemarketing.com/event/sip-support-socialize/
LOCATION:The Park at Lakeshore\, 18155 Von Karman Avenue\, Irvine\, CA\, 92614\, USA
CATEGORIES:Event
ATTACH;FMTTYPE=image/jpeg:https://larealestatemarketing.com/wp-content/uploads/2024/07/LAREM_event_calendar_stock_v20.jpg
ORGANIZER;CN="BOMA OC":MAILTO:info@bomaoc.org
END:VEVENT
BEGIN:VEVENT
DTSTART;TZID=UTC:20240815T110000
DTEND;TZID=UTC:20240815T133000
DTSTAMP:20260423T141939
CREATED:20240731T201903Z
LAST-MODIFIED:20240909T202048Z
UID:10000010-1723719600-1723728600@larealestatemarketing.com
SUMMARY:Transforming CRE - Innovations Fostering Developments in Efficiency
DESCRIPTION:Join us for an insightful exploration of how AI innovations are revolutionizing efficiency within Commercial Real Estate (CRE). Our expert panelists will discuss the latest technologies reshaping property management\, tenant experiences\, and operational efficiencies
URL:https://larealestatemarketing.com/event/transforming-cre-innovations-fostering-developments-in-efficiency/
LOCATION:The Westin – South Coast Plaza\, 686 Anton Blvd.\, Costa Mesa\, CA\, 92626\, USA
CATEGORIES:Event
ATTACH;FMTTYPE=image/jpeg:https://larealestatemarketing.com/wp-content/uploads/2024/07/LAREM_event_calendar_stock_v9.jpg
ORGANIZER;CN="BOMA OC":MAILTO:info@bomaoc.org
END:VEVENT
BEGIN:VEVENT
DTSTART;TZID=UTC:20240815T110000
DTEND;TZID=UTC:20240815T133000
DTSTAMP:20260423T141939
CREATED:20240731T201902Z
LAST-MODIFIED:20240909T202045Z
UID:10000009-1723719600-1723728600@larealestatemarketing.com
SUMMARY:BOMA OC Industry Luncheon
DESCRIPTION:BOMA OC is hosting an industry luncheon. Connect with BOMA OC for information on the event.
URL:https://larealestatemarketing.com/event/boma-oc-industry-luncheon/
LOCATION:The Westin – South Coast Plaza\, 686 Anton Blvd.\, Costa Mesa\, CA\, 92626\, USA
CATEGORIES:Networking
ATTACH;FMTTYPE=image/jpeg:https://larealestatemarketing.com/wp-content/uploads/2024/07/LAREM_event_calendar_stock_v12.jpg
ORGANIZER;CN="BOMA OC":MAILTO:info@bomaoc.org
END:VEVENT
BEGIN:VEVENT
DTSTART;TZID=UTC:20240806T113000
DTEND;TZID=UTC:20240806T130000
DTSTAMP:20260423T141939
CREATED:20240731T201851Z
LAST-MODIFIED:20240819T214205Z
UID:10000003-1722943800-1722949200@larealestatemarketing.com
SUMMARY:Lunch & Learn: The Unhoused and Commercial Real Estate
DESCRIPTION:Safeguarding Your Property: Legal\, Technological\, and Practical Response Strategies in Addressing Homelessness
URL:https://larealestatemarketing.com/event/lunch-learn-the-unhoused-and-commercial-real-estate/
LOCATION:Venture Park\, 36 Executive Park\, Irvine\, CA\, 92614\, USA
CATEGORIES:Event
ATTACH;FMTTYPE=image/jpeg:https://larealestatemarketing.com/wp-content/uploads/2024/07/LAREM_event_calendar_stock_v2.jpg
ORGANIZER;CN="BOMA OC":MAILTO:info@bomaoc.org
END:VEVENT
BEGIN:VEVENT
DTSTART;TZID=UTC:20260423T141939
DTEND;TZID=UTC:20260423T141939
DTSTAMP:20260423T141939
CREATED:20241106T184021Z
LAST-MODIFIED:20241106T184021Z
UID:10000154-0-0@larealestatemarketing.com
SUMMARY:BOMA OC Committee Meet & Greet
DESCRIPTION:Discover the benefits of BOMA Orange County membership at the Committee Meet & Greet on November 19\, 2024. This exclusive member-only event is a fantastic opportunity to connect with like-minded professionals\, explore various committee opportunities\, and enjoy breakfast. Learn how to maximize your involvement in our vibrant community and make the most of your BOMA OC membership!
URL:https://larealestatemarketing.com/event/boma-oc-committee-meet-greet/
LOCATION:Innovation Office Park\, 260 Progress\, Irvine\, 92618\, USA
CATEGORIES:Event
ATTACH;FMTTYPE=image/jpeg:https://larealestatemarketing.com/wp-content/uploads/2024/07/LAREM_event_calendar_stock_v16.jpg
ORGANIZER;CN="BOMA OC":MAILTO:info@bomaoc.org
END:VEVENT
BEGIN:VEVENT
DTSTART;TZID=UTC:20260423T141939
DTEND;TZID=UTC:20260423T141939
DTSTAMP:20260423T141939
CREATED:20240801T165123Z
LAST-MODIFIED:20240801T165123Z
UID:10000053-0-0@larealestatemarketing.com
SUMMARY:Sip\, Support & Socialize
DESCRIPTION:BOMA Orange County’s annual beer and wine reception will benefit the Government Affairs Committee. The event features live music\, appetizers\, and a chance to engage with top real estate professionals and influential local officials.
URL:https://larealestatemarketing.com/event/sip-support-socialize-2/
LOCATION:The Park at Lakeshore\, 18155 Von Karman Avenue\, Irvine\, CA\, 92614\, USA
CATEGORIES:Event
ATTACH;FMTTYPE=image/jpeg:https://larealestatemarketing.com/wp-content/uploads/2024/07/LAREM_event_calendar_stock_v20.jpg
ORGANIZER;CN="BOMA OC":MAILTO:info@bomaoc.org
END:VEVENT
BEGIN:VEVENT
DTSTART;TZID=UTC:20260423T141939
DTEND;TZID=UTC:20260423T141939
DTSTAMP:20260423T141939
CREATED:20240801T165055Z
LAST-MODIFIED:20240801T165055Z
UID:10000042-0-0@larealestatemarketing.com
SUMMARY:Transforming CRE - Innovations Fostering Developments in Efficiency
DESCRIPTION:This event will explore how artificial intelligence is transforming efficiency in commercial real estate. Expert panelists will discuss the latest technological advancements that are reshaping property management\, tenant interactions\, and operational processes.
URL:https://larealestatemarketing.com/event/transforming-cre-innovations-fostering-developments-in-efficiency-2/
LOCATION:The Westin – South Coast Plaza\, 686 Anton Blvd.\, Costa Mesa\, CA\, 92626\, USA
CATEGORIES:Event
ATTACH;FMTTYPE=image/jpeg:https://larealestatemarketing.com/wp-content/uploads/2024/07/LAREM_event_calendar_stock_v9.jpg
ORGANIZER;CN="BOMA OC":MAILTO:info@bomaoc.org
END:VEVENT
BEGIN:VEVENT
DTSTART;TZID=UTC:20260423T141939
DTEND;TZID=UTC:20260423T141939
DTSTAMP:20260423T141939
CREATED:20240801T165053Z
LAST-MODIFIED:20240801T165053Z
UID:10000041-0-0@larealestatemarketing.com
SUMMARY:BOMA OC Industry Luncheon
DESCRIPTION:BOMA OC is hosting an industry luncheon designed to foster connections among commercial real estate professionals. This event will provide updates on industry trends and offer networking opportunities with key figures in the BOMA OC community.
URL:https://larealestatemarketing.com/event/boma-oc-industry-luncheon-2/
LOCATION:The Westin – South Coast Plaza\, 686 Anton Blvd.\, Costa Mesa\, CA\, 92626\, USA
CATEGORIES:Networking
ATTACH;FMTTYPE=image/jpeg:https://larealestatemarketing.com/wp-content/uploads/2024/07/LAREM_event_calendar_stock_v8.jpg
ORGANIZER;CN="BOMA OC":MAILTO:info@bomaoc.org
END:VEVENT
BEGIN:VEVENT
DTSTART;TZID=UTC:20260423T141939
DTEND;TZID=UTC:20260423T141939
DTSTAMP:20260423T141939
CREATED:20240801T165032Z
LAST-MODIFIED:20240801T165032Z
UID:10000035-0-0@larealestatemarketing.com
SUMMARY:Lunch & Learn: The Unhoused and Commercial Real Estate
DESCRIPTION:This session will address the impact of homelessness on commercial real estate. It will cover legal\, technological\, and practical strategies for property owners to safeguard their investments while contributing to effective homelessness solutions.
URL:https://larealestatemarketing.com/event/lunch-learn-the-unhoused-and-commercial-real-estate-2/
LOCATION:Venture Park\, 36 Executive Park\, Irvine\, CA\, 92614\, USA
CATEGORIES:Event
ATTACH;FMTTYPE=image/jpeg:https://larealestatemarketing.com/wp-content/uploads/2024/07/LAREM_event_calendar_stock_v2.jpg
ORGANIZER;CN="BOMA OC":MAILTO:info@bomaoc.org
END:VEVENT
END:VCALENDAR