BEGIN:VCALENDAR
VERSION:2.0
PRODID:-//LA Real Estate Marketing - ECPv6.15.20//NONSGML v1.0//EN
CALSCALE:GREGORIAN
METHOD:PUBLISH
X-WR-CALNAME:LA Real Estate Marketing
X-ORIGINAL-URL:https://larealestatemarketing.com
X-WR-CALDESC:Events for LA Real Estate Marketing
REFRESH-INTERVAL;VALUE=DURATION:PT1H
X-Robots-Tag:noindex
X-PUBLISHED-TTL:PT1H
BEGIN:VTIMEZONE
TZID:UTC
BEGIN:STANDARD
TZOFFSETFROM:+0000
TZOFFSETTO:+0000
TZNAME:UTC
DTSTART:20230101T000000
END:STANDARD
END:VTIMEZONE
BEGIN:VEVENT
DTSTART;TZID=UTC:20250618T080000
DTEND;TZID=UTC:20250618T170000
DTSTAMP:20260423T142408
CREATED:20250326T122852Z
LAST-MODIFIED:20250326T122852Z
UID:10000226-1750233600-1750266000@larealestatemarketing.com
SUMMARY:Connect Los Angeles 2025
DESCRIPTION:Connect Los Angeles 2025\, on June 18\, 2025\, brings together industry leaders for a day of in-depth discussions and networking. This conference will cover crucial topics including economic updates\, capital markets\, financing in today’s market\, and the evolving world of adaptive reuse in commercial real estate. Attendees will gain valuable insights from experts like Bill Frame\, Lew Horne\, and Marc Renard\, while exploring the latest trends and opportunities in the CRE market. Don’t miss the chance to connect and learn from top influencers in the field.
URL:https://larealestatemarketing.com/event/connect-los-angeles-2025/
CATEGORIES:Conference
ATTACH;FMTTYPE=image/jpeg:https://larealestatemarketing.com/wp-content/uploads/2024/07/LAREM_event_calendar_stock_v5.jpg
END:VEVENT
BEGIN:VEVENT
DTSTART;TZID=UTC:20241106T140000
DTEND;TZID=UTC:20241106T170000
DTSTAMP:20260423T142408
CREATED:20241106T194222Z
LAST-MODIFIED:20241106T194314Z
UID:10000166-1730901600-1730912400@larealestatemarketing.com
SUMMARY:Connect Retail West 2024
DESCRIPTION:Get ready for an insightful day of networking and knowledge-sharing at Connect Retail West 2024! Scheduled for November 6\, 2024\, this in-person event will take place at the stunning Luxe Sunset Blvd Hotel in Los Angeles. It promises to be a must-attend gathering for anyone involved in the retail real estate sector. \nFrom 12:45 PM to 6:00 PM\, attendees will engage with industry leaders and gain valuable insights into the evolving landscape of retail real estate. The agenda is packed with exciting presentations and discussions that will explore current trends\, challenges\, and opportunities in the market. \n 
URL:https://larealestatemarketing.com/event/connect-retail-west-2024/
LOCATION:Luxe Sunset Blvd Hotel\, 11461 W Sunset Blvd\, Los Angeles\, CA\, 90049\, USA
CATEGORIES:Event
ATTACH;FMTTYPE=image/jpeg:https://larealestatemarketing.com/wp-content/uploads/2024/08/larem_stock_2000x1250_post_082024_v01.jpg
END:VEVENT
END:VCALENDAR