BEGIN:VCALENDAR
VERSION:2.0
PRODID:-//LA Real Estate Marketing - ECPv6.15.20//NONSGML v1.0//EN
CALSCALE:GREGORIAN
METHOD:PUBLISH
X-WR-CALNAME:LA Real Estate Marketing
X-ORIGINAL-URL:https://larealestatemarketing.com
X-WR-CALDESC:Events for LA Real Estate Marketing
REFRESH-INTERVAL;VALUE=DURATION:PT1H
X-Robots-Tag:noindex
X-PUBLISHED-TTL:PT1H
BEGIN:VTIMEZONE
TZID:UTC
BEGIN:STANDARD
TZOFFSETFROM:+0000
TZOFFSETTO:+0000
TZNAME:UTC
DTSTART:19690101T000000
END:STANDARD
END:VTIMEZONE
BEGIN:VEVENT
DTSTART;TZID=UTC:20250723T180000
DTEND;TZID=UTC:20250723T200000
DTSTAMP:20260423T141617
CREATED:20250326T122857Z
LAST-MODIFIED:20250714T191102Z
UID:10000230-1753293600-1753300800@larealestatemarketing.com
SUMMARY:LA Rendezvous in the South Bay
DESCRIPTION:CREW Los Angeles invites you to the LA Rendezvous in the South Bay on July 23\, 2025\, hosted at the Landmark Dividend office in El Segundo. This members-only event is an excellent opportunity to network with fellow professionals\, enjoy light bites and drinks\, and contribute to a good cause. Landmark Dividend will be hosting a suit drive\, so bring your gently used professional attire to donate and give back to those in need. It’s a night of connections and community\, all for a great cause. Don’t miss this opportunity to network\, mingle\, and make a difference!
URL:https://larealestatemarketing.com/event/la-rendezvous-in-the-south-bay/
CATEGORIES:Event
ATTACH;FMTTYPE=image/jpeg:https://larealestatemarketing.com/wp-content/uploads/2024/07/LAREM_event_calendar_stock_v3.jpg
ORGANIZER;CN="CREW LA":MAILTO:info@crewla.org
END:VEVENT
BEGIN:VEVENT
DTSTART;TZID=UTC:20250521T080000
DTEND;TZID=UTC:20250521T170000
DTSTAMP:20260423T141617
CREATED:20250326T122453Z
LAST-MODIFIED:20250326T122453Z
UID:10000218-1747814400-1747846800@larealestatemarketing.com
SUMMARY:LA Hospitality\, Restaurants and Retail
DESCRIPTION:Mark your calendars for the LA Hospitality\, Restaurants\, and Retail event on May 21\, 2025\, hosted by BISNOW in partnership with CREW Los Angeles. This exciting event is your chance to connect with industry professionals and explore trends shaping the future of hospitality\, restaurants\, and retail in LA. CREW Los Angeles members can take advantage of a 15% discount on tickets with the code “CREWLA15.” Please note that the event date is tentative and may be subject to change. Stay tuned for further details!
URL:https://larealestatemarketing.com/event/la-hospitality-restaurants-and-retail/
CATEGORIES:Event
ATTACH;FMTTYPE=image/jpeg:https://larealestatemarketing.com/wp-content/uploads/2024/07/LAREM_event_calendar_stock_v11.jpg
ORGANIZER;CN="CREW LA":MAILTO:info@crewla.org
END:VEVENT
BEGIN:VEVENT
DTSTART;TZID=UTC:20250416T080000
DTEND;TZID=UTC:20250416T100000
DTSTAMP:20260423T141617
CREATED:20250326T122333Z
LAST-MODIFIED:20250326T122333Z
UID:10000207-1744790400-1744797600@larealestatemarketing.com
SUMMARY:LA Rendezvous: DTLA
DESCRIPTION:CREW Los Angeles invites its members to kickstart their morning at the exclusive “LA Rendezvous: DTLA” breakfast event on April 16\, 2025\, at Bottega Louie. This members-only event provides a fantastic opportunity to network with fellow professionals\, exchange insights\, and fuel your day with delicious breakfast options. It’s a perfect way to connect with peers before heading to the office\, all while enjoying a vibrant atmosphere. Space is limited\, so be sure to reserve your spot early for this free event. A special thank you to Cohen Asset Management for sponsoring this gathering!
URL:https://larealestatemarketing.com/event/la-rendezvous-dtla/
CATEGORIES:Event
ATTACH;FMTTYPE=image/jpeg:https://larealestatemarketing.com/wp-content/uploads/2024/07/LAREM_event_calendar_stock_v24.jpg
ORGANIZER;CN="CREW LA":MAILTO:info@crewla.org
END:VEVENT
BEGIN:VEVENT
DTSTART;TZID=UTC:20250402T190000
DTEND;TZID=UTC:20250402T210000
DTSTAMP:20260423T141617
CREATED:20250326T122312Z
LAST-MODIFIED:20250326T122312Z
UID:10000198-1743620400-1743627600@larealestatemarketing.com
SUMMARY:UCREW Professional Development + Networking Event
DESCRIPTION:CREW Los Angeles invites students to an exclusive networking and professional development event\, UCREW\, on April 2\, 2025\, at the USC Lusk Center for Real Estate. This free event will feature a keynote address by Yunia Lubega\, Senior Director of Sales Recruiting & Head of Diversity\, Equity\, and Inclusion at Marcus & Millichap\, sharing valuable insights on “Breaking into CRE: Strategies for Success from College to Career.” Attendees will then participate in roundtable discussions\, engaging with experts in various CRE sectors\, including brokerage\, development\, asset management\, and more. Whether you’re an undergraduate or graduate student\, this event offers an invaluable opportunity to expand your network and gain firsthand advice from professionals shaping the industry.
URL:https://larealestatemarketing.com/event/ucrew-professional-development-networking-event/
CATEGORIES:Event
ATTACH;FMTTYPE=image/jpeg:https://larealestatemarketing.com/wp-content/uploads/2024/07/LAREM_event_calendar_stock_v8.jpg
ORGANIZER;CN="CREW LA":MAILTO:info@crewla.org
END:VEVENT
BEGIN:VEVENT
DTSTART;TZID=UTC:20250219T180000
DTEND;TZID=UTC:20250219T203000
DTSTAMP:20260423T141618
CREATED:20241126T164624Z
LAST-MODIFIED:20241126T164624Z
UID:10000186-1739988000-1739997000@larealestatemarketing.com
SUMMARY:LA Rendezvous: Pasadena – State of the Market in the Tri-Cities
DESCRIPTION:Don’t miss CREW Los Angeles’ LA Rendezvous on February 19\, 2025\, at the historic Blinn House in Pasadena. This exclusive event offers a unique blend of networking\, a private tour of the Blinn House\, and an insightful discussion on the commercial real estate market in the Tri-Cities (Pasadena\, Glendale\, and Burbank). Network with industry experts and forecast trends for 2025.
URL:https://larealestatemarketing.com/event/la-rendezvous-pasadena-state-of-the-market-in-the-tri-cities/
CATEGORIES:Mixer
ATTACH;FMTTYPE=image/jpeg:https://larealestatemarketing.com/wp-content/uploads/2024/07/LAREM_event_calendar_stock_v20.jpg
ORGANIZER;CN="CREW LA":MAILTO:info@crewla.org
END:VEVENT
BEGIN:VEVENT
DTSTART;TZID=UTC:20250108T180000
DTEND;TZID=UTC:20250108T200000
DTSTAMP:20260423T141618
CREATED:20241106T194722Z
LAST-MODIFIED:20241106T201216Z
UID:10000173-1736359200-1736366400@larealestatemarketing.com
SUMMARY:LA Rendezvous: Venice - Breathwork and Sound Bath
DESCRIPTION:Join CREW LA and CompStak for the “LA Rendezvous: Venice” on January 8\, 2025\, at the CompStak Beach House. Experience a rejuvenating breathwork and sound bath session while enjoying tea and appetizers. This members-only event is a fantastic opportunity to network\, set your goals for the New Year\, and immerse yourself in mindfulness. Don’t forget your yoga mat!
URL:https://larealestatemarketing.com/event/la-rendezvous-venice-breathwork-and-sound-bath-2/
CATEGORIES:Mixer
ATTACH;FMTTYPE=image/jpeg:https://larealestatemarketing.com/wp-content/uploads/2024/08/larem_stock_2000x1250_post_082024_v02.jpg
ORGANIZER;CN="CREW LA":MAILTO:info@crewla.org
END:VEVENT
BEGIN:VEVENT
DTSTART;TZID=UTC:20241211T180000
DTEND;TZID=UTC:20241211T210000
DTSTAMP:20260423T141618
CREATED:20241106T194708Z
LAST-MODIFIED:20241106T201016Z
UID:10000169-1733940000-1733950800@larealestatemarketing.com
SUMMARY:Winter Wonderland Holiday Dinner with CREW LA
DESCRIPTION:Don’t miss the Winter Wonderland Holiday Dinner hosted by CREW Los Angeles on December 11\, 2024\, at Bacari W 3rd. This exclusive members-only event will include festive activities and the annual membership meeting. Celebrate the season and connect with fellow professionals in a warm\, inviting atmosphere. Register now to secure your spot!
URL:https://larealestatemarketing.com/event/winter-wonderland-holiday-dinner-with-crew-la-2/
CATEGORIES:Event
ATTACH;FMTTYPE=image/jpeg:https://larealestatemarketing.com/wp-content/uploads/2024/11/event_holiday_03.jpg
ORGANIZER;CN="CREW LA":MAILTO:info@crewla.org
END:VEVENT
BEGIN:VEVENT
DTSTART;TZID=UTC:20241118T180000
DTEND;TZID=UTC:20241118T193000
DTSTAMP:20260423T141618
CREATED:20241106T194712Z
LAST-MODIFIED:20241106T202806Z
UID:10000172-1731952800-1731958200@larealestatemarketing.com
SUMMARY:UCREW: You Could Be Great in Real Estate
DESCRIPTION:Curious about a career in commercial real estate? Join UCREW’s “You Could Be Great in Real Estate” event on November 18 at Colliers DTLA! This FREE event offers college students the chance to learn from experienced professionals\, including brokers Kylie Jones and Amanda Depierro\, as well as Learning and Development leader Sydney White. Don’t miss out on this valuable opportunity!
URL:https://larealestatemarketing.com/event/ucrew-you-could-be-great-in-real-estate-2/
CATEGORIES:Mixer
ATTACH;FMTTYPE=image/jpeg:https://larealestatemarketing.com/wp-content/uploads/2024/07/LAREM_event_calendar_stock_v6.jpg
ORGANIZER;CN="CREW LA":MAILTO:info@crewla.org
END:VEVENT
BEGIN:VEVENT
DTSTART;TZID=UTC:20241114T170000
DTEND;TZID=UTC:20241114T190000
DTSTAMP:20260423T141618
CREATED:20241106T194711Z
LAST-MODIFIED:20241106T202622Z
UID:10000171-1731603600-1731610800@larealestatemarketing.com
SUMMARY:Market Moves: State of the Economy Post Election
DESCRIPTION:Join us on November 14\, 2024\, for “Market Moves: State of the Economy Post Election\,” hosted by CREW Los Angeles\, Bank of America\, and Echelon Studios. This exclusive event will delve into the current economic landscape and its implications for commercial real estate. Network with industry professionals\, hear from experts\, and enjoy light bites while exploring actionable strategies for navigating these changes.
URL:https://larealestatemarketing.com/event/market-moves-state-of-the-conomy-post-election-2/
CATEGORIES:Education
ATTACH;FMTTYPE=image/jpeg:https://larealestatemarketing.com/wp-content/uploads/2024/11/event_market_discussion.jpg
ORGANIZER;CN="CREW LA":MAILTO:info@crewla.org
END:VEVENT
BEGIN:VEVENT
DTSTART;TZID=UTC:20240912T113000
DTEND;TZID=UTC:20240912T140000
DTSTAMP:20260423T141618
CREATED:20240812T123217Z
LAST-MODIFIED:20240909T214755Z
UID:10000081-1726140600-1726149600@larealestatemarketing.com
SUMMARY:40th Anniversary Luncheon
DESCRIPTION:Join us for a special luncheon celebrating our 40th Anniversary with the theme\, “Honoring Our Founders and Past Presidents\, Inspiring Future Generations in Commercial Real Estate.” This event will commemorate four decades of achievements and milestones while paying tribute to our visionary leaders.
URL:https://larealestatemarketing.com/event/40th-anniversary-luncheon-2/
LOCATION:Luxe Sunset Blvd Hotel\, 11461 W Sunset Blvd\, Los Angeles\, CA\, 90049\, USA
CATEGORIES:Event
ATTACH;FMTTYPE=image/jpeg:https://larealestatemarketing.com/wp-content/uploads/2024/07/LAREM_event_calendar_stock_v19.jpg
ORGANIZER;CN="CREW LA":MAILTO:info@crewla.org
END:VEVENT
BEGIN:VEVENT
DTSTART;TZID=UTC:20240815T180000
DTEND;TZID=UTC:20240815T200000
DTSTAMP:20260423T141618
CREATED:20240812T123215Z
LAST-MODIFIED:20240909T202050Z
UID:10000080-1723744800-1723752000@larealestatemarketing.com
SUMMARY:Brokers by the Beach
DESCRIPTION:Join us as we share updates and gather feedback on the Downtown Shoreline (PD-6) Vision Plan. With the Plan not updated since the 1970s\, this is a prime chance to explore ideas for transforming Downtown Shoreline into a world-class waterfront destination. Your involvement will help shape its future!
URL:https://larealestatemarketing.com/event/brokers-by-the-beach-2/
LOCATION:Shoreline Village\, 429 Shoreline Village Drive 100\, Long Beach\, CA\, 90802\, USA
CATEGORIES:Event
ATTACH;FMTTYPE=image/jpeg:https://larealestatemarketing.com/wp-content/uploads/2024/07/LAREM_event_calendar_stock_v15.jpg
ORGANIZER;CN="CREW LA":MAILTO:info@crewla.org
END:VEVENT
BEGIN:VEVENT
DTSTART;TZID=UTC:20260423T141618
DTEND;TZID=UTC:20260423T141618
DTSTAMP:20260423T141618
CREATED:20241106T184228Z
LAST-MODIFIED:20241106T184228Z
UID:10000160-0-0@larealestatemarketing.com
SUMMARY:LA Rendezvous: Venice - Breathwork and Sound Bath
DESCRIPTION:Join CREW LA and CompStak for the “LA Rendezvous: Venice” on January 8\, 2025\, at the CompStak Beach House. Experience a rejuvenating breathwork and sound bath session while enjoying tea and appetizers. This members-only event is a fantastic opportunity to network\, set your goals for the New Year\, and immerse yourself in mindfulness. Don’t forget your yoga mat!
URL:https://larealestatemarketing.com/event/la-rendezvous-venice-breathwork-and-sound-bath/
CATEGORIES:Mixer
ATTACH;FMTTYPE=image/jpeg:https://larealestatemarketing.com/wp-content/uploads/2024/07/LAREM_event_calendar_stock_v22.jpg
ORGANIZER;CN="CREW LA":MAILTO:info@crewla.org
END:VEVENT
BEGIN:VEVENT
DTSTART;TZID=UTC:20260423T141618
DTEND;TZID=UTC:20260423T141618
DTSTAMP:20260423T141618
CREATED:20241106T184032Z
LAST-MODIFIED:20241106T184032Z
UID:10000159-0-0@larealestatemarketing.com
SUMMARY:UCREW: You Could Be Great in Real Estate
DESCRIPTION:Curious about a career in commercial real estate? Join UCREW’s “You Could Be Great in Real Estate” event on November 18 at Colliers DTLA! This FREE event offers college students the chance to learn from experienced professionals\, including brokers Kylie Jones and Amanda Depierro\, as well as Learning and Development leader Sydney White. Don’t miss out on this valuable opportunity!
URL:https://larealestatemarketing.com/event/ucrew-you-could-be-great-in-real-estate/
CATEGORIES:Mixer
ATTACH;FMTTYPE=image/jpeg:https://larealestatemarketing.com/wp-content/uploads/2024/07/LAREM_event_calendar_stock_v21.jpg
ORGANIZER;CN="CREW LA":MAILTO:info@crewla.org
END:VEVENT
BEGIN:VEVENT
DTSTART;TZID=UTC:20260423T141618
DTEND;TZID=UTC:20260423T141618
DTSTAMP:20260423T141618
CREATED:20241106T184031Z
LAST-MODIFIED:20241106T184031Z
UID:10000158-0-0@larealestatemarketing.com
SUMMARY:Market Moves: State of the Conomy Post Election
DESCRIPTION:Join us on November 14\, 2024\, for “Market Moves: State of the Economy Post Election\,” hosted by CREW Los Angeles\, Bank of America\, and Echelon Studios. This exclusive event will delve into the current economic landscape and its implications for commercial real estate. Network with industry professionals\, hear from experts\, and enjoy light bites while exploring actionable strategies for navigating these changes.
URL:https://larealestatemarketing.com/event/market-moves-state-of-the-conomy-post-election/
CATEGORIES:Education
ATTACH;FMTTYPE=image/jpeg:https://larealestatemarketing.com/wp-content/uploads/2024/07/LAREM_event_calendar_stock_v20.jpg
ORGANIZER;CN="CREW LA":MAILTO:info@crewla.org
END:VEVENT
BEGIN:VEVENT
DTSTART;TZID=UTC:20260423T141618
DTEND;TZID=UTC:20260423T141618
DTSTAMP:20260423T141618
CREATED:20241106T184028Z
LAST-MODIFIED:20241106T184028Z
UID:10000156-0-0@larealestatemarketing.com
SUMMARY:Winter Wonderland Holiday Dinner with CREW LA
DESCRIPTION:Don’t miss the Winter Wonderland Holiday Dinner hosted by CREW Los Angeles on December 11\, 2024\, at Bacari W 3rd. This exclusive members-only event will include festive activities and the annual membership meeting. Celebrate the season and connect with fellow professionals in a warm\, inviting atmosphere. Register now to secure your spot!
URL:https://larealestatemarketing.com/event/winter-wonderland-holiday-dinner-with-crew-la/
CATEGORIES:Event
ATTACH;FMTTYPE=image/jpeg:https://larealestatemarketing.com/wp-content/uploads/2024/07/LAREM_event_calendar_stock_v18.jpg
ORGANIZER;CN="CREW LA":MAILTO:info@crewla.org
END:VEVENT
BEGIN:VEVENT
DTSTART;TZID=UTC:20260423T141618
DTEND;TZID=UTC:20260423T141618
DTSTAMP:20260423T141618
CREATED:20240801T165221Z
LAST-MODIFIED:20240801T165221Z
UID:10000071-0-0@larealestatemarketing.com
SUMMARY:Brokers by the Beach
DESCRIPTION:Join us as we share updates and gather feedback on the Downtown Shoreline (PD-6) Vision Plan. With the Plan not updated since the 1970s\, this is a prime chance to explore ideas for transforming Downtown Shoreline into a world-class waterfront destination. Your involvement will help shape its future!
URL:https://larealestatemarketing.com/event/brokers-by-the-beach/
CATEGORIES:Event
ATTACH;FMTTYPE=image/jpeg:https://larealestatemarketing.com/wp-content/uploads/2024/07/LAREM_event_calendar_stock_v15.jpg
ORGANIZER;CN="CREW LA":MAILTO:info@crewla.org
END:VEVENT
END:VCALENDAR