BEGIN:VCALENDAR
VERSION:2.0
PRODID:-//LA Real Estate Marketing - ECPv6.15.20//NONSGML v1.0//EN
CALSCALE:GREGORIAN
METHOD:PUBLISH
X-ORIGINAL-URL:https://larealestatemarketing.com
X-WR-CALDESC:Events for LA Real Estate Marketing
REFRESH-INTERVAL;VALUE=DURATION:PT1H
X-Robots-Tag:noindex
X-PUBLISHED-TTL:PT1H
BEGIN:VTIMEZONE
TZID:UTC
BEGIN:STANDARD
TZOFFSETFROM:+0000
TZOFFSETTO:+0000
TZNAME:UTC
DTSTART:20230101T000000
END:STANDARD
END:VTIMEZONE
BEGIN:VEVENT
DTSTART;TZID=UTC:20240918T114500
DTEND;TZID=UTC:20240918T133000
DTSTAMP:20260423T155200
CREATED:20240812T123211Z
LAST-MODIFIED:20240909T215537Z
UID:10000077-1726659900-1726666200@larealestatemarketing.com
SUMMARY:Industrial Real Estate Summit & Luncheon
DESCRIPTION:Explore California’s land development process\, including entitlement and unique environmental considerations\, at this Industrial Real Estate Summit & Luncheon.
URL:https://larealestatemarketing.com/event/industrial-real-estate-summit-luncheon-2/
LOCATION:3333 Michelson Drive\, 3333 Michelson Drive\, Irvine\, CA\, 92612\, USA
CATEGORIES:Event
ATTACH;FMTTYPE=image/jpeg:https://larealestatemarketing.com/wp-content/uploads/2024/07/LAREM_event_calendar_stock_v2.jpg
ORGANIZER;CN="CREW OC":MAILTO:info@crewoc.org
END:VEVENT
END:VCALENDAR