BEGIN:VCALENDAR
VERSION:2.0
PRODID:-//LA Real Estate Marketing - ECPv6.15.20//NONSGML v1.0//EN
CALSCALE:GREGORIAN
METHOD:PUBLISH
X-WR-CALNAME:LA Real Estate Marketing
X-ORIGINAL-URL:https://larealestatemarketing.com
X-WR-CALDESC:Events for LA Real Estate Marketing
REFRESH-INTERVAL;VALUE=DURATION:PT1H
X-Robots-Tag:noindex
X-PUBLISHED-TTL:PT1H
BEGIN:VTIMEZONE
TZID:UTC
BEGIN:STANDARD
TZOFFSETFROM:+0000
TZOFFSETTO:+0000
TZNAME:UTC
DTSTART:19690101T000000
END:STANDARD
END:VTIMEZONE
BEGIN:VEVENT
DTSTART;TZID=UTC:20241001T163000
DTEND;TZID=UTC:20241001T193000
DTSTAMP:20260423T154030
CREATED:20240812T123341Z
LAST-MODIFIED:20240930T211043Z
UID:10000090-1727800200-1727811000@larealestatemarketing.com
SUMMARY:6th CREFC/ULI LA's Women’s Speed Mentoring Event
DESCRIPTION:The 6th Annual CREFC/ULI LA Women’s Speed Mentoring Event is a premier opportunity for women members of CREFC and ULI to engage with top industry mentors. Taking place at Apollo Global Management in El Segundo\, this event will start with a welcome reception\, followed by a series of four 15-minute roundtable sessions. Participants will have the chance to discuss key topics and gain insights from leading experts including Nancy De Liban\, Zena M. Ho\, Christine Kang\, Jennifer Keith\, Leslie Walling\, Natalie Viola\, Jaime Zadra\, and Teresa Zien. The event will conclude with a networking reception\, providing additional opportunities for connection and professional development. Registration is complimentary for members of CREFC and ULI.
URL:https://larealestatemarketing.com/event/6th-crefc-uli-las-womens-speed-mentoring-event/
LOCATION:Apollo Global Management\, 2121 Rosecrans Avenue\, El Segundo\, CA\, 90245
CATEGORIES:Event
ATTACH;FMTTYPE=image/jpeg:https://larealestatemarketing.com/wp-content/uploads/2024/09/la_real_estate_marketing_events_9-30-10-3_v1.jpg
END:VEVENT
BEGIN:VEVENT
DTSTART;TZID=UTC:20260423T154030
DTEND;TZID=UTC:20260423T154030
DTSTAMP:20260423T154030
CREATED:20240909T202024Z
LAST-MODIFIED:20240909T202024Z
UID:10000104-0-0@larealestatemarketing.com
SUMMARY:6th CREFC/ULI LA's Women’s Speed Mentoring Event
DESCRIPTION:The 6th Annual CREFC/ULI LA Women’s Speed Mentoring Event is a premier opportunity for women members of CREFC and ULI to engage with top industry mentors. Taking place at Apollo Global Management in El Segundo\, this event will start with a welcome reception\, followed by a series of four 15-minute roundtable sessions. Participants will have the chance to discuss key topics and gain insights from leading experts including Nancy De Liban\, Zena M. Ho\, Christine Kang\, Jennifer Keith\, Leslie Walling\, Natalie Viola\, Jaime Zadra\, and Teresa Zien. The event will conclude with a networking reception\, providing additional opportunities for connection and professional development. Registration is complimentary for members of CREFC and ULI.
URL:https://larealestatemarketing.com/event/6th-crefc-uli-las-womens-speed-mentoring-event-2/
LOCATION:Apollo Global Management\, 2121 Rosecrans Avenue\, El Segundo\, CA\, 90245
CATEGORIES:Event
ATTACH;FMTTYPE=image/jpeg:https://larealestatemarketing.com/wp-content/uploads/2024/07/LAREM_event_calendar_stock_v3.jpg
END:VEVENT
END:VCALENDAR