BEGIN:VCALENDAR
VERSION:2.0
PRODID:-//LA Real Estate Marketing - ECPv6.15.20//NONSGML v1.0//EN
CALSCALE:GREGORIAN
METHOD:PUBLISH
X-ORIGINAL-URL:https://larealestatemarketing.com
X-WR-CALDESC:Events for LA Real Estate Marketing
REFRESH-INTERVAL;VALUE=DURATION:PT1H
X-Robots-Tag:noindex
X-PUBLISHED-TTL:PT1H
BEGIN:VTIMEZONE
TZID:UTC
BEGIN:STANDARD
TZOFFSETFROM:+0000
TZOFFSETTO:+0000
TZNAME:UTC
DTSTART:20230101T000000
END:STANDARD
END:VTIMEZONE
BEGIN:VEVENT
DTSTART;TZID=UTC:20251003T180000
DTEND;TZID=UTC:20251003T220000
DTSTAMP:20260423T141941
CREATED:20250714T191941Z
LAST-MODIFIED:20250714T191941Z
UID:10000266-1759514400-1759528800@larealestatemarketing.com
SUMMARY:Fall Wine Dinner (Save the Date)
DESCRIPTION:Mark your calendars for CREW Orange County’s Fall Wine Dinner! Returning after a successful event last year\, this evening promises great food\, curated wines\, and intimate networking with fellow commercial real estate professionals. Tickets are limited and this event sells out quickly—stay tuned for registration details!
URL:https://larealestatemarketing.com/event/fall-wine-dinner-save-the-date/
LOCATION:ARGAUX\, 3190 Airport Loop Drive\, Costa Mesa\, CA\, 92626\, USA
CATEGORIES:12:00 AM
ATTACH;FMTTYPE=image/jpeg:https://larealestatemarketing.com/wp-content/uploads/2024/07/LAREM_event_calendar_stock_v26.jpg
END:VEVENT
BEGIN:VEVENT
DTSTART;TZID=UTC:20241010T190000
DTEND;TZID=UTC:20241010T210000
DTSTAMP:20260423T141941
CREATED:20240812T123213Z
LAST-MODIFIED:20240930T220535Z
UID:10000078-1728586800-1728594000@larealestatemarketing.com
SUMMARY:CREW OC Fall Dinner
DESCRIPTION:Enjoy a 5-course dinner with curated cultural wine pairings\, hosted by CREW OC.
URL:https://larealestatemarketing.com/event/crew-oc-fall-dinner-2/
LOCATION:ARGAUX\, 3190 Airport Loop Drive\, Costa Mesa\, CA\, 92626\, USA
CATEGORIES:Event
ATTACH;FMTTYPE=image/jpeg:https://larealestatemarketing.com/wp-content/uploads/2024/08/LAREM_Post_Fetured_party.jpg
ORGANIZER;CN="CREW OC":MAILTO:info@crewoc.org
END:VEVENT
END:VCALENDAR