BEGIN:VCALENDAR
VERSION:2.0
PRODID:-//LA Real Estate Marketing - ECPv6.15.20//NONSGML v1.0//EN
CALSCALE:GREGORIAN
METHOD:PUBLISH
X-ORIGINAL-URL:https://larealestatemarketing.com
X-WR-CALDESC:Events for LA Real Estate Marketing
REFRESH-INTERVAL;VALUE=DURATION:PT1H
X-Robots-Tag:noindex
X-PUBLISHED-TTL:PT1H
BEGIN:VTIMEZONE
TZID:UTC
BEGIN:STANDARD
TZOFFSETFROM:+0000
TZOFFSETTO:+0000
TZNAME:UTC
DTSTART:20230101T000000
END:STANDARD
END:VTIMEZONE
BEGIN:VEVENT
DTSTART;TZID=UTC:20240912T100000
DTEND;TZID=UTC:20240912T180000
DTSTAMP:20260423T142125
CREATED:20240731T201929Z
LAST-MODIFIED:20240909T214721Z
UID:10000019-1726135200-1726164000@larealestatemarketing.com
SUMMARY:LA Real Estate Forum
DESCRIPTION:The Real Deal’s LA Real Estate Forum is back bigger and better than ever! Join us on September 12 at the Beverly Wilshire for a day of networking with 800 fellow real estate professionals.
URL:https://larealestatemarketing.com/event/la-real-estate-forum/
LOCATION:Beverly Wilshire\, 9500 Wilshire Blvd\, Beverly Hills\, CA\, 90210
CATEGORIES:Conference
ATTACH;FMTTYPE=image/jpeg:https://larealestatemarketing.com/wp-content/uploads/2024/07/LAREM_event_calendar_stock_v8.jpg
END:VEVENT
END:VCALENDAR