BEGIN:VCALENDAR
VERSION:2.0
PRODID:-//LA Real Estate Marketing - ECPv6.15.20//NONSGML v1.0//EN
CALSCALE:GREGORIAN
METHOD:PUBLISH
X-WR-CALNAME:LA Real Estate Marketing
X-ORIGINAL-URL:https://larealestatemarketing.com
X-WR-CALDESC:Events for LA Real Estate Marketing
REFRESH-INTERVAL;VALUE=DURATION:PT1H
X-Robots-Tag:noindex
X-PUBLISHED-TTL:PT1H
BEGIN:VTIMEZONE
TZID:UTC
BEGIN:STANDARD
TZOFFSETFROM:+0000
TZOFFSETTO:+0000
TZNAME:UTC
DTSTART:19690101T000000
END:STANDARD
END:VTIMEZONE
BEGIN:VEVENT
DTSTART;TZID=UTC:20250410T090000
DTEND;TZID=UTC:20250410T103000
DTSTAMP:20260423T142422
CREATED:20250326T122329Z
LAST-MODIFIED:20250326T122329Z
UID:10000204-1744275600-1744281000@larealestatemarketing.com
SUMMARY:Commercial Marketing Session
DESCRIPTION:On April 10\, 2025\, join GLAR Commercial at the GLAR Education Center in Culver City for a Commercial Marketing Session. The session will include insightful talks by industry professionals\, including Erick Garcia from EGI Agency\, Dominika Kriozere (Commercial Real Estate Attorney)\, and Adrineh Betcheri from Exchange Resources. Breakfast is sponsored by DWK Law\, EGI Agency\, and Exchange Resources. There is limited space\, and registration is required.
URL:https://larealestatemarketing.com/event/commercial-marketing-session/
LOCATION:GLAR Offices\, 6017 Bristol Parkway\, Culver City\, 90230\, USA
CATEGORIES:Event
ATTACH;FMTTYPE=image/jpeg:https://larealestatemarketing.com/wp-content/uploads/2024/07/LAREM_event_calendar_stock_v3.jpg
END:VEVENT
BEGIN:VEVENT
DTSTART;TZID=UTC:20241211T100000
DTEND;TZID=UTC:20241211T110000
DTSTAMP:20260423T142422
CREATED:20241126T164634Z
LAST-MODIFIED:20241126T164725Z
UID:10000188-1733911200-1733914800@larealestatemarketing.com
SUMMARY:GLA Realtor Association Headshot Day
DESCRIPTION:Headshot Day is happening on December 11\, 2024\, at Greater Los Angeles REALTORS®! This event offers REALTOR® and Affiliate Members the chance to update their professional headshots. Due to high demand\, please arrive at least 10 minutes before your scheduled session. Don’t miss out on this member benefit—head to the GLAR Offices in Culver City for your photo session!
URL:https://larealestatemarketing.com/event/gla-realtor-association-headshot-day/
LOCATION:GLAR Offices\, 6017 Bristol Parkway\, Culver City\, 90230\, USA
CATEGORIES:Event
ATTACH;FMTTYPE=image/jpeg:https://larealestatemarketing.com/wp-content/uploads/2024/07/LAREM_event_calendar_stock_v22.jpg
END:VEVENT
BEGIN:VEVENT
DTSTART;TZID=UTC:20240904T100000
DTEND;TZID=UTC:20240904T120000
DTSTAMP:20260423T142422
CREATED:20240731T201914Z
LAST-MODIFIED:20240819T202514Z
UID:10000014-1725444000-1725451200@larealestatemarketing.com
SUMMARY:LAAR YPN/Culver City - Self Defense Class
DESCRIPTION:In honor of REALTOR® Safety Month\, LAAR YPN is hosting a Self Defense Class in Culver City. YPN Chairs and Region 2 Chairs will lead the session\, providing REALTORS® with essential self-defense skills and safety awareness.
URL:https://larealestatemarketing.com/event/laar-ypn-culver-city-self-defense-class/
LOCATION:GLAR Offices\, 6017 Bristol Parkway\, Culver City\, 90230\, USA
CATEGORIES:Event
ATTACH;FMTTYPE=image/jpeg:https://larealestatemarketing.com/wp-content/uploads/2024/07/LAREM_event_calendar_stock_v13.jpg
ORGANIZER;CN="LAAR":MAILTO:info@laar.org
END:VEVENT
BEGIN:VEVENT
DTSTART;TZID=UTC:20260423T142422
DTEND;TZID=UTC:20260423T142422
DTSTAMP:20260423T142422
CREATED:20240801T165106Z
LAST-MODIFIED:20240801T165106Z
UID:10000046-0-0@larealestatemarketing.com
SUMMARY:LAAR YPN/Culver City - Self Defense Class
DESCRIPTION:In honor of REALTOR® Safety Month\, LAAR YPN is hosting a Self Defense Class in Culver City. YPN Chairs and Region 2 Chairs will lead the session\, providing REALTORS® with essential self-defense skills and safety awareness.
URL:https://larealestatemarketing.com/event/laar-ypn-culver-city-self-defense-class-2/
LOCATION:GLAR Offices\, 6017 Bristol Parkway\, Culver City\, 90230\, USA
CATEGORIES:Event
ATTACH;FMTTYPE=image/jpeg:https://larealestatemarketing.com/wp-content/uploads/2024/07/LAREM_event_calendar_stock_v13.jpg
ORGANIZER;CN="LAAR":MAILTO:info@laar.org
END:VEVENT
END:VCALENDAR