BEGIN:VCALENDAR
VERSION:2.0
PRODID:-//LA Real Estate Marketing - ECPv6.15.20//NONSGML v1.0//EN
CALSCALE:GREGORIAN
METHOD:PUBLISH
X-ORIGINAL-URL:https://larealestatemarketing.com
X-WR-CALDESC:Events for LA Real Estate Marketing
REFRESH-INTERVAL;VALUE=DURATION:PT1H
X-Robots-Tag:noindex
X-PUBLISHED-TTL:PT1H
BEGIN:VTIMEZONE
TZID:UTC
BEGIN:STANDARD
TZOFFSETFROM:+0000
TZOFFSETTO:+0000
TZNAME:UTC
DTSTART:19690101T000000
END:STANDARD
END:VTIMEZONE
BEGIN:VEVENT
DTSTART;TZID=UTC:20240926T180000
DTEND;TZID=UTC:20240926T210000
DTSTAMP:20260423T154155
CREATED:20240909T211843Z
LAST-MODIFIED:20240909T221306Z
UID:10000108-1727373600-1727384400@larealestatemarketing.com
SUMMARY:ULI YLG End of Summer Rooftop Social
DESCRIPTION:As summer comes to a close\, get ready to join us for an unforgettable evening of networking\, camaraderie\, and celebration at our marquee event of the season – YLG’s Summer Social!
URL:https://larealestatemarketing.com/event/uli-ylg-end-of-summer-rooftop-social-4/
LOCATION:HLW International\, 1437 4th Street\, Santa Monica\, CA\, 90401\, USA
CATEGORIES:Event
ATTACH;FMTTYPE=image/jpeg:https://larealestatemarketing.com/wp-content/uploads/2024/07/LAREM_event_calendar_stock_v5.jpg
GEO:34.0185;-118.4912
X-APPLE-STRUCTURED-LOCATION;VALUE=URI;X-ADDRESS=HLW International 1437 4th Street Santa Monica CA 90401 USA;X-APPLE-RADIUS=500;X-TITLE=1437 4th Street:geo:-118.4912,34.0185
END:VEVENT
BEGIN:VEVENT
DTSTART;TZID=UTC:20260423T154155
DTEND;TZID=UTC:20260423T154155
DTSTAMP:20260423T154155
CREATED:20240909T202020Z
LAST-MODIFIED:20240909T202020Z
UID:10000103-0-0@larealestatemarketing.com
SUMMARY:ULI YLG End of Summer Rooftop Social
DESCRIPTION:As summer comes to a close\, get ready to join us for an unforgettable evening of networking\, camaraderie\, and celebration at our marquee event of the season – YLG’s Summer Social!
URL:https://larealestatemarketing.com/event/uli-ylg-end-of-summer-rooftop-social-3/
LOCATION:HLW International\, 1437 4th Street\, Santa Monica\, CA\, 90401\, USA
CATEGORIES:Event
GEO:34.0185;-118.4912
X-APPLE-STRUCTURED-LOCATION;VALUE=URI;X-ADDRESS=HLW International 1437 4th Street Santa Monica CA 90401 USA;X-APPLE-RADIUS=500;X-TITLE=1437 4th Street:geo:-118.4912,34.0185
END:VEVENT
END:VCALENDAR