BEGIN:VCALENDAR
VERSION:2.0
PRODID:-//LA Real Estate Marketing - ECPv6.15.20//NONSGML v1.0//EN
CALSCALE:GREGORIAN
METHOD:PUBLISH
X-WR-CALNAME:LA Real Estate Marketing
X-ORIGINAL-URL:https://larealestatemarketing.com
X-WR-CALDESC:Events for LA Real Estate Marketing
REFRESH-INTERVAL;VALUE=DURATION:PT1H
X-Robots-Tag:noindex
X-PUBLISHED-TTL:PT1H
BEGIN:VTIMEZONE
TZID:UTC
BEGIN:STANDARD
TZOFFSETFROM:+0000
TZOFFSETTO:+0000
TZNAME:UTC
DTSTART:19690101T000000
END:STANDARD
END:VTIMEZONE
BEGIN:VEVENT
DTSTART;TZID=UTC:20241010T080000
DTEND;TZID=UTC:20241010T140000
DTSTAMP:20260423T142538
CREATED:20240801T165117Z
LAST-MODIFIED:20240812T123833Z
UID:10000049-1728547200-1728568800@larealestatemarketing.com
SUMMARY:Connect Orange County 2024
DESCRIPTION:Connect Orange County 2024 will feature discussions on current trends and future directions in the local real estate industry. Active brokers\, developers\, and investors will share insights and perspectives on what’s next for the region.
URL:https://larealestatemarketing.com/event/connect-orange-county-2024-2/
LOCATION:Hyatt Regency Irvine\, 17900 Jamboree Rd\, Irvine\, 92614\, USA
CATEGORIES:Conference
ATTACH;FMTTYPE=image/jpeg:https://larealestatemarketing.com/wp-content/uploads/2024/07/LAREM_event_calendar_stock_v16.jpg
END:VEVENT
BEGIN:VEVENT
DTSTART;TZID=UTC:20240911T090000
DTEND;TZID=UTC:20240911T170000
DTSTAMP:20260423T142538
CREATED:20240731T201928Z
LAST-MODIFIED:20240909T214448Z
UID:10000018-1726045200-1726074000@larealestatemarketing.com
SUMMARY:Connect Healthcare Real Estate 2024
DESCRIPTION:Sit-in with industry leading experts as they share insights and forecasts on todays CRE markets. This events panelists include:
URL:https://larealestatemarketing.com/event/connect-healthcare-real-estate-2024/
LOCATION:Hyatt Regency Irvine\, 17900 Jamboree Rd\, Irvine\, 92614\, USA
CATEGORIES:Conference
ATTACH;FMTTYPE=image/jpeg:https://larealestatemarketing.com/wp-content/uploads/2024/07/LAREM_event_calendar_stock_v2.jpg
END:VEVENT
BEGIN:VEVENT
DTSTART;TZID=UTC:20240910T130000
DTEND;TZID=UTC:20240910T170000
DTSTAMP:20260423T142538
CREATED:20240731T201928Z
LAST-MODIFIED:20240909T220434Z
UID:10000017-1725973200-1725987600@larealestatemarketing.com
SUMMARY:Connect Orange County 2024
DESCRIPTION:Join us when the active brokers\, developers\, and investors discuss the local industry’s current trends and what’s next.
URL:https://larealestatemarketing.com/event/connect-orange-county-2024/
LOCATION:Hyatt Regency Irvine\, 17900 Jamboree Rd\, Irvine\, 92614\, USA
CATEGORIES:Conference
ATTACH;FMTTYPE=image/jpeg:https://larealestatemarketing.com/wp-content/uploads/2024/07/LAREM_event_calendar_stock_v1.jpg
END:VEVENT
BEGIN:VEVENT
DTSTART;TZID=UTC:20260423T142538
DTEND;TZID=UTC:20260423T142538
DTSTAMP:20260423T142538
CREATED:20240801T165119Z
LAST-MODIFIED:20240909T213601Z
UID:10000050-0-0@larealestatemarketing.com
SUMMARY:Connect Healthcare Real Estate 2024
DESCRIPTION:
URL:https://larealestatemarketing.com/event/connect-healthcare-real-estate-2024-2/
LOCATION:Hyatt Regency Irvine\, 17900 Jamboree Rd\, Irvine\, 92614\, USA
ATTACH;FMTTYPE=image/jpeg:https://larealestatemarketing.com/wp-content/uploads/2024/07/LAREM_event_calendar_stock_v17.jpg
END:VEVENT
END:VCALENDAR