BEGIN:VCALENDAR
VERSION:2.0
PRODID:-//LA Real Estate Marketing - ECPv6.15.20//NONSGML v1.0//EN
CALSCALE:GREGORIAN
METHOD:PUBLISH
X-ORIGINAL-URL:https://larealestatemarketing.com
X-WR-CALDESC:Events for LA Real Estate Marketing
REFRESH-INTERVAL;VALUE=DURATION:PT1H
X-Robots-Tag:noindex
X-PUBLISHED-TTL:PT1H
BEGIN:VTIMEZONE
TZID:UTC
BEGIN:STANDARD
TZOFFSETFROM:+0000
TZOFFSETTO:+0000
TZNAME:UTC
DTSTART:19690101T000000
END:STANDARD
END:VTIMEZONE
BEGIN:VEVENT
DTSTART;TZID=UTC:20240814T143000
DTEND;TZID=UTC:20240814T180000
DTSTAMP:20260423T154220
CREATED:20240819T214211Z
LAST-MODIFIED:20240819T214211Z
UID:10000098-1723645800-1723658400@larealestatemarketing.com
SUMMARY:LABJ Real Estate Trends
DESCRIPTION:The Los Angeles Business Journal will host an in-person Real Estate Trends event with mid-year panel discussions. Topics include commercial brokerage updates\, development trends\, and economic projects.
URL:https://larealestatemarketing.com/event/labj-real-estate-trends-2/
LOCATION:Sheraton Universal Hotel\, 333 Universal Hollywood Drive\, Universal City\, CA\, 91608\, USA
CATEGORIES:Event
END:VEVENT
BEGIN:VEVENT
DTSTART;TZID=UTC:20260423T154220
DTEND;TZID=UTC:20260423T154220
DTSTAMP:20260423T154220
CREATED:20240909T202036Z
LAST-MODIFIED:20240909T202036Z
UID:10000105-0-0@larealestatemarketing.com
SUMMARY:LABJ Real Estate Trends
DESCRIPTION:The Los Angeles Business Journal will host an in-person Real Estate Trends event with mid-year panel discussions. Topics include commercial brokerage updates\, development trends\, and economic projects.
URL:https://larealestatemarketing.com/event/labj-real-estate-trends-3/
LOCATION:Sheraton Universal Hotel\, 333 Universal Hollywood Drive\, Universal City\, CA\, 91608\, USA
CATEGORIES:Event
END:VEVENT
END:VCALENDAR