BEGIN:VCALENDAR
VERSION:2.0
PRODID:-//LA Real Estate Marketing - ECPv6.15.20//NONSGML v1.0//EN
CALSCALE:GREGORIAN
METHOD:PUBLISH
X-WR-CALNAME:LA Real Estate Marketing
X-ORIGINAL-URL:https://larealestatemarketing.com
X-WR-CALDESC:Events for LA Real Estate Marketing
REFRESH-INTERVAL;VALUE=DURATION:PT1H
X-Robots-Tag:noindex
X-PUBLISHED-TTL:PT1H
BEGIN:VTIMEZONE
TZID:UTC
BEGIN:STANDARD
TZOFFSETFROM:+0000
TZOFFSETTO:+0000
TZNAME:UTC
DTSTART:19690101T000000
END:STANDARD
END:VTIMEZONE
BEGIN:VEVENT
DTSTART;TZID=UTC:20241206T113000
DTEND;TZID=UTC:20241206T130000
DTSTAMP:20260423T141912
CREATED:20241126T164637Z
LAST-MODIFIED:20241126T164637Z
UID:10000190-1733484600-1733490000@larealestatemarketing.com
SUMMARY:LASAOR: 49th Annual Installation of Executive Officers & Directors
DESCRIPTION:The Los Angeles Southwest Association of REALTORS® (LASAOR) is hosting the 49th Annual Installation of Executive Officers & Directors on December 6\, 2024\, at Sofi Stadium in Inglewood\, CA. This event will celebrate the installation of new leadership and recognize outstanding contributions within the real estate community. Attendees can expect networking opportunities\, insights into the real estate market\, and a chance to connect with industry professionals.
URL:https://larealestatemarketing.com/event/lasaor-49th-annual-installation-of-executive-officers-directors/
LOCATION:SoFi Stadium\, 1001 Stadium Dr.\, Inglewood\, CA\, 90301\, USA
CATEGORIES:Event
ATTACH;FMTTYPE=image/jpeg:https://larealestatemarketing.com/wp-content/uploads/2024/07/LAREM_event_calendar_stock_v24.jpg
END:VEVENT
BEGIN:VEVENT
DTSTART;TZID=UTC:20240806T090000
DTEND;TZID=UTC:20240806T170000
DTSTAMP:20260423T141912
CREATED:20240731T201852Z
LAST-MODIFIED:20240819T214205Z
UID:10000004-1722934800-1722963600@larealestatemarketing.com
SUMMARY:AREAA GLA Super Summit
DESCRIPTION:Join AREAA on August 6th\, 2024\, at the iconic SoFi Stadium. GLAR members are invited to attend for FREE with code: GLAFriends (case sensitive) This premier event is designed to deliver unparalleled value to a diverse array of real estate professionals.
URL:https://larealestatemarketing.com/event/areaa-gla-super-summit/
LOCATION:SoFi Stadium\, 1001 Stadium Dr.\, Inglewood\, CA\, 90301\, USA
CATEGORIES:Conference
ATTACH;FMTTYPE=image/jpeg:https://larealestatemarketing.com/wp-content/uploads/2024/07/LAREM_event_calendar_stock_v3.jpg
ORGANIZER;CN="LAAR":MAILTO:info@laar.org
END:VEVENT
BEGIN:VEVENT
DTSTART;TZID=UTC:20260423T141912
DTEND;TZID=UTC:20260423T141912
DTSTAMP:20260423T141912
CREATED:20240801T165034Z
LAST-MODIFIED:20240801T165034Z
UID:10000036-0-0@larealestatemarketing.com
SUMMARY:AREAA GLA Super Summit
DESCRIPTION:On August 6th\, 2024\, the AREAA GLA Super Summit at SoFi Stadium offers a premier platform for real estate professionals. GLAR members can attend for free using the code GLAFriends\, gaining access to valuable networking and learning opportunities.
URL:https://larealestatemarketing.com/event/areaa-gla-super-summit-2/
LOCATION:SoFi Stadium\, 1001 Stadium Dr.\, Inglewood\, CA\, 90301\, USA
CATEGORIES:Conference
ATTACH;FMTTYPE=image/jpeg:https://larealestatemarketing.com/wp-content/uploads/2024/07/LAREM_event_calendar_stock_v3.jpg
ORGANIZER;CN="LAAR":MAILTO:info@laar.org
END:VEVENT
END:VCALENDAR