BEGIN:VCALENDAR
VERSION:2.0
PRODID:-//LA Real Estate Marketing - ECPv6.15.20//NONSGML v1.0//EN
CALSCALE:GREGORIAN
METHOD:PUBLISH
X-WR-CALNAME:LA Real Estate Marketing
X-ORIGINAL-URL:https://larealestatemarketing.com
X-WR-CALDESC:Events for LA Real Estate Marketing
REFRESH-INTERVAL;VALUE=DURATION:PT1H
X-Robots-Tag:noindex
X-PUBLISHED-TTL:PT1H
BEGIN:VTIMEZONE
TZID:UTC
BEGIN:STANDARD
TZOFFSETFROM:+0000
TZOFFSETTO:+0000
TZNAME:UTC
DTSTART:20230101T000000
END:STANDARD
END:VTIMEZONE
BEGIN:VEVENT
DTSTART;TZID=UTC:20240925T080000
DTEND;TZID=UTC:20240925T180000
DTSTAMP:20260423T154426
CREATED:20240812T123352Z
LAST-MODIFIED:20240812T123352Z
UID:10000092-1727251200-1727287200@larealestatemarketing.com
SUMMARY:26th Real Estate Private Equity Summit: West
DESCRIPTION:Senior-level gathering for Real Estate Asset Managers\, Private Equity Firms\, Institutional Investors\, Lenders\, Owners & Developers
URL:https://larealestatemarketing.com/event/26th-real-estate-private-equity-summit-west/
LOCATION:The London West Hollywood at Beverly Hills\, 1020 N. San Vicente Blvd\, West Hollywood\, CA\, 90069\, USA
CATEGORIES:Conference
ATTACH;FMTTYPE=image/jpeg:https://larealestatemarketing.com/wp-content/uploads/2024/07/LAREM_event_calendar_stock_v1.jpg
END:VEVENT
END:VCALENDAR