BEGIN:VCALENDAR
VERSION:2.0
PRODID:-//LA Real Estate Marketing - ECPv6.15.20//NONSGML v1.0//EN
CALSCALE:GREGORIAN
METHOD:PUBLISH
X-ORIGINAL-URL:https://larealestatemarketing.com
X-WR-CALDESC:Events for LA Real Estate Marketing
REFRESH-INTERVAL;VALUE=DURATION:PT1H
X-Robots-Tag:noindex
X-PUBLISHED-TTL:PT1H
BEGIN:VTIMEZONE
TZID:UTC
BEGIN:STANDARD
TZOFFSETFROM:+0000
TZOFFSETTO:+0000
TZNAME:UTC
DTSTART:19690101T000000
END:STANDARD
END:VTIMEZONE
BEGIN:VEVENT
DTSTART;TZID=UTC:20241010T170000
DTEND;TZID=UTC:20241010T230000
DTSTAMP:20260423T172722
CREATED:20240731T201946Z
LAST-MODIFIED:20240926T161905Z
UID:10000026-1728579600-1728601200@larealestatemarketing.com
SUMMARY:2024 Night at the Fights
DESCRIPTION:NAIOP SoCal’s Night at the Fights is a premier networking event featuring boxing and MMA bouts. The evening includes a cocktail reception\, three-course dinner\, live entertainment\, and casino-style gaming in a lively social setting.
URL:https://larealestatemarketing.com/event/2024-night-at-the-fights/
LOCATION:The OC Fair & Event Center – Hangar Building\, 88 Fair Drive\, Costa Mesa\, CA\, 92626\, USA
CATEGORIES:Event
ATTACH;FMTTYPE=image/jpeg:https://larealestatemarketing.com/wp-content/uploads/2024/07/LAREM_Post_Fetured-1.jpg
END:VEVENT
BEGIN:VEVENT
DTSTART;TZID=UTC:20260423T172722
DTEND;TZID=UTC:20260423T172722
DTSTAMP:20260423T172722
CREATED:20240801T165139Z
LAST-MODIFIED:20240801T165139Z
UID:10000058-0-0@larealestatemarketing.com
SUMMARY:2024 Night at the Fights
DESCRIPTION:NAIOP SoCal’s Night at the Fights is a premier networking event featuring boxing and MMA bouts. The evening includes a cocktail reception\, three-course dinner\, live entertainment\, and casino-style gaming in a lively social setting.
URL:https://larealestatemarketing.com/event/2024-night-at-the-fights-2/
LOCATION:The OC Fair & Event Center – Hangar Building\, 88 Fair Drive\, Costa Mesa\, CA\, 92626\, USA
CATEGORIES:Corporate Events
ATTACH;FMTTYPE=image/jpeg:https://larealestatemarketing.com/wp-content/uploads/2024/07/LAREM_event_calendar_stock_v25.jpg
END:VEVENT
END:VCALENDAR