BEGIN:VCALENDAR
VERSION:2.0
PRODID:-//LA Real Estate Marketing - ECPv6.15.20//NONSGML v1.0//EN
CALSCALE:GREGORIAN
METHOD:PUBLISH
X-WR-CALNAME:LA Real Estate Marketing
X-ORIGINAL-URL:https://larealestatemarketing.com
X-WR-CALDESC:Events for LA Real Estate Marketing
REFRESH-INTERVAL;VALUE=DURATION:PT1H
X-Robots-Tag:noindex
X-PUBLISHED-TTL:PT1H
BEGIN:VTIMEZONE
TZID:UTC
BEGIN:STANDARD
TZOFFSETFROM:+0000
TZOFFSETTO:+0000
TZNAME:UTC
DTSTART:19690101T000000
END:STANDARD
END:VTIMEZONE
BEGIN:VEVENT
DTSTART;TZID=UTC:20250925T173000
DTEND;TZID=UTC:20250925T200000
DTSTAMP:20260423T142239
CREATED:20250714T191836Z
LAST-MODIFIED:20250714T191836Z
UID:10000260-1758821400-1758830400@larealestatemarketing.com
SUMMARY:Sip\, Support & Socialize
DESCRIPTION:Join BOMA Orange County for its signature fall mixer — Sip\, Support & Socialize. This lively reception brings together CRE professionals and elected officials for an evening of drinks\, hors d’oeuvres\, and live music\, while supporting local government affairs. Don’t miss the chance to connect with Orange County’s top property pros and policy leaders.
URL:https://larealestatemarketing.com/event/sip-support-socialize-3/
LOCATION:The Park at Lakeshore\, 18155 Von Karman Avenue\, Irvine\, CA\, 92614\, USA
CATEGORIES:Networking & Advocacy
ATTACH;FMTTYPE=image/jpeg:https://larealestatemarketing.com/wp-content/uploads/2024/07/LAREM_event_calendar_stock_v20.jpg
END:VEVENT
BEGIN:VEVENT
DTSTART;TZID=UTC:20240919T173000
DTEND;TZID=UTC:20240919T200000
DTSTAMP:20260423T142239
CREATED:20240731T201930Z
LAST-MODIFIED:20240731T203659Z
UID:10000021-1726767000-1726776000@larealestatemarketing.com
SUMMARY:Sip\, Support & Socialize
DESCRIPTION:BOMA Orange County’s annual beer and wine reception will benefit the Government Affairs Committee. The event features live music\, appetizers\, and a chance to engage with top real estate professionals and influential local officials.
URL:https://larealestatemarketing.com/event/sip-support-socialize/
LOCATION:The Park at Lakeshore\, 18155 Von Karman Avenue\, Irvine\, CA\, 92614\, USA
CATEGORIES:Event
ATTACH;FMTTYPE=image/jpeg:https://larealestatemarketing.com/wp-content/uploads/2024/07/LAREM_event_calendar_stock_v20.jpg
ORGANIZER;CN="BOMA OC":MAILTO:info@bomaoc.org
END:VEVENT
BEGIN:VEVENT
DTSTART;TZID=UTC:20260423T142239
DTEND;TZID=UTC:20260423T142239
DTSTAMP:20260423T142239
CREATED:20240801T165123Z
LAST-MODIFIED:20240801T165123Z
UID:10000053-0-0@larealestatemarketing.com
SUMMARY:Sip\, Support & Socialize
DESCRIPTION:BOMA Orange County’s annual beer and wine reception will benefit the Government Affairs Committee. The event features live music\, appetizers\, and a chance to engage with top real estate professionals and influential local officials.
URL:https://larealestatemarketing.com/event/sip-support-socialize-2/
LOCATION:The Park at Lakeshore\, 18155 Von Karman Avenue\, Irvine\, CA\, 92614\, USA
CATEGORIES:Event
ATTACH;FMTTYPE=image/jpeg:https://larealestatemarketing.com/wp-content/uploads/2024/07/LAREM_event_calendar_stock_v20.jpg
ORGANIZER;CN="BOMA OC":MAILTO:info@bomaoc.org
END:VEVENT
END:VCALENDAR