BEGIN:VCALENDAR
VERSION:2.0
PRODID:-//LA Real Estate Marketing - ECPv6.15.20//NONSGML v1.0//EN
CALSCALE:GREGORIAN
METHOD:PUBLISH
X-WR-CALNAME:LA Real Estate Marketing
X-ORIGINAL-URL:https://larealestatemarketing.com
X-WR-CALDESC:Events for LA Real Estate Marketing
REFRESH-INTERVAL;VALUE=DURATION:PT1H
X-Robots-Tag:noindex
X-PUBLISHED-TTL:PT1H
BEGIN:VTIMEZONE
TZID:UTC
BEGIN:STANDARD
TZOFFSETFROM:+0000
TZOFFSETTO:+0000
TZNAME:UTC
DTSTART:19690101T000000
END:STANDARD
END:VTIMEZONE
BEGIN:VEVENT
DTSTART;TZID=UTC:20240815T110000
DTEND;TZID=UTC:20240815T133000
DTSTAMP:20260423T172615
CREATED:20240731T201903Z
LAST-MODIFIED:20240909T202048Z
UID:10000010-1723719600-1723728600@larealestatemarketing.com
SUMMARY:Transforming CRE - Innovations Fostering Developments in Efficiency
DESCRIPTION:Join us for an insightful exploration of how AI innovations are revolutionizing efficiency within Commercial Real Estate (CRE). Our expert panelists will discuss the latest technologies reshaping property management\, tenant experiences\, and operational efficiencies
URL:https://larealestatemarketing.com/event/transforming-cre-innovations-fostering-developments-in-efficiency/
LOCATION:The Westin – South Coast Plaza\, 686 Anton Blvd.\, Costa Mesa\, CA\, 92626\, USA
CATEGORIES:Event
ATTACH;FMTTYPE=image/jpeg:https://larealestatemarketing.com/wp-content/uploads/2024/07/LAREM_event_calendar_stock_v9.jpg
ORGANIZER;CN="BOMA OC":MAILTO:info@bomaoc.org
END:VEVENT
BEGIN:VEVENT
DTSTART;TZID=UTC:20240815T110000
DTEND;TZID=UTC:20240815T133000
DTSTAMP:20260423T172615
CREATED:20240731T201902Z
LAST-MODIFIED:20240909T202045Z
UID:10000009-1723719600-1723728600@larealestatemarketing.com
SUMMARY:BOMA OC Industry Luncheon
DESCRIPTION:BOMA OC is hosting an industry luncheon. Connect with BOMA OC for information on the event.
URL:https://larealestatemarketing.com/event/boma-oc-industry-luncheon/
LOCATION:The Westin – South Coast Plaza\, 686 Anton Blvd.\, Costa Mesa\, CA\, 92626\, USA
CATEGORIES:Networking
ATTACH;FMTTYPE=image/jpeg:https://larealestatemarketing.com/wp-content/uploads/2024/07/LAREM_event_calendar_stock_v12.jpg
ORGANIZER;CN="BOMA OC":MAILTO:info@bomaoc.org
END:VEVENT
BEGIN:VEVENT
DTSTART;TZID=UTC:20260423T172615
DTEND;TZID=UTC:20260423T172615
DTSTAMP:20260423T172615
CREATED:20240801T165055Z
LAST-MODIFIED:20240801T165055Z
UID:10000042-0-0@larealestatemarketing.com
SUMMARY:Transforming CRE - Innovations Fostering Developments in Efficiency
DESCRIPTION:This event will explore how artificial intelligence is transforming efficiency in commercial real estate. Expert panelists will discuss the latest technological advancements that are reshaping property management\, tenant interactions\, and operational processes.
URL:https://larealestatemarketing.com/event/transforming-cre-innovations-fostering-developments-in-efficiency-2/
LOCATION:The Westin – South Coast Plaza\, 686 Anton Blvd.\, Costa Mesa\, CA\, 92626\, USA
CATEGORIES:Event
ATTACH;FMTTYPE=image/jpeg:https://larealestatemarketing.com/wp-content/uploads/2024/07/LAREM_event_calendar_stock_v9.jpg
ORGANIZER;CN="BOMA OC":MAILTO:info@bomaoc.org
END:VEVENT
BEGIN:VEVENT
DTSTART;TZID=UTC:20260423T172615
DTEND;TZID=UTC:20260423T172615
DTSTAMP:20260423T172615
CREATED:20240801T165053Z
LAST-MODIFIED:20240801T165053Z
UID:10000041-0-0@larealestatemarketing.com
SUMMARY:BOMA OC Industry Luncheon
DESCRIPTION:BOMA OC is hosting an industry luncheon designed to foster connections among commercial real estate professionals. This event will provide updates on industry trends and offer networking opportunities with key figures in the BOMA OC community.
URL:https://larealestatemarketing.com/event/boma-oc-industry-luncheon-2/
LOCATION:The Westin – South Coast Plaza\, 686 Anton Blvd.\, Costa Mesa\, CA\, 92626\, USA
CATEGORIES:Networking
ATTACH;FMTTYPE=image/jpeg:https://larealestatemarketing.com/wp-content/uploads/2024/07/LAREM_event_calendar_stock_v8.jpg
ORGANIZER;CN="BOMA OC":MAILTO:info@bomaoc.org
END:VEVENT
END:VCALENDAR