BEGIN:VCALENDAR
VERSION:2.0
PRODID:-//LA Real Estate Marketing - ECPv6.15.20//NONSGML v1.0//EN
CALSCALE:GREGORIAN
METHOD:PUBLISH
X-WR-CALNAME:LA Real Estate Marketing
X-ORIGINAL-URL:https://larealestatemarketing.com
X-WR-CALDESC:Events for LA Real Estate Marketing
REFRESH-INTERVAL;VALUE=DURATION:PT1H
X-Robots-Tag:noindex
X-PUBLISHED-TTL:PT1H
BEGIN:VTIMEZONE
TZID:UTC
BEGIN:STANDARD
TZOFFSETFROM:+0000
TZOFFSETTO:+0000
TZNAME:UTC
DTSTART:20230101T000000
END:STANDARD
END:VTIMEZONE
BEGIN:VEVENT
DTSTART;TZID=UTC:20240905T100000
DTEND;TZID=UTC:20240905T170000
DTSTAMP:20260423T154049
CREATED:20240812T123202Z
LAST-MODIFIED:20240812T123202Z
UID:10000076-1725530400-1725555600@larealestatemarketing.com
SUMMARY:IMN: CRE Asset Managers’ Forum
DESCRIPTION:The CRE Asset Managers’ Forum offers commercial real estate asset managers the chance to engage in industry-specific discussions and network with peers in similar roles.
URL:https://larealestatemarketing.com/event/imn-cre-asset-managers-forum-2/
LOCATION:Waldorf Astoria Monarch Beach\, 1 Monarch Beach Resort N\, Dana Point\, CA\, 92629\, USA
CATEGORIES:Conference
ATTACH;FMTTYPE=image/jpeg:https://larealestatemarketing.com/wp-content/uploads/2024/07/LAREM_event_calendar_stock_v9.jpg
END:VEVENT
END:VCALENDAR